Workbook
Name ia_in_considerare_incertitudinea_de_masurare__WIM: [1]L!$B$2:$B$7
Name ia_in_considerare_incertitudinea_de_masurare__WIM: [2]L!$B$2:$B$9
Name ia_in_considerare_incertitudinea_de_masurare__WIM: L!$B$2:$B$9

Sheet Cuprins
A3: Nr. crt. | B3: Cod PS | C3: Domeniul de activitate / Tehnica de măsurare / Denumirea încercării | D3: Data versiunii in vigoare | E3: Cod sheet
A4: 1 | B4: PS-019 | C4: ='P19'!A5 -> Determinarea densităţii | D4: ='P19'!L1 -> 09.10.2025 | E4: P19'!A1
A5: 2 | B5: PS-022 | C5: ='P22'!A5 -> Determinarea punctului de congelare | D5: ='P22'!L1 -> 15.01.2026 | E5: P22'!A1
A6: 3 | B6: PS-009.1 | C6: ='P9.1'!A5 -> Determinarea conductivităţii electrice | D6: ='P9.1'!L1 -> 01.04.2026 | E6: P9.1!A1
A7: 4 | B7: PS-008 PS-013 | C7: ='P8+P13'!A7 -> Determinarea pH-ului | D7: ='P8+P13'!L1 -> 45538 | E7: P8+P13'!A1
A8: 5 | B8: PS-015 | C8: ='P15'!A5 -> Determinarea activității fosfatazei alcaline | D8: ='P15'!L1 -> 08.12.2025 | E8: P15'!A1
A9: 6 | B9: PS-002 PS-120 | C9: ='P2+P120'!A5 -> Determinarea cenuşii totale/cenușii insolubile în acid clorhidric | D9: ='P2+P120'!L1 -> 45975 | E9: P2+P120'!A1
A10: 7 | B10: PS-032 | C10: ='P32'!A5 -> Determinarea conţinutului de celuloză brută | D10: ='P32'!M1 -> 45537 | E10: P32'!A1
A11: 8 | B11: PS-001 PS-189 | C11: Determinarea umidității și substanței uscate Determinarea umidității Determinarea substanței uscate | D11: ='P1+P189'!L1 -> 45904 | E11: P1+P189'!A1
A12: 9 | B12: PS-018 | C12: ='P18'!A5 -> Determinări ponderale | D12: ='P18'!L1 -> 09.03.2026 | E12: P18'!A1
A13: 10 | B13: PS-027 | C13: Determinarea conţinuțului de apă din carnea de pasăre | D13: ='P27'!L1 -> 09.03.2026 | E13: P27'!A1
A14: 11 | B14: PS-003 | C14: ='P3'!A5 -> Determinarea conţinutului de substanțe grase | D14: ='P3'!L1 -> 46132 | E14: P3'!A1
A15: 12 | B15: PS-001 | C15: ='P1'!A5 -> Determinarea umidității, substanţei uscate și substanței uscate solubile | D15: ='P1'!L1 -> 04.09.2025 | E15: P1'!A1
A16: 13 | B16: PS-016.1 | C16: ='P16.1'!A5 -> Determinarea indicelui de refracţie | D16: 45194 | E16: P16.1!A1
A17: 14 | B17: PS-007 PS-017 | C17: ='P7+P17'!A5 -> Determinarea acidităţii/indicelui de aciditate | D17: ='P7+P17'!L1 -> 46112 | E17: P7+P17'!A1
A18: 15 | B18: PS-004 | C18: ='P4'!A5 -> Determinarea conţinutului de azot (proteină) | D18: ='P4'!L1 -> 45904 | E18: P4'!A1
A19: 16 | B19: PS-006 | C19: ='P6'!A5 -> Determinarea glucidelor: Zahăr reducător (invertit), Zahăr ușor hidrolizabil, Glucoza, Zaharoza, *Fructoza, Glucoza | D19: ='P6'!L1 -> 27.04.2026 | E19: P6'!A1
A20: 17 | B20: PS-016.2 | C20: ='P16.2'!A5 -> Determinarea indicelui de iod | D20: ='P16.2'!L1 -> 06.04.2026 | E20: P16.2!A1
A21: 18 | B21: PS-016.3 | C21: ='P16.3'!A5 -> Determinarea indicelui de peroxid | D21: ='P16.3'!L1 -> 46118 | E21: P16.3!A1
A22: 19 | B22: PS-010.1 | C22: Determinarea amoniacului prin: ● determinarea azotului uşor hidrolizabil ● determinarea azotului bazic volatil total (ABVT) | D22: ='P10.1'!L1 -> 01.07.2025 | E22: P10.1!A1
A23: 20 | B23: PS-005 PS-013 | C23: Determinarea clorurii de sodiu /clorurilor Titrare volumetrică/Titrare potenţiometrică | D23: ='P5+P13'!L1 -> 45980 | E23: P5+P13'!A1
A24: 21 | B24: PS-009.2 | C24: ='P9.2'!A5 -> Determinarea conţinutului de granule de polen | D24: ='P9.2'!L1 -> 46140 | E24: P9.2!A1
A25: 22 | B25: PS-010.2 | C25: ='P10.2'!A5 -> Identificarea hidrogenului sulfurat | D25: ='P10.2'!L1 -> 03.09.2024 | E25: P10.2!A1
A26: 23 | B26: PS-010.3 | C26: ='P10.3'!A5 -> Apreciere a stadiului de oxidare a grăsimii (R. Kreiss și indice de peroxid) | D26: ='P10.3'!L1 -> 03.09.2024 | E26: P10.3!A1
A27: 24 | B27: PS-010.4 | C27: ='P10.4'!A5 -> Identificarea amoniacului în stare liberă cu Reactiv Nessler | D27: ='P10.4'!L1 -> 03.09.2024 | E27: P10.4!A1
A28: 25 | B28: PS-024 | C28: Determinarea coloranţilor solubili în apă prin HPLC | D28: ='P24'!L1 -> 24.06.2026 | E28: P24'!A1
A29: 26 | B29: PS-023 | C29: Determinarea conservanților prin HPLC: Acidul benzoic şi benzoaţi; Acidul sorbic și sorbați | D29: ='P23'!L1 -> 24.06.2026 | E29: P23'!A1
A30: 27 | B30: PS-025 | C30: Determinarea îndulcitorilor prin HPLC: Acesulfam K(E950); Zaharină (E 954); Aspartam (E 951) | D30: ='P25'!L1 -> 24.06.2026 | E30: P25'!A1
A31: 28 | B31: PS-020 | C31: Determinarea hidrocarburilor aromatice policlice (HAP) prin UHPLC-FLD: | D31: ='P020'!L1 -> 24.06.2026 | E31: P020'!A1
A32: 29 | B32: PS-017 | C32: Determinarea histaminei prin UHPLC-DAD | D32: ='P017'!L1 -> 45807 | E32: P017'!A1
A33: 30 | B33: PS-026 | C33: Determinarea coloranţilor insolubili în apă prin LC-MS/MS: Roşu de Sudan I, II, III şi IV | D33: ='P26'!L1 -> 45537 | E33: P26'!A1
A34: 31 | B34: PS-021 | C34: ='P21'!A5 -> Determinarea histaminei prin LC/MS/MS | D34: ='P21'!L1 -> 45537 | E34: P21'!A1
A35: 32 | B35: PS-014 | C35: ='P14'!A6 -> Determinarea conținutului de fosfor | D35: ='P14'!L1 -> 25.06.2026 | E35: P14'!A1
A36: 33 | B36: PS-012 | C36: Determinarea conţinutului de hidroxiprolină (colagen) | D36: ='P12'!L1 -> 05.09.2024 | E36: P12'!A1
A37: 34 | B37: PS-009.3 | C37: ='P9.3'!A5 -> Determinarea hidroximetilfurfuralului (HMF) | D37: ='P9.3'!L1 -> 25.02.2026 | E37: P9.3!A1
A38: 35 | B38: PS-062 | C38: ='P62'!A6 -> Determinarea acidului L glutamic | D38: ='P62'!L1 -> 24.06.2026 | E38: P62'!A1
A39: 36 | B39: PS-189 | C39: Determinarea acizilor lactic și 3-hidroxibutiric | D39: ='P189'!L1 -> 19.03.2021 | E39: P189'!A1
A40: 37 | B40: PS-050 | C40: ='P50'!A5 -> Identificarea cărnii decongelate prin determinarea activității enzimei HADH | D40: ='P50'!L1 -> 03.10.2022 | E40: P50'!A1
A41: 38 | B41: PS-013.1 | C41: ='P13.1'!A5 -> Determinarea conținutului de amoniu | D41: ='P13.1'!L1 -> 45505 | E41: P13.1!A1
A42: 39 | B42: PS-013.2 | C42: ='P13.2'!A5 -> Determinarea conţinutului de nitraţi (azotați) | D42: ='P13.2'!L1 -> 45539 | E42: P13.2!A1
...

Sheet P19
A1: Nr. 1 | I1: vers. in vigoare | K1: Data | L1: 09.10.2025
A2: Cuprins | B2: Cuprins!A1 | I2: istoric | K2: vezi nota subsol
A3: Date din Anexa la Certificat | C3: Date din Referential (Cerinta specificata) | I3: Date furnizate de laborator
A4: Domeniul de activitate / Tehnica de măsurare / Denumirea încercării | B4: Material / produs / obiect supus încercării | C4: Referențial de interpretare (care prevede Limita Specificație) | D4: Matricea | E4: Limita Specificației prevazută în referențial | F4: UM | G4: Incertitudine de Măsurare (IM) relativă pt k=2 (%, ) | I4: Regula de decizie (RD) | J4: Declarația de conformitate pentru rezultatul măsurării | N4: Observații
A5: Determinarea densităţii | B5: Lapte crud integral Lapte de consum | C5: SR 2418/2008 (limita minimă) | D5: *Lapte crud integral vaca *Lapte crud integral capra | E5: 1.029 | F5: g/cm3 | G5: 0.08 | H5: % | I5: RD4 nonbinara -ia in considerare IM | J5: ="Rez.≥"&ROUND(E5+(E5)*(G5/100),4)& F5 &" =Indeplineste cerintele specificate" -> Rez.≥1,0298g/cm3 =Indeplineste cerintele specificate | K5: ="Rez.<"&ROUND(E5-(E5)*(G5/100),4)&F5&" =Nu indeplineste cerintele specificate" -> Rez.<1,0282g/cm3 =Nu indeplineste cerintele specificate | L5: =ROUND((E5-(E5)*(G5/100)),4)&F5& "≤ Rez.< "&ROUND(E5+(E5)*(G5/100),4)&F5&" = prezinta risc de neindeplinire cerinte" -> 1,0282g/cm3≤ Rez.< 1,0298g/cm3 = prezinta risc de neindeplinire cerinte | M5: =IF(C5="Nu exista","Neaplicabil ptr. ca nu exista limita de specificatie","x") -> x
A6: Determinarea densităţii | B6: Lapte crud integral Lapte de consum | C6: SR 2418/2008 (limita minimă) | D6: Lapte crud integral bivolita | E6: 1.031 | F6: g/cm3 | G6: 0.08 | H6: % | I6: RD4 nonbinara -ia in considerare IM | J6: ="Rez.≥"&ROUND(E6+(E6)*(G6/100),4)& F6 &" =Indeplineste cerintele specificate" -> Rez.≥1,0318g/cm3 =Indeplineste cerintele specificate | K6: ="Rez.<"&ROUND(E6-(E6)*(G6/100),4)&F6&" =Nu indeplineste cerintele specificate" -> Rez.<1,0302g/cm3 =Nu indeplineste cerintele specificate | L6: =ROUND((E6-(E6)*(G6/100)),4)&F6& "≤ Rez.< "&ROUND(E6+(E6)*(G6/100),4)&F6&" = prezinta risc de neindeplinire cerinte" -> 1,0302g/cm3≤ Rez.< 1,0318g/cm3 = prezinta risc de neindeplinire cerinte | M6: =IF(C6="Nu exista","Neaplicabil ptr. ca nu exista limita de specificatie","x") -> x
A7: Determinarea densităţii | B7: Lapte crud integral Lapte de consum | C7: SR 2418/2008 (limita minimă) | D7: Lapte crud integral oaie | E7: 1.033 | F7: g/cm3 | G7: 0.08 | H7: % | I7: RD4 nonbinara -ia in considerare IM | J7: ="Rez.≥"&ROUND(E7+(E7)*(G7/100),4)& F7 &" =Indeplineste cerintele specificate" -> Rez.≥1,0338g/cm3 =Indeplineste cerintele specificate | K7: ="Rez.<"&ROUND(E7-(E7)*(G7/100),4)&F7&" =Nu indeplineste cerintele specificate" -> Rez.<1,0322g/cm3 =Nu indeplineste cerintele specificate | L7: =ROUND((E7-(E7)*(G7/100)),4)&F7& "≤ Rez.< "&ROUND(E7+(E7)*(G7/100),4)&F7&" = prezinta risc de neindeplinire cerinte" -> 1,0322g/cm3≤ Rez.< 1,0338g/cm3 = prezinta risc de neindeplinire cerinte | M7: =IF(C7="Nu exista","Neaplicabil ptr. ca nu exista limita de specificatie","x") -> x
A8: Determinarea densităţii | B8: Lapte crud integral Lapte de consum | C8: SR 2418/2008 (limita minimă) | D8: *Lapte de consum normalizat *Lapte de consum smantanit | E8: 1.029 | F8: g/cm3 | G8: 0.08 | H8: % | I8: RD4 nonbinara -ia in considerare IM | J8: ="Rez.≥"&ROUND(E8+(E8)*(G8/100),4)& F8 &" =Indeplineste cerintele specificate" -> Rez.≥1,0298g/cm3 =Indeplineste cerintele specificate | K8: ="Rez.<"&ROUND(E8-(E8)*(G8/100),4)&F8&" =Nu indeplineste cerintele specificate" -> Rez.<1,0282g/cm3 =Nu indeplineste cerintele specificate | L8: =ROUND((E8-(E8)*(G8/100)),4)&F8& "≤ Rez.< "&ROUND(E8+(E8)*(G8/100),4)&F8&" = prezinta risc de neindeplinire cerinte" -> 1,0282g/cm3≤ Rez.< 1,0298g/cm3 = prezinta risc de neindeplinire cerinte | M8: =IF(C8="Nu exista","Neaplicabil ptr. ca nu exista limita de specificatie","x") -> x
A9: Determinarea densităţii | B9: Lapte crud integral Lapte de consum | C9: SR 2418/2008 (limita minimă) | D9: Lapte de consum hiperproteic | E9: 1.03 | F9: g/cm3 | G9: 0.08 | H9: % | I9: RD4 nonbinara -ia in considerare IM | J9: ="Rez.≥"&ROUND(E9+(E9)*(G9/100),4)& F9 &" =Indeplineste cerintele specificate" -> Rez.≥1,0308g/cm3 =Indeplineste cerintele specificate | K9: ="Rez.<"&ROUND(E9-(E9)*(G9/100),4)&F9&" =Nu indeplineste cerintele specificate" -> Rez.<1,0292g/cm3 =Nu indeplineste cerintele specificate | L9: =ROUND((E9-(E9)*(G9/100)),4)&F9& "≤ Rez.< "&ROUND(E9+(E9)*(G9/100),4)&F9&" = prezinta risc de neindeplinire cerinte" -> 1,0292g/cm3≤ Rez.< 1,0308g/cm3 = prezinta risc de neindeplinire cerinte | M9: =IF(C9="Nu exista","Neaplicabil ptr. ca nu exista limita de specificatie","x") -> x
A10: Determinarea densităţii | B10: Lapte crud integral Lapte de consum | C10: Nu exista | D10: alte tipuri de matrici pentru care nu exista referential de interpretare | E10: x | F10: g/cm3 | G10: 0.08 | H10: % | I10: "-" | J10: X | K10: X | L10: X | M10: =IF(C10="Nu exista","Neaplicabil ptr. ca nu exista limita de specificatie","x") -> Neaplicabil ptr. ca nu exista limita de specificatie
A12: Isoric versiuni
A13: Nr.vers/data | B13: Descriere modificare
A14: 0/19.03.2021 | B14: versiunea initiala
A15: 1/09.09.2024 | B15: s-au revizuit im dupa relocarea in sediu nou
A16: 2/09.10.2025 | B16: s-a revizuit validarea

Sheet P22
A1: Nr. 2 | I1: vers. in vigoare | K1: Data | L1: 15.01.2026
A2: Cuprins | B2: Cuprins!A1 | I2: istoric | K2: vezi nota subsol
A3: Date din Anexa la Certificat | C3: Date din Referential (Cerinta specificata) | I3: Date furnizate de laborator
A4: Domeniul de activitate / Tehnica de măsurare / Denumirea încercării | B4: Material / produs / obiect supus încercării | C4: Referențial de interpretare (care prevede Limita Specificație) | D4: Matricea | E4: Limita Specificației prevazută în referențial | F4: UM | G4: Incertitudine de Măsurare (IM) relativă pt k=2 (%, ) | I4: Regula de decizie (RD) | J4: Declarația de conformitate pentru rezultatul măsurării | N4: Observații
A5: Determinarea punctului de congelare | B5: Lapte | C5: SR 2418/2008 pt. lapte crud (limita minima) | D5: lapte crud | E5: -0.515 | F5: °C | G5: 0.44 | H5: % | I5: RD4 nonbinara -ia in considerare IM | J5: ="Rez.≥"&ROUND(E5+(E5)*(G5/100),4)& F5 &" =Indeplineste cerintele specificate" -> Rez.≥-0,5173°C =Indeplineste cerintele specificate | K5: ="Rez.<"&ROUND(E5-(E5)*(G5/100),4)&F5&" =Nu indeplineste cerintele specificate" -> Rez.<-0,5127°C =Nu indeplineste cerintele specificate | L5: =ROUND((E5-(E5)*(G5/100)),4)&F5& "≤ Rez.< "&ROUND(E5+(E5)*(G5/100),4)&F5&" = prezinta risc de neindeplinire cerinte" -> -0,5127°C≤ Rez.< -0,5173°C = prezinta risc de neindeplinire cerinte | M5: =IF(C5="Nu exista","Neaplicabil ptr. ca nu exista limita de specificatie","x") -> x
A6: Determinarea punctului de congelare | B6: Lapte | C6: SR 143/2008 pentru lapte de consum (limita minima) | D6: lapte de consum | E6: -0.515 | F6: °C | G6: 0.48 | H6: % | I6: RD4 nonbinara -ia in considerare IM | J6: ="Rez.≥"&ROUND(E6+(E6)*(G6/100),4)& F6 &" =Indeplineste cerintele specificate" -> Rez.≥-0,5175°C =Indeplineste cerintele specificate | K6: ="Rez.<"&ROUND(E6-(E6)*(G6/100),4)&F6&" =Nu indeplineste cerintele specificate" -> Rez.<-0,5125°C =Nu indeplineste cerintele specificate | L6: =ROUND((E6-(E6)*(G6/100)),4)&F6& "≤ Rez.< "&ROUND(E6+(E6)*(G6/100),4)&F6&" = prezinta risc de neindeplinire cerinte" -> -0,5125°C≤ Rez.< -0,5175°C = prezinta risc de neindeplinire cerinte | M6: =IF(C6="Nu exista","Neaplicabil ptr. ca nu exista limita de specificatie","x") -> x
A8: Isoric versiuni
A9: Nr.vers/data | B9: Descriere modificare
A10: 0/19.03.2021 | B10: versiunea initiala
A11: 1/02.09.2024 | B11: s-au revizuit im dupa relocarea in sediu nou
A12: 2/15.01.2026 | B12: s-a revizuit validarea

Sheet P9.1
A1: Nr. 3 | I1: vers. in vigoare | K1: Data | L1: 01.04.2026
A2: Cuprins | B2: Cuprins!A1 | I2: istoric | K2: vezi nota subsol
A3: Date din Anexa la Certificat | C3: Date din Referential (Cerinta specificata) | I3: Date furnizate de laborator
A4: Domeniul de activitate / Tehnica de măsurare / Denumirea încercării | B4: Material / produs / obiect supus încercării | C4: Referențial de interpretare (care prevede Limita Specificație) | D4: Matricea | E4: Limita Specificației prevazută în referențial | F4: UM | G4: Incertitudine de Măsurare (IM) relativă pt k=2 (%, ) | I4: Regula de decizie (RD) | J4: Declarația de conformitate pentru rezultatul măsurării | N4: Observații
A5: Determinarea conductivităţii electrice | B5: Miere | C5: Ordinul MADR/MS/ANPC nr. 522/798/317/2003 cu completarile ulterioare (Directiva nr.110/2001/CE) (limita maxima admisa) | D5: Miere | E5: 0.8 | F5: mS/cm | G5: 8.4 | H5: % | I5: RD4 nonbinara -ia in considerare IM | J5: ="Rez.≤"&ROUND(E5-(E5)*(G5/100),3)&F5 &" = Indeplineste cerintele specificate" -> Rez.≤0,733mS/cm = Indeplineste cerintele specificate | K5: ="Rez.>"&ROUND(E5+(E5)*(G5/100),3)&F5&" = Nu indeplineste cerintele specificate" -> Rez.>0,867mS/cm = Nu indeplineste cerintele specificate | L5: =ROUND((E5-(E5)*(G5/100)),3)&F5& " < Rez. ≤ "&ROUND(E5+(E5)*(G5/100),3)&F5&" = prezinta risc de neindeplinire cerinte specificate" -> 0,733mS/cm < Rez. ≤ 0,867mS/cm = prezinta risc de neindeplinire cerinte specificate | M5: =IF(C5="Nu exista","Neaplicabil ptr. ca nu exista limita de specificatie","x") -> x
A7: Isoric versiuni
A8: Nr.vers/data | B8: Descriere modificare
A9: 0/19.03.2021 | B9: versiunea initiala
A10: 1/09.09.2024 | B10: s-au revizuit im dupa relocarea in sediu nou
A11: 2/01.04.2026 | B11: s-a revizuit validarea

Sheet P8+P13
A1: Nr. 4 | I1: vers. in vigoare | K1: Data | L1: 45538
A2: Cuprins | B2: Cuprins!A1 | I2: istoric | K2: vezi nota subsol
A3: Date din Anexa la Certificat | C3: Date din Referential (Cerinta specificata) | I3: Date furnizate de laborator
A4: Domeniul de activitate / Tehnica de măsurare / Denumirea încercării | B4: Material / produs / obiect supus încercării | C4: Referențial de interpretare (care prevede Limita Specificație) | D4: Matricea | E4: Limita Specificației prevazută în referențial | F4: UM | G4: Incertitudine de Măsurare (IM) relativă pt k=2 (%, ) | I4: Regula de decizie (RD) | J4: Declarația de conformitate pentru rezultatul măsurării | N4: Observații
A5: Determinarea pH-ului | B5: Apă potabilă (utilizată în procesul tehnologic) | C5: Legea 458/2002 cu modificarile si completarile ulterioare (limita inferioara maxima) | D5: Apă potabilă (utilizată în procesul tehnologic) 5.6-6.2 unitati pH | E5: 6.5 | F5: unitati pH | G5: 0.84 | H5: % | I5: RD4 nonbinara -ia in considerare IM | J5: ="Rez.≥"&ROUND(E5+(E5)*(G5/100),1)& F5 &" =Indeplineste cerintele specificate" -> Rez.≥6,6 unitati pH =Indeplineste cerintele specificate | K5: ="Rez.<"&ROUND(E5-(E5)*(G5/100),1)&F5&" =Nu indeplineste cerintele specificate" -> Rez.<6,4 unitati pH =Nu indeplineste cerintele specificate | L5: =ROUND((E5-(E5)*(G5/100)),1)&F5& "≤ Rez.< "&ROUND(E5+(E5)*(G5/100),1)&F5&" = prezinta risc de neindeplinire cerinte" -> 6,4 unitati pH≤ Rez.< 6,6 unitati pH = prezinta risc de neindeplinire cerinte | M5: =IF(C5="Nu exista","Neaplicabil ptr. ca nu exista limita de specificatie","x") -> x
A6: Determinarea pH-ului | B6: Apă potabilă (utilizată în procesul tehnologic) | C6: Legea 458/2002 cu modificarile si completarile ulterioare (limita superioara maxima) | D6: Apă potabilă (utilizată în procesul tehnologic) | E6: 9.5 | F6: unitati pH | G6: 0.84 | H6: % | I6: RD4 nonbinara -ia in considerare IM | J6: ="Rez.≤"&ROUND(E6-(E6)*(G6/100),1)&F6 &" = Indeplineste cerintele specificate" -> Rez.≤9,4 unitati pH = Indeplineste cerintele specificate | K6: ="Rez.>"&ROUND(E6+(E6)*(G6/100),1)&F6&" = Nu indeplineste cerintele specificate" -> Rez.>9,6 unitati pH = Nu indeplineste cerintele specificate | L6: =ROUND((E6-(E6)*(G6/100)),1)&F6& " < Rez. ≤ "&ROUND(E6+(E6)*(G6/100),1)&F6&" = prezinta risc de neindeplinire cerinte specificate" -> 9,4 unitati pH < Rez. ≤ 9,6 unitati pH = prezinta risc de neindeplinire cerinte specificate | M6: =IF(C6="Nu exista","Neaplicabil ptr. ca nu exista limita de specificatie","x") -> x
A7: Determinarea pH-ului | B7: Apă potabilă (utilizată în procesul tehnologic) | C7: Ordonanta 7/2023 (limita inferioara si superioara) | D7: Apă potabilă (utilizată în procesul tehnologic) | E7: =E5&" -"&E6&F6 -> 6,5 -9,5 unitati pH | F7: unit.pH | G7: 0.73 | H7: % | I7: RD4 nonbinara -ia in considerare IM | J7: =J5&" // "&J6 -> Rez.≥6,6 unitati pH =Indeplineste cerintele specificate // Rez.≤9,4 unitati pH = Indeplineste cerintele specificate | K7: =K5&" // "&K6 -> Rez.<6,4 unitati pH =Nu indeplineste cerintele specificate // Rez.>9,6 unitati pH = Nu indeplineste cerintele specificate | L7: =L5&" // "&L6 -> 6,4 unitati pH≤ Rez.< 6,6 unitati pH = prezinta risc de neindeplinire cerinte // 9,4 unitati pH < Rez. ≤ 9,6 unitati pH = prezinta risc de neindeplinire cerinte specificate | M7: =IF(C7="Nu exista","Neaplicabil ptr. ca nu exista limita de specificatie","x") -> x
A8: Determinarea pH-ului | B8: Carne şi produse de carne | C8: SR 2443:2008 (limita inferioara maxima) | D8: carne porcine (Zvantata, Refrigerata, Congelata) | E8: 5.6 | F8: unitati pH | G8: 1.4 | H8: % | I8: RD1 binara-nu ia in considerare IM | J8: ="Rez.≥"&ROUND(E8+(E8)*(G8/100),1)& F8 &" =Indeplineste cerintele specificate" -> Rez.≥5,7 unitati pH =Indeplineste cerintele specificate | K8: ="Rez.<"&ROUND(E8-(E8)*(G8/100),1)&F8&" =Nu indeplineste cerintele specificate" -> Rez.<5,5 unitati pH =Nu indeplineste cerintele specificate | L8: =ROUND((E8-(E8)*(G8/100)),1)&F8& "≤ Rez.< "&ROUND(E8+(E8)*(G8/100),1)&F8&" = prezinta risc de neindeplinire cerinte" -> 5,5 unitati pH≤ Rez.< 5,7 unitati pH = prezinta risc de neindeplinire cerinte | M8: =IF(C8="Nu exista","Neaplicabil ptr. ca nu exista limita de specificatie","x") -> x | N8: x
A9: Determinarea pH-ului | B9: Carne şi produse de carne | C9: SR 2443:2008 (limita superioara maxima) | D9: carne porcine (Zvantata, Refrigerata, Congelata) | E9: 6.2 | F9: unitati pH | G9: 1.4 | H9: % | I9: RD1 binara-nu ia in considerare IM | J9: ="Rez.≤"&ROUND(E9-(E9)*(G9/100),1)&F9 &" = Indeplineste cerintele specificate" -> Rez.≤6,1 unitati pH = Indeplineste cerintele specificate | K9: ="Rez.>"&ROUND(E9+(E9)*(G9/100),1)&F9&" = Nu indeplineste cerintele specificate" -> Rez.>6,3 unitati pH = Nu indeplineste cerintele specificate | L9: =ROUND((E9-(E9)*(G9/100)),1)&F9& " < Rez. ≤ "&ROUND(E9+(E9)*(G9/100),1)&F9&" = prezinta risc de neindeplinire cerinte specificate" -> 6,1 unitati pH < Rez. ≤ 6,3 unitati pH = prezinta risc de neindeplinire cerinte specificate | M9: =IF(C9="Nu exista","Neaplicabil ptr. ca nu exista limita de specificatie","x") -> x | N9: x
A10: Determinarea pH-ului | B10: Carne şi produse de carne | C10: SR 2443:2008 (limita inferioara si superioara) | D10: carne porcine (Zvantata, Refrigerata, Congelata) | E10: =E8&" -"&E9&F9 -> 5,6 -6,2 unitati pH | F10: unit.pH | G10: 2.2 | H10: % | I10: RD4 nonbinara -ia in considerare IM | J10: =J8&" // "&J9 -> Rez.≥5,7 unitati pH =Indeplineste cerintele specificate // Rez.≤6,1 unitati pH = Indeplineste cerintele specificate | K10: =K8&" // "&K9 -> Rez.<5,5 unitati pH =Nu indeplineste cerintele specificate // Rez.>6,3 unitati pH = Nu indeplineste cerintele specificate | L10: =L8&" // "&L9 -> 5,5 unitati pH≤ Rez.< 5,7 unitati pH = prezinta risc de neindeplinire cerinte // 6,1 unitati pH < Rez. ≤ 6,3 unitati pH = prezinta risc de neindeplinire cerinte specificate | M10: =IF(C10="Nu exista","Neaplicabil ptr. ca nu exista limita de specificatie","x") -> x | N10: xx
A11: Determinarea pH-ului | B11: Carne şi produse de carne | C11: SR 3275:2008 (limita inferioara maxima) | D11: carne ovine si caprine (Zvantata) | E11: 5 | F11: unitati pH | G11: 1.4 | H11: % | I11: RD1 binara-nu ia in considerare IM | J11: ="Rez.≥"&ROUND(E11+(E11)*(G11/100),1)& F11 &" =Indeplineste cerintele specificate" -> Rez.≥5,1 unitati pH =Indeplineste cerintele specificate | K11: ="Rez.<"&ROUND(E11-(E11)*(G11/100),1)&F11&" =Nu indeplineste cerintele specificate" -> Rez.<4,9 unitati pH =Nu indeplineste cerintele specificate | L11: =ROUND((E11-(E11)*(G11/100)),1)&F11& "≤ Rez.< "&ROUND(E11+(E11)*(G11/100),1)&F11&" = prezinta risc de neindeplinire cerinte" -> 4,9 unitati pH≤ Rez.< 5,1 unitati pH = prezinta risc de neindeplinire cerinte | M11: =IF(C11="Nu exista","Neaplicabil ptr. ca nu exista limita de specificatie","x") -> x | N11: r
A12: Determinarea pH-ului | B12: Carne şi produse de carne | C12: SR 3275:2008 (limita superioara maxima) | D12: carne ovine si caprine (Zvantata) | E12: 6 | F12: unitati pH | G12: 1.4 | H12: % | I12: RD1 binara-nu ia in considerare IM | J12: ="Rez.≤"&ROUND(E12-(E12)*(G12/100),1)&F12 &" = Indeplineste cerintele specificate" -> Rez.≤5,9 unitati pH = Indeplineste cerintele specificate | K12: ="Rez.>"&ROUND(E12+(E12)*(G12/100),1)&F12&" = Nu indeplineste cerintele specificate" -> Rez.>6,1 unitati pH = Nu indeplineste cerintele specificate | L12: =ROUND((E12-(E12)*(G12/100)),1)&F12& " < Rez. ≤ "&ROUND(E12+(E12)*(G12/100),1)&F12&" = prezinta risc de neindeplinire cerinte specificate" -> 5,9 unitati pH < Rez. ≤ 6,1 unitati pH = prezinta risc de neindeplinire cerinte specificate | M12: =IF(C12="Nu exista","Neaplicabil ptr. ca nu exista limita de specificatie","x") -> x | N12: r
A13: Determinarea pH-ului | B13: Carne şi produse de carne | C13: SR 3275:2008 (limita inferioara si superioara) | D13: carne ovine si caprine (Zvantata) | E13: =E11&" -"&E12&F12 -> 5 -6 unitati pH | F13: unit.pH | G13: 2.2 | H13: % | I13: RD4 nonbinara -ia in considerare IM | J13: =J11&" // "&J12 -> Rez.≥5,1 unitati pH =Indeplineste cerintele specificate // Rez.≤5,9 unitati pH = Indeplineste cerintele specificate | K13: =K11&" // "&K12 -> Rez.<4,9 unitati pH =Nu indeplineste cerintele specificate // Rez.>6,1 unitati pH = Nu indeplineste cerintele specificate | L13: =L11&" // "&L12 -> 4,9 unitati pH≤ Rez.< 5,1 unitati pH = prezinta risc de neindeplinire cerinte // 5,9 unitati pH < Rez. ≤ 6,1 unitati pH = prezinta risc de neindeplinire cerinte specificate | M13: =IF(C13="Nu exista","Neaplicabil ptr. ca nu exista limita de specificatie","x") -> x | N13: rr
A14: Determinarea pH-ului | B14: Carne şi produse de carne | C14: SR 3275:2008 (limita inferioara maxima) | D14: carne ovine si caprine (Refrigerata, Congelata) | E14: 5.6 | F14: unitati pH | G14: 1.4 | H14: % | I14: RD1 binara-nu ia in considerare IM | J14: ="Rez.≥"&ROUND(E14+(E14)*(G14/100),1)& F14 &" =Indeplineste cerintele specificate" -> Rez.≥5,7 unitati pH =Indeplineste cerintele specificate | K14: ="Rez.<"&ROUND(E14-(E14)*(G14/100),1)&F14&" =Nu indeplineste cerintele specificate" -> Rez.<5,5 unitati pH =Nu indeplineste cerintele specificate | L14: =ROUND((E14-(E14)*(G14/100)),1)&F14& "≤ Rez.< "&ROUND(E14+(E14)*(G14/100),1)&F14&" = prezinta risc de neindeplinire cerinte" -> 5,5 unitati pH≤ Rez.< 5,7 unitati pH = prezinta risc de neindeplinire cerinte | M14: =IF(C14="Nu exista","Neaplicabil ptr. ca nu exista limita de specificatie","x") -> x | N14: z
A15: Determinarea pH-ului | B15: Carne şi produse de carne | C15: SR 3275:2008 (limita superioara maxima) | D15: carne ovine si caprine (Refrigerata, Congelata) | E15: 6.2 | F15: unitati pH | G15: 1.4 | H15: % | I15: RD1 binara-nu ia in considerare IM | J15: ="Rez.≤"&ROUND(E15-(E15)*(G15/100),1)&F15 &" = Indeplineste cerintele specificate" -> Rez.≤6,1 unitati pH = Indeplineste cerintele specificate | K15: ="Rez.>"&ROUND(E15+(E15)*(G15/100),1)&F15&" = Nu indeplineste cerintele specificate" -> Rez.>6,3 unitati pH = Nu indeplineste cerintele specificate | L15: =ROUND((E15-(E15)*(G15/100)),1)&F15& " < Rez. ≤ "&ROUND(E15+(E15)*(G15/100),1)&F15&" = prezinta risc de neindeplinire cerinte specificate" -> 6,1 unitati pH < Rez. ≤ 6,3 unitati pH = prezinta risc de neindeplinire cerinte specificate | M15: =IF(C15="Nu exista","Neaplicabil ptr. ca nu exista limita de specificatie","x") -> x | N15: z
A16: Determinarea pH-ului | B16: Carne şi produse de carne | C16: SR 3275:2008 (limita inferioara si superioara) | D16: carne ovine si caprine (Refrigerata, Congelata) | E16: =E14&" -"&E15&F15 -> 5,6 -6,2 unitati pH | F16: unit.pH | G16: 2.2 | H16: % | I16: RD4 nonbinara -ia in considerare IM | J16: =J14&" // "&J15 -> Rez.≥5,7 unitati pH =Indeplineste cerintele specificate // Rez.≤6,1 unitati pH = Indeplineste cerintele specificate | K16: =K14&" // "&K15 -> Rez.<5,5 unitati pH =Nu indeplineste cerintele specificate // Rez.>6,3 unitati pH = Nu indeplineste cerintele specificate | L16: =L14&" // "&L15 -> 5,5 unitati pH≤ Rez.< 5,7 unitati pH = prezinta risc de neindeplinire cerinte // 6,1 unitati pH < Rez. ≤ 6,3 unitati pH = prezinta risc de neindeplinire cerinte specificate | M16: =IF(C16="Nu exista","Neaplicabil ptr. ca nu exista limita de specificatie","x") -> x | N16: zz
A17: Determinarea pH-ului | B17: Carne şi produse de carne | C17: SR 2713:2008 (limita inferioara maxima) | D17: carne bovine (Zvantata, Refrigerata, Congelata) | E17: 5.6 | F17: unitati pH | G17: 1.4 | H17: % | I17: RD1 binara-nu ia in considerare IM | J17: ="Rez.≥"&ROUND(E17+(E17)*(G17/100),1)& F17 &" =Indeplineste cerintele specificate" -> Rez.≥5,7 unitati pH =Indeplineste cerintele specificate | K17: ="Rez.<"&ROUND(E17-(E17)*(G17/100),1)&F17&" =Nu indeplineste cerintele specificate" -> Rez.<5,5 unitati pH =Nu indeplineste cerintele specificate | L17: =ROUND((E17-(E17)*(G17/100)),1)&F17& "≤ Rez.< "&ROUND(E17+(E17)*(G17/100),1)&F17&" = prezinta risc de neindeplinire cerinte" -> 5,5 unitati pH≤ Rez.< 5,7 unitati pH = prezinta risc de neindeplinire cerinte | M17: =IF(C17="Nu exista","Neaplicabil ptr. ca nu exista limita de specificatie","x") -> x | N17: d
A18: Determinarea pH-ului | B18: Carne şi produse de carne | C18: SR 2713:2008 (limita superioara maxima) | D18: carne bovine (Zvantata, Refrigerata, Congelata) | E18: 6.2 | F18: unitati pH | G18: 1.4 | H18: % | I18: RD1 binara-nu ia in considerare IM | J18: ="Rez.≤"&ROUND(E18-(E18)*(G18/100),1)&F18 &" = Indeplineste cerintele specificate" -> Rez.≤6,1 unitati pH = Indeplineste cerintele specificate | K18: ="Rez.>"&ROUND(E18+(E18)*(G18/100),1)&F18&" = Nu indeplineste cerintele specificate" -> Rez.>6,3 unitati pH = Nu indeplineste cerintele specificate | L18: =ROUND((E18-(E18)*(G18/100)),1)&F18& " < Rez. ≤ "&ROUND(E18+(E18)*(G18/100),1)&F18&" = prezinta risc de neindeplinire cerinte specificate" -> 6,1 unitati pH < Rez. ≤ 6,3 unitati pH = prezinta risc de neindeplinire cerinte specificate | M18: =IF(C18="Nu exista","Neaplicabil ptr. ca nu exista limita de specificatie","x") -> x | N18: d
A19: Determinarea pH-ului | B19: Carne şi produse de carne | C19: SR 2713:2008 (limita inferioara si superioara) | D19: carne bovine (Zvantata, Refrigerata, Congelata) | E19: =E17&" -"&E18&F18 -> 5,6 -6,2 unitati pH | F19: unit.pH | G19: 2.2 | H19: % | I19: RD4 nonbinara -ia in considerare IM | J19: =J17&" // "&J18 -> Rez.≥5,7 unitati pH =Indeplineste cerintele specificate // Rez.≤6,1 unitati pH = Indeplineste cerintele specificate | K19: =K17&" // "&K18 -> Rez.<5,5 unitati pH =Nu indeplineste cerintele specificate // Rez.>6,3 unitati pH = Nu indeplineste cerintele specificate | L19: =L17&" // "&L18 -> 5,5 unitati pH≤ Rez.< 5,7 unitati pH = prezinta risc de neindeplinire cerinte // 6,1 unitati pH < Rez. ≤ 6,3 unitati pH = prezinta risc de neindeplinire cerinte specificate | M19: =IF(C19="Nu exista","Neaplicabil ptr. ca nu exista limita de specificatie","x") -> x | N19: dd
A20: Determinarea pH-ului | B20: Carne şi produse de carne | C20: SR 7031:2008 (limita inferioara maxima) | D20: carne pasare (Refrigerata, Congelata) | E20: 5.6 | F20: unitati pH | G20: 1.4 | H20: % | I20: RD4 nonbinara -ia in considerare IM | J20: ="Rez.≥"&ROUND(E20+(E20)*(G20/100),1)& F20 &" =Indeplineste cerintele specificate" -> Rez.≥5,7 unitati pH =Indeplineste cerintele specificate | K20: ="Rez.<"&ROUND(E20-(E20)*(G20/100),1)&F20&" =Nu indeplineste cerintele specificate" -> Rez.<5,5 unitati pH =Nu indeplineste cerintele specificate | L20: =ROUND((E20-(E20)*(G20/100)),1)&F20& "≤ Rez.< "&ROUND(E20+(E20)*(G20/100),1)&F20&" = prezinta risc de neindeplinire cerinte" -> 5,5 unitati pH≤ Rez.< 5,7 unitati pH = prezinta risc de neindeplinire cerinte | M20: =IF(C20="Nu exista","Neaplicabil ptr. ca nu exista limita de specificatie","x") -> x | N20: f
A21: Determinarea pH-ului | B21: Carne şi produse de carne | C21: SR 7031:2008 (limita superioara maxima) | D21: carne pasare (Refrigerata, Congelata) | E21: 6.2 | F21: unitati pH | G21: 1.4 | H21: % | I21: RD4 nonbinara -ia in considerare IM | J21: ="Rez.≤"&ROUND(E21-(E21)*(G21/100),1)&F21 &" = Indeplineste cerintele specificate" -> Rez.≤6,1 unitati pH = Indeplineste cerintele specificate | K21: ="Rez.>"&ROUND(E21+(E21)*(G21/100),1)&F21&" = Nu indeplineste cerintele specificate" -> Rez.>6,3 unitati pH = Nu indeplineste cerintele specificate | L21: =ROUND((E21-(E21)*(G21/100)),1)&F21& " < Rez. ≤ "&ROUND(E21+(E21)*(G21/100),1)&F21&" = prezinta risc de neindeplinire cerinte specificate" -> 6,1 unitati pH < Rez. ≤ 6,3 unitati pH = prezinta risc de neindeplinire cerinte specificate | M21: =IF(C21="Nu exista","Neaplicabil ptr. ca nu exista limita de specificatie","x") -> x | N21: f
A22: Determinarea pH-ului | B22: Carne şi produse de carne | C22: SR 7031:2008 (limita inferioara si superioara) | D22: carne pasare (Refrigerata, Congelata) | E22: =E20&" -"&E21&F21 -> 5,6 -6,2 unitati pH | F22: unit.pH | G22: 2.2 | H22: % | I22: RD4 nonbinara -ia in considerare IM | J22: =J20&" // "&J21 -> Rez.≥5,7 unitati pH =Indeplineste cerintele specificate // Rez.≤6,1 unitati pH = Indeplineste cerintele specificate | K22: =K20&" // "&K21 -> Rez.<5,5 unitati pH =Nu indeplineste cerintele specificate // Rez.>6,3 unitati pH = Nu indeplineste cerintele specificate | L22: =L20&" // "&L21 -> 5,5 unitati pH≤ Rez.< 5,7 unitati pH = prezinta risc de neindeplinire cerinte // 6,1 unitati pH < Rez. ≤ 6,3 unitati pH = prezinta risc de neindeplinire cerinte specificate | M22: =IF(C22="Nu exista","Neaplicabil ptr. ca nu exista limita de specificatie","x") -> x | N22: ff
A23: Determinarea pH-ului | B23: alte tipuri de matrici | C23: Nu exista | D23: alte tipuri de matrici pentru care nu exista referential de interpretare | E23: x | F23: unitati pH | G23: x | H23: % | I23: "-" | J23: "-" | K23: "-" | L23: "-" | M23: =IF(C23="Nu exista","Neaplicabil ptr. ca nu exista limita de specificatie","x") -> Neaplicabil ptr. ca nu exista limita de specificatie
A25: Isoric versiuni
A26: Nr.vers/data | B26: Descriere modificare
A27: 0/19.03.2021 | B27: versiunea initiala
A28: 1/27.01.2023 | B28: Pentru matricea apa potabila utilizata in procesul tehnologic s-a modificat referentialul de interpretarea ca urmare a abrogarii Legii 458/2002 republicata cu modificarile si completarile ulterioare
A29: 2/29.08.2024 | B29: s-au revizuit im la apa dupa relocarea in sediu nou
A30: 3/03.09.2024 | B30: s-au revizuit im la carne dupa relocarea in sediu nou

Sheet P15
A1: Nr. 5 | I1: vers. in vigoare | K1: Data | L1: 08.12.2025
A2: Cuprins | B2: Cuprins!A1 | I2: istoric | K2: vezi nota subsol
A3: Date din Anexa la Certificat | C3: Date din Referential (Cerinta specificata) | I3: Date furnizate de laborator
A4: Domeniul de activitate / Tehnica de măsurare / Denumirea încercării | B4: Material / produs / obiect supus încercării | C4: Referențial de interpretare (care prevede Limita Specificație) | D4: Matricea | E4: Limita Specificației prevazută în referențial | F4: UM | G4: Incertitudine de Măsurare (IM) relativă pt k=2 (%, ) | I4: Regula de decizie (RD) | J4: Declarația de conformitate pentru rezultatul măsurării | N4: Observații
A5: Determinarea activității fosfatazei alcaline | B5: Lapte şi produse din lapte | C5: Regulamentul UE 627/2019, cu modificarile si completarile ulterioare (limita maxim admisa) | D5: Lapte pasteurizat | E5: 350 | F5: mU/l | G5: 9.6 | H5: % | I5: RD4 nonbinara -ia in considerare IM | J5: ="Rez.≤"&ROUND(E5-(E5)*(G5/100),1)&F5 &" = Indeplineste cerintele specificate" -> Rez.≤316,4mU/l = Indeplineste cerintele specificate | K5: ="Rez.>"&ROUND(E5+(E5)*(G5/100),1)&F5&" = Nu indeplineste cerintele specificate" -> Rez.>383,6mU/l = Nu indeplineste cerintele specificate | L5: =ROUND((E5-(E5)*(G5/100)),1)&F5& " < Rez. ≤ "&ROUND(E5+(E5)*(G5/100),1)&F5&" = prezinta risc de neindeplinire cerinte specificate" -> 316,4mU/l < Rez. ≤ 383,6mU/l = prezinta risc de neindeplinire cerinte specificate | M5: =IF(C5="Nu exista","Neaplicabil ptr. ca nu exista limita de specificatie","x") -> x
A7: Isoric versiuni
A8: Nr.vers/data | B8: Descriere modificare
A9: 0/19.03.2021 | B9: versiunea initiala
A10: 1/12.07.2023 | B10: Inlocuire Reg.CE 1664/2006 cu Reg.UE 627/2019, cu modificarile si completarile ulterioare.
A11: 2/03.09.2024 | B11: s-au revizuit im dupa relocarea in sediu nou
A12: 3/08.12.2025 | B12: s-a revizuit validarea

Sheet P2+P120
A1: Nr. 6 | I1: vers. in vigoare | K1: Data | L1: 45975
A2: Cuprins | B2: Cuprins!A1 | I2: istoric | K2: vezi nota subsol
A3: Date din Anexa la Certificat | C3: Date din Referential (Cerinta specificata) | I3: Date furnizate de laborator
A4: Domeniul de activitate / Tehnica de măsurare / Denumirea încercării | B4: Material / produs / obiect supus încercării | C4: Referențial de interpretare (care prevede Limita Specificație) | D4: Matricea | E4: Limita Specificației prevazută în referențial | F4: UM | G4: Incertitudine de Măsurare (IM) relativă pt k=2 (%, ) | I4: Regula de decizie (RD) | J4: Declarația de conformitate pentru rezultatul măsurării | N4: Observații
A5: Determinarea cenuşii totale/cenușii insolubile în acid clorhidric | B5: Carne şi produse de carne Cazeine Concentrate alimentare Hrană pentru animale Miere | C5: Nu exista | D5: Carne şi produse de carne | E5: x | F5: % | G5: 3.58 | H5: % | I5: "-" | J5: "-" | K5: "-" | L5: "-" | M5: =IF(C5="Nu exista","Neaplicabil ptr. ca nu exista limita de specificatie","x") -> Neaplicabil ptr. ca nu exista limita de specificatie
A6: Determinarea cenuşii totale/cenușii insolubile în acid clorhidric | B6: Carne şi produse de carne Cazeine Concentrate alimentare Hrană pentru animale Miere | C6: Nu exista | D6: Cazeine | E6: x | F6: % | G6: 3.2 | H6: % | I6: "-" | J6: "-" | K6: "-" | L6: "-" | M6: =IF(C6="Nu exista","Neaplicabil ptr. ca nu exista limita de specificatie","x") -> Neaplicabil ptr. ca nu exista limita de specificatie
A7: Determinarea cenuşii totale/cenușii insolubile în acid clorhidric | B7: Carne şi produse de carne Cazeine Concentrate alimentare Hrană pentru animale Miere | C7: Nu exista | D7: Hrană pentru animale | E7: x | F7: % | G7: 8,0 (cenuşa totale) 10,0 (cenusa insolubila) | H7: % | I7: "-" | J7: "-" | K7: "-" | L7: "-" | M7: =IF(C7="Nu exista","Neaplicabil ptr. ca nu exista limita de specificatie","x") -> Neaplicabil ptr. ca nu exista limita de specificatie
A8: Determinarea cenuşii totale/cenușii insolubile în acid clorhidric | B8: Carne şi produse de carne Cazeine Concentrate alimentare Hrană pentru animale Miere | C8: SR 784-2/2009 (limita max. admisa) | D8: Miere | E8: 0.5 | F8: % | G8: 8.68 | H8: % | I8: RD4 nonbinara -ia in considerare IM | J8: ="Rez.≤"&ROUND(E8-(E8)*(G8/100),2)&F8 &" = Indeplineste cerintele specificate" -> Rez.≤0,46% = Indeplineste cerintele specificate | K8: ="Rez.>"&ROUND(E8+(E8)*(G8/100),2)&F8&" = Nu indeplineste cerintele specificate" -> Rez.>0,54% = Nu indeplineste cerintele specificate | L8: =ROUND((E8-(E8)*(G8/100)),2)&F8& " < Rez. ≤ "&ROUND(E8+(E8)*(G8/100),2)&F8&" = prezinta risc de neindeplinire cerinte specificate" -> 0,46% < Rez. ≤ 0,54% = prezinta risc de neindeplinire cerinte specificate | M8: =IF(C8="Nu exista","Neaplicabil ptr. ca nu exista limita de specificatie","x") -> x
A10: Isoric versiuni
A11: Nr.vers/data | B11: Descriere modificare
A12: 0/19.03.2021 | B12: versiunea initiala
A13: 1/10.12.2021 | B13: I.M. carne si produse din carne modificata din 2,74% in 2,52 %
A14: 2/26.08.2024 | B14: s-au revizuit im dupa relocarea in sediu nou
A15: 3/03.09.2024 | B15: s-a revizuit im la carne si produse carne dupa relocare la sediu nou
A16: 4/14.11.2025 | B16: s-a revizuit validarea

Sheet P32
A1: Nr. 7 | I1: vers. in vigoare | K1: Data | M1: 45537
A2: Cuprins | B2: Cuprins!A1 | I2: istoric | K2: vezi nota subsol
A3: Date din Anexa la Certificat | C3: Date din Referential (Cerinta specificata) | I3: Date furnizate de laborator
A4: Domeniul de activitate / Tehnica de măsurare / Denumirea încercării | B4: Material / produs / obiect supus încercării | C4: Referențial de interpretare (care prevede Limita Specificație) | D4: Matricea | E4: Limita Specificației prevazută în referențial | F4: UM | G4: Incertitudine de Măsurare (IM) relativă pt k=2 (%, ) | I4: Regula de decizie (RD) | J4: Declarația de conformitate pentru rezultatul măsurării | N4: Observații
A5: Determinarea conţinutului de celuloză brută | B5: Hrană pentru animale | C5: Nu exista | D5: Hrană pentru animale | E5: x | F5: % | G5: 9 | H5: % | I5: "-" | J5: "-" | K5: "-" | L5: "-" | M5: =IF(C5="Nu exista","Neaplicabil ptr. ca nu exista limita de specificatie","x") -> Neaplicabil ptr. ca nu exista limita de specificatie
A7: Isoric versiuni
A8: Nr.vers/data | B8: Descriere modificare
A9: 0/19.03.2021 | B9: versiunea initiala
A10: 1/02.09.2024 | B10: s-au revizuit im dupa relocarea in sediu nou

Sheet P1+P189
A1: Nr. 8 | I1: vers. in vigoare | J1: 3 | K1: Data | L1: 45904
A2: Cuprins | B2: Cuprins!A1 | I2: istoric | K2: vezi nota subsol
A3: Date din Anexa la Certificat | C3: Date din Referential (Cerinta specificata) | I3: Date furnizate de laborator
A4: Domeniul de activitate / Tehnica de măsurare / Denumirea încercării | B4: Material / produs / obiect supus încercării | C4: Referențial de interpretare (care prevede Limita Specificație) | D4: Matricea | E4: Limita Specificației prevazută în referențial | F4: UM | G4: Incertitudine de Măsurare (IM) relativă pt k=2 (%, ) | I4: Regula de decizie (RD) | J4: Declarația de conformitate pentru rezultatul măsurării | N4: Observații
A5: Determinarea umidității și substanței uscate Determinarea umidității | B5: Carne şi produse de carne | C5: Ord.Comun al MAPDR,MSP,ANPC,ANSVSA Nr.560/1271/339/210/2006 - preparate din carne ( in functie de produs) (apa-limita maxima admisa) | D5: Produse din carne fierte- tobe sangerete, | E5: 70 | F5: % | G5: 1.3 | H5: % | I5: RD4 nonbinara -ia in considerare IM | J5: ="Rez.≤"&ROUND(E5-(E5)*(G5/100),2)&F5 &" = Indeplineste cerintele specificate" -> Rez.≤69,09% = Indeplineste cerintele specificate | K5: ="Rez.>"&ROUND(E5+(E5)*(G5/100),2)&F5&" = Nu indeplineste cerintele specificate" -> Rez.>70,91% = Nu indeplineste cerintele specificate | L5: =ROUND((E5-(E5)*(G5/100)),2)&F5& " < Rez. ≤ "&ROUND(E5+(E5)*(G5/100),2)&F5&" = prezinta risc de neindeplinire cerinte specificate" -> 69,09% < Rez. ≤ 70,91% = prezinta risc de neindeplinire cerinte specificate | M5: =IF(C5="Nu exista","Neaplicabil ptr. ca nu exista limita de specificatie","x") -> x | N5: Se emite declaratie de conformitate, doar daca sunt prezentate date/informatii privind procesul de fabricatie.
A6: Determinarea umidității și substanței uscate Determinarea umidității | B6: Carne şi produse de carne | C6: Ord.Comun al MAPDR,MSP,ANPC,ANSVSA Nr.560/1271/339/210/2006 - preparate din carne ( in functie de produs) (apa-limita maxima admisa) | D6: Produse din carne fierte- caltabos | E6: 72 | F6: % | G6: 1.3 | H6: % | I6: RD4 nonbinara -ia in considerare IM | J6: ="Rez.≤"&ROUND(E6-(E6)*(G6/100),2)&F6 &" = Indeplineste cerintele specificate" -> Rez.≤71,06% = Indeplineste cerintele specificate | K6: ="Rez.>"&ROUND(E6+(E6)*(G6/100),2)&F6&" = Nu indeplineste cerintele specificate" -> Rez.>72,94% = Nu indeplineste cerintele specificate | L6: =ROUND((E6-(E6)*(G6/100)),2)&F6& " < Rez. ≤ "&ROUND(E6+(E6)*(G6/100),2)&F6&" = prezinta risc de neindeplinire cerinte specificate" -> 71,06% < Rez. ≤ 72,94% = prezinta risc de neindeplinire cerinte specificate | M6: =IF(C6="Nu exista","Neaplicabil ptr. ca nu exista limita de specificatie","x") -> x | N6: Se emite declaratie de conformitate, doar daca sunt prezentate date/informatii privind procesul de fabricatie.
A7: Determinarea umidității și substanței uscate Determinarea umidității | B7: Carne şi produse de carne | C7: Ord.Comun al MAPDR,MSP,ANPC,ANSVSA Nr.560/1271/339/210/2006 - preparate din carne ( in functie de produs) (apa-limita maxima admisa) | D7: Produse din carne fierte- paste (carne) | E7: 73 | F7: % | G7: 1.3 | H7: % | I7: RD4 nonbinara -ia in considerare IM | J7: ="Rez.≤"&ROUND(E7-(E7)*(G7/100),2)&F7 &" = Indeplineste cerintele specificate" -> Rez.≤72,05% = Indeplineste cerintele specificate | K7: ="Rez.>"&ROUND(E7+(E7)*(G7/100),2)&F7&" = Nu indeplineste cerintele specificate" -> Rez.>73,95% = Nu indeplineste cerintele specificate | L7: =ROUND((E7-(E7)*(G7/100)),2)&F7& " < Rez. ≤ "&ROUND(E7+(E7)*(G7/100),2)&F7&" = prezinta risc de neindeplinire cerinte specificate" -> 72,05% < Rez. ≤ 73,95% = prezinta risc de neindeplinire cerinte specificate | M7: =IF(C7="Nu exista","Neaplicabil ptr. ca nu exista limita de specificatie","x") -> x | N7: Se emite declaratie de conformitate, doar daca sunt prezentate date/informatii privind procesul de fabricatie.
A8: Determinarea umidității și substanței uscate Determinarea umidității | B8: Carne şi produse de carne | C8: Ord.Comun al MAPDR,MSP,ANPC,ANSVSA Nr.560/1271/339/210/2006 - preparate din carne ( in functie de produs) (apa-limita maxima admisa) | D8: Produse din carne fierte- Salamuri, carnati-fara structura | E8: 70 | F8: % | G8: 1.3 | H8: % | I8: RD4 nonbinara -ia in considerare IM | J8: ="Rez.≤"&ROUND(E8-(E8)*(G8/100),2)&F8 &" = Indeplineste cerintele specificate" -> Rez.≤69,09% = Indeplineste cerintele specificate | K8: ="Rez.>"&ROUND(E8+(E8)*(G8/100),2)&F8&" = Nu indeplineste cerintele specificate" -> Rez.>70,91% = Nu indeplineste cerintele specificate | L8: =ROUND((E8-(E8)*(G8/100)),2)&F8& " < Rez. ≤ "&ROUND(E8+(E8)*(G8/100),2)&F8&" = prezinta risc de neindeplinire cerinte specificate" -> 69,09% < Rez. ≤ 70,91% = prezinta risc de neindeplinire cerinte specificate | M8: =IF(C8="Nu exista","Neaplicabil ptr. ca nu exista limita de specificatie","x") -> x | N8: Se emite declaratie de conformitate, doar daca sunt prezentate date/informatii privind procesul de fabricatie.
A9: Determinarea umidității și substanței uscate Determinarea umidității | B9: Carne şi produse de carne | C9: Ord.Comun al MAPDR,MSP,ANPC,ANSVSA Nr.560/1271/339/210/2006 - preparate din carne ( in functie de produs) (apa-limita maxima admisa) | D9: Produse din carne fierte- Salamuri, carnati-cu structura | E9: 68 | F9: % | G9: 1.3 | H9: % | I9: RD4 nonbinara -ia in considerare IM | J9: ="Rez.≤"&ROUND(E9-(E9)*(G9/100),2)&F9 &" = Indeplineste cerintele specificate" -> Rez.≤67,12% = Indeplineste cerintele specificate | K9: ="Rez.>"&ROUND(E9+(E9)*(G9/100),2)&F9&" = Nu indeplineste cerintele specificate" -> Rez.>68,88% = Nu indeplineste cerintele specificate | L9: =ROUND((E9-(E9)*(G9/100)),2)&F9& " < Rez. ≤ "&ROUND(E9+(E9)*(G9/100),2)&F9&" = prezinta risc de neindeplinire cerinte specificate" -> 67,12% < Rez. ≤ 68,88% = prezinta risc de neindeplinire cerinte specificate | M9: =IF(C9="Nu exista","Neaplicabil ptr. ca nu exista limita de specificatie","x") -> x | N9: Se emite declaratie de conformitate, doar daca sunt prezentate date/informatii privind procesul de fabricatie.
A10: Determinarea umidității și substanței uscate Determinarea umidității | B10: Carne şi produse de carne | C10: Ord.Comun al MAPDR,MSP,ANPC,ANSVSA Nr.560/1271/339/210/2006 - preparate din carne ( in functie de produs) (apa-limita maxima admisa) | D10: Produse din carne, afumate -carnati afumati la rece | E10: 58 | F10: % | G10: 1.3 | H10: % | I10: RD4 nonbinara -ia in considerare IM | J10: ="Rez.≤"&ROUND(E10-(E10)*(G10/100),2)&F10 &" = Indeplineste cerintele specificate" -> Rez.≤57,25% = Indeplineste cerintele specificate | K10: ="Rez.>"&ROUND(E10+(E10)*(G10/100),2)&F10&" = Nu indeplineste cerintele specificate" -> Rez.>58,75% = Nu indeplineste cerintele specificate | L10: =ROUND((E10-(E10)*(G10/100)),2)&F10& " < Rez. ≤ "&ROUND(E10+(E10)*(G10/100),2)&F10&" = prezinta risc de neindeplinire cerinte specificate" -> 57,25% < Rez. ≤ 58,75% = prezinta risc de neindeplinire cerinte specificate | M10: =IF(C10="Nu exista","Neaplicabil ptr. ca nu exista limita de specificatie","x") -> x | N10: Se emite declaratie de conformitate, doar daca sunt prezentate date/informatii privind procesul de fabricatie.
A11: Determinarea umidității și substanței uscate Determinarea umidității | B11: Carne şi produse de carne | C11: Ord.Comun al MAPDR,MSP,ANPC,ANSVSA Nr.560/1271/339/210/2006 - preparate din carne ( in functie de produs) (apa-limita maxima admisa) | D11: Produse din carne, afumate si fierte Salamuri fara structura Carnati fara structura, | E11: 70 | F11: % | G11: 1.3 | H11: % | I11: RD4 nonbinara -ia in considerare IM | J11: ="Rez.≤"&ROUND(E11-(E11)*(G11/100),2)&F11 &" = Indeplineste cerintele specificate" -> Rez.≤69,09% = Indeplineste cerintele specificate | K11: ="Rez.>"&ROUND(E11+(E11)*(G11/100),2)&F11&" = Nu indeplineste cerintele specificate" -> Rez.>70,91% = Nu indeplineste cerintele specificate | L11: =ROUND((E11-(E11)*(G11/100)),2)&F11& " < Rez. ≤ "&ROUND(E11+(E11)*(G11/100),2)&F11&" = prezinta risc de neindeplinire cerinte specificate" -> 69,09% < Rez. ≤ 70,91% = prezinta risc de neindeplinire cerinte specificate | M11: =IF(C11="Nu exista","Neaplicabil ptr. ca nu exista limita de specificatie","x") -> x | N11: Se emite declaratie de conformitate, doar daca sunt prezentate date/informatii privind procesul de fabricatie.
A12: Determinarea umidității și substanței uscate Determinarea umidității | B12: Carne şi produse de carne | C12: Ord.Comun al MAPDR,MSP,ANPC,ANSVSA Nr.560/1271/339/210/2006 - preparate din carne ( in functie de produs) (apa-limita maxima admisa) | D12: Produse din carne, afumate si fierte Salamuri cu structura | E12: 66 | F12: % | G12: 1.3 | H12: % | I12: RD4 nonbinara -ia in considerare IM | J12: ="Rez.≤"&ROUND(E12-(E12)*(G12/100),2)&F12 &" = Indeplineste cerintele specificate" -> Rez.≤65,14% = Indeplineste cerintele specificate | K12: ="Rez.>"&ROUND(E12+(E12)*(G12/100),2)&F12&" = Nu indeplineste cerintele specificate" -> Rez.>66,86% = Nu indeplineste cerintele specificate | L12: =ROUND((E12-(E12)*(G12/100)),2)&F12& " < Rez. ≤ "&ROUND(E12+(E12)*(G12/100),2)&F12&" = prezinta risc de neindeplinire cerinte specificate" -> 65,14% < Rez. ≤ 66,86% = prezinta risc de neindeplinire cerinte specificate | M12: =IF(C12="Nu exista","Neaplicabil ptr. ca nu exista limita de specificatie","x") -> x | N12: Se emite declaratie de conformitate, doar daca sunt prezentate date/informatii privind procesul de fabricatie.
A13: Determinarea umidității și substanței uscate Determinarea umidității | B13: Carne şi produse de carne | C13: Ord.Comun al MAPDR,MSP,ANPC,ANSVSA Nr.560/1271/339/210/2006 - preparate din carne ( in functie de produs) (apa-limita maxima admisa) | D13: Produse din carne, afumate si fierte Carnati cu structura | E13: 65 | F13: % | G13: 1.3 | H13: % | I13: RD4 nonbinara -ia in considerare IM | J13: ="Rez.≤"&ROUND(E13-(E13)*(G13/100),2)&F13 &" = Indeplineste cerintele specificate" -> Rez.≤64,16% = Indeplineste cerintele specificate | K13: ="Rez.>"&ROUND(E13+(E13)*(G13/100),2)&F13&" = Nu indeplineste cerintele specificate" -> Rez.>65,85% = Nu indeplineste cerintele specificate | L13: =ROUND((E13-(E13)*(G13/100)),2)&F13& " < Rez. ≤ "&ROUND(E13+(E13)*(G13/100),2)&F13&" = prezinta risc de neindeplinire cerinte specificate" -> 64,16% < Rez. ≤ 65,85% = prezinta risc de neindeplinire cerinte specificate | M13: =IF(C13="Nu exista","Neaplicabil ptr. ca nu exista limita de specificatie","x") -> x | N13: Se emite declaratie de conformitate, doar daca sunt prezentate date/informatii privind procesul de fabricatie.
A14: Determinarea umidității și substanței uscate Determinarea umidității | B14: Carne şi produse de carne | C14: Ord.Comun al MAPDR,MSP,ANPC,ANSVSA Nr.560/1271/339/210/2006 - preparate din carne ( in functie de produs) (apa-limita maxima admisa) | D14: Produse din carne fierte si dublu afumate - salamuri, - carnati, | E14: 50 | F14: % | G14: 1.3 | H14: % | I14: RD4 nonbinara -ia in considerare IM | J14: ="Rez.≤"&ROUND(E14-(E14)*(G14/100),2)&F14 &" = Indeplineste cerintele specificate" -> Rez.≤49,35% = Indeplineste cerintele specificate | K14: ="Rez.>"&ROUND(E14+(E14)*(G14/100),2)&F14&" = Nu indeplineste cerintele specificate" -> Rez.>50,65% = Nu indeplineste cerintele specificate | L14: =ROUND((E14-(E14)*(G14/100)),2)&F14& " < Rez. ≤ "&ROUND(E14+(E14)*(G14/100),2)&F14&" = prezinta risc de neindeplinire cerinte specificate" -> 49,35% < Rez. ≤ 50,65% = prezinta risc de neindeplinire cerinte specificate | M14: =IF(C14="Nu exista","Neaplicabil ptr. ca nu exista limita de specificatie","x") -> x | N14: Se emite declaratie de conformitate, doar daca sunt prezentate date/informatii privind procesul de fabricatie.
A15: Determinarea umidității și substanței uscate Determinarea umidității | B15: Carne şi produse de carne | C15: Ord.Comun al MAPDR,MSP,ANPC,ANSVSA Nr.560/1271/339/210/2006 - preparate din carne ( in functie de produs) (apa-limita maxima admisa) | D15: Produse din carne fierte si dublu afumate si uscate - salamuri, - carnati, | E15: 48 | F15: % | G15: 1.3 | H15: % | I15: RD4 nonbinara -ia in considerare IM | J15: ="Rez.≤"&ROUND(E15-(E15)*(G15/100),2)&F15 &" = Indeplineste cerintele specificate" -> Rez.≤47,38% = Indeplineste cerintele specificate | K15: ="Rez.>"&ROUND(E15+(E15)*(G15/100),2)&F15&" = Nu indeplineste cerintele specificate" -> Rez.>48,62% = Nu indeplineste cerintele specificate | L15: =ROUND((E15-(E15)*(G15/100)),2)&F15& " < Rez. ≤ "&ROUND(E15+(E15)*(G15/100),2)&F15&" = prezinta risc de neindeplinire cerinte specificate" -> 47,38% < Rez. ≤ 48,62% = prezinta risc de neindeplinire cerinte specificate | M15: =IF(C15="Nu exista","Neaplicabil ptr. ca nu exista limita de specificatie","x") -> x | N15: Se emite declaratie de conformitate, doar daca sunt prezentate date/informatii privind procesul de fabricatie.
A16: Determinarea umidității și substanței uscate Determinarea umidității | B16: Carne şi produse de carne | C16: Ord.Comun al MAPDR,MSP,ANPC,ANSVSA Nr.560/1271/339/210/2006 - preparate din carne ( in functie de produs) (apa-limita maxima admisa) | D16: Produse din carne crude- uscate salam de Sibiu | E16: 30 | F16: % | G16: 1.3 | H16: % | I16: RD4 nonbinara -ia in considerare IM | J16: ="Rez.≤"&ROUND(E16-(E16)*(G16/100),2)&F16 &" = Indeplineste cerintele specificate" -> Rez.≤29,61% = Indeplineste cerintele specificate | K16: ="Rez.>"&ROUND(E16+(E16)*(G16/100),2)&F16&" = Nu indeplineste cerintele specificate" -> Rez.>30,39% = Nu indeplineste cerintele specificate | L16: =ROUND((E16-(E16)*(G16/100)),2)&F16& " < Rez. ≤ "&ROUND(E16+(E16)*(G16/100),2)&F16&" = prezinta risc de neindeplinire cerinte specificate" -> 29,61% < Rez. ≤ 30,39% = prezinta risc de neindeplinire cerinte specificate | M16: =IF(C16="Nu exista","Neaplicabil ptr. ca nu exista limita de specificatie","x") -> x | N16: Se emite declaratie de conformitate, doar daca sunt prezentate date/informatii privind procesul de fabricatie.
... A22: Determinarea umidității și substanței uscate Determinarea umidității | B22: Carne şi produse de carne | C22: Ord.Comun al MAPDR,MSP,ANPC,ANSVSA Nr.560/1271/339/210/2006 - preparate din carne ( in functie de produs) (apa-limita maxima admisa) | D22: Produse din carne sterilizate - conserve pentru copii | E22: 85 | F22: % | G22: 1.3 | H22: % | I22: RD4 nonbinara -ia in considerare IM | J22: ="Rez.≤"&ROUND(E22-(E22)*(G22/100),2)&F22 &" = Indeplineste cerintele specificate" -> Rez.≤83,9% = Indeplineste cerintele specificate | K22: ="Rez.>"&ROUND(E22+(E22)*(G22/100),2)&F22&" = Nu indeplineste cerintele specificate" -> Rez.>86,11% = Nu indeplineste cerintele specificate | L22: =ROUND((E22-(E22)*(G22/100)),2)&F22& " < Rez. ≤ "&ROUND(E22+(E22)*(G22/100),2)&F22&" = prezinta risc de neindeplinire cerinte specificate" -> 83,9% < Rez. ≤ 86,11% = prezinta risc de neindeplinire cerinte specificate | M22: =IF(C22="Nu exista","Neaplicabil ptr. ca nu exista limita de specificatie","x") -> x | N22: Se emite declaratie de conformitate, doar daca sunt prezentate date/informatii privind procesul de fabricatie.
A23: Determinarea umidității și substanței uscate Determinarea umidității | B23: peste | C23: Nu exista | D23: peste | E23: x | F23: % | G23: 0,82 | H23: % | I23: "-" | J23: x | K23: x | L23: x | M23: =IF(C23="Nu exista","Neaplicabil ptr. ca nu exista limita de specificatie","x") -> Neaplicabil ptr. ca nu exista limita de specificatie
A24: Determinarea umidității și substanței uscate Determinarea umidității | B24: fructe de mare | C24: Nu exista | D24: fructe de mare | E24: x | F24: % | G24: 0,90 | H24: % | I24: "-" | J24: x | K24: x | L24: x | M24: =IF(C24="Nu exista","Neaplicabil ptr. ca nu exista limita de specificatie","x") -> Neaplicabil ptr. ca nu exista limita de specificatie
A25: Determinarea umidității și substanței uscate Determinarea umidității Determinarea substanței uscate | B25: Hrană pentru animale | C25: Nu exista | D25: Hrană pentru animale | E25: x | F25: % | G25: 3.2 | H25: % | I25: "-" | J25: x | K25: x | L25: x | M25: =IF(C25="Nu exista","Neaplicabil ptr. ca nu exista limita de specificatie","x") -> Neaplicabil ptr. ca nu exista limita de specificatie | N25: Se emite declaratie de conformitate, doar daca sunt prezentate date/informatii privind procesul de fabricatie.
A26: Determinarea umidității și substanței uscate Determinarea umidității Determinarea substanței uscate | B26: Unt | C26: Nu exista | D26: Unt | E26: x | F26: % | G26: 1.3 | H26: % | I26: "-" | J26: x | K26: x | L26: x | M26: =IF(C26="Nu exista","Neaplicabil ptr. ca nu exista limita de specificatie","x") -> Neaplicabil ptr. ca nu exista limita de specificatie | N26: Se emite declaratie de conformitate, doar daca sunt prezentate date/informatii privind procesul de fabricatie.
A27: Determinarea umidității și substanței uscate Determinarea umidității Determinarea substanței uscate | B27: Brânzeturi şi brânzeturi procesate | C27: SR 1286+A1:1997 pt. branzeturi cu pasta oparita (cascaval) (Subst. uscata limita minima) | D27: branzeturi cu pasta oparita (cascaval) -din lapte de oaie, -din lapte amestec lapte bivolita si vaca, | E27: 57 | F27: % | G27: 0.6 | H27: % | I27: RD4 nonbinara -ia in considerare IM | J27: ="Rez.≥"&ROUND(E27+(E27)*(G27/100),2)& F27 &" =Indeplineste cerintele specificate" -> Rez.≥57,34% =Indeplineste cerintele specificate | K27: ="Rez.<"&ROUND(E27-(E27)*(G27/100),2)&F27&" =Nu indeplineste cerintele specificate" -> Rez.<56,66% =Nu indeplineste cerintele specificate | L27: =ROUND((E27-(E27)*(G27/100)),2)&F27& "≤ Rez.< "&ROUND(E27+(E27)*(G27/100),2)&F27&" = prezinta risc de neindeplinire cerinte" -> 56,66%≤ Rez.< 57,34% = prezinta risc de neindeplinire cerinte | M27: =IF(C27="Nu exista","Neaplicabil ptr. ca nu exista limita de specificatie","x") -> x | N27: Se emite declaratie de conformitate, doar daca sunt prezentate date/informatii privind procesul de fabricatie.
A28: Determinarea umidității și substanței uscate Determinarea umidității Determinarea substanței uscate | B28: Brânzeturi şi brânzeturi procesate | C28: SR 1286+A1:1997 pt. branzeturi cu pasta oparita (cascaval) (Subst. uscata limita minima) | D28: branzeturi cu pasta oparita (cascaval) -din lapte amestec lapte oaie si vaca, | E28: 55 | F28: % | G28: 0.6 | H28: % | I28: RD4 nonbinara -ia in considerare IM | J28: ="Rez.≥"&ROUND(E28+(E28)*(G28/100),2)& F28 &" =Indeplineste cerintele specificate" -> Rez.≥55,33% =Indeplineste cerintele specificate | K28: ="Rez.<"&ROUND(E28-(E28)*(G28/100),2)&F28&" =Nu indeplineste cerintele specificate" -> Rez.<54,67% =Nu indeplineste cerintele specificate | L28: =ROUND((E28-(E28)*(G28/100)),2)&F28& "≤ Rez.< "&ROUND(E28+(E28)*(G28/100),2)&F28&" = prezinta risc de neindeplinire cerinte" -> 54,67%≤ Rez.< 55,33% = prezinta risc de neindeplinire cerinte | M28: =IF(C28="Nu exista","Neaplicabil ptr. ca nu exista limita de specificatie","x") -> x | N28: Se emite declaratie de conformitate, doar daca sunt prezentate date/informatii privind procesul de fabricatie.
A29: Determinarea umidității și substanței uscate Determinarea umidității Determinarea substanței uscate | B29: Brânzeturi şi brânzeturi procesate | C29: SR 1286+A1:1997 pt. branzeturi cu pasta oparita (cascaval) (Subst. uscata limita minima) | D29: branzeturi cu pasta oparita (cascaval) -din lapte de vaca | E29: 52 | F29: % | G29: 0.6 | H29: % | I29: RD4 nonbinara -ia in considerare IM | J29: ="Rez.≥"&ROUND(E29+(E29)*(G29/100),2)& F29 &" =Indeplineste cerintele specificate" -> Rez.≥52,31% =Indeplineste cerintele specificate | K29: ="Rez.<"&ROUND(E29-(E29)*(G29/100),2)&F29&" =Nu indeplineste cerintele specificate" -> Rez.<51,69% =Nu indeplineste cerintele specificate | L29: =ROUND((E29-(E29)*(G29/100)),2)&F29& "≤ Rez.< "&ROUND(E29+(E29)*(G29/100),2)&F29&" = prezinta risc de neindeplinire cerinte" -> 51,69%≤ Rez.< 52,31% = prezinta risc de neindeplinire cerinte | M29: =IF(C29="Nu exista","Neaplicabil ptr. ca nu exista limita de specificatie","x") -> x | N29: Se emite declaratie de conformitate, doar daca sunt prezentate date/informatii privind procesul de fabricatie.
