Workbook
Name ia_in_considerare_incertitudinea_de_masurare__WIM: [1]L!$B$2:$B$7
Name ia_in_considerare_incertitudinea_de_masurare__WIM: [2]L!$B$2:$B$9
Name ia_in_considerare_incertitudinea_de_masurare__WIM: L!$B$2:$B$9

Sheet Cuprins
A3: Nr. crt. | B3: Cod PS | C3: Domeniul de activitate / Tehnica de măsurare / Denumirea încercării | D3: Data versiunii in vigoare | E3: Cod sheet
A4: 1 | B4: PS-019 | C4: ='P19'!A5 -> Determinarea densităţii | D4: ='P19'!L1 -> 09.10.2025 | E4: P19'!A1
A5: 2 | B5: PS-022 | C5: ='P22'!A5 -> Determinarea punctului de congelare | D5: ='P22'!L1 -> 15.01.2026 | E5: P22'!A1
A6: 3 | B6: PS-009.1 | C6: ='P9.1'!A5 -> Determinarea conductivităţii electrice | D6: ='P9.1'!L1 -> 01.04.2026 | E6: P9.1!A1
A7: 4 | B7: PS-008 PS-013 | C7: ='P8+P13'!A7 -> Determinarea pH-ului | D7: ='P8+P13'!L1 -> 45538 | E7: P8+P13'!A1
A8: 5 | B8: PS-015 | C8: ='P15'!A5 -> Determinarea activității fosfatazei alcaline | D8: ='P15'!L1 -> 08.12.2025 | E8: P15'!A1
A9: 6 | B9: PS-002 PS-120 | C9: ='P2+P120'!A5 -> Determinarea cenuşii totale/cenușii insolubile în acid clorhidric | D9: ='P2+P120'!L1 -> 45975 | E9: P2+P120'!A1
A10: 7 | B10: PS-032 | C10: ='P32'!A5 -> Determinarea conţinutului de celuloză brută | D10: ='P32'!M1 -> 45537 | E10: P32'!A1
A11: 8 | B11: PS-001 PS-189 | C11: Determinarea umidității și substanței uscate Determinarea umidității Determinarea substanței uscate | D11: ='P1+P189'!L1 -> 45904 | E11: P1+P189'!A1
A12: 9 | B12: PS-018 | C12: ='P18'!A5 -> Determinări ponderale | D12: ='P18'!L1 -> 09.03.2026 | E12: P18'!A1
A13: 10 | B13: PS-027 | C13: Determinarea conţinuțului de apă din carnea de pasăre | D13: ='P27'!L1 -> 09.03.2026 | E13: P27'!A1
A14: 11 | B14: PS-003 | C14: ='P3'!A5 -> Determinarea conţinutului de substanțe grase | D14: ='P3'!L1 -> 46132 | E14: P3'!A1
A15: 12 | B15: PS-001 | C15: ='P1'!A5 -> Determinarea umidității, substanţei uscate și substanței uscate solubile | D15: ='P1'!L1 -> 04.09.2025 | E15: P1'!A1
A16: 13 | B16: PS-016.1 | C16: ='P16.1'!A5 -> Determinarea indicelui de refracţie | D16: 45194 | E16: P16.1!A1
A17: 14 | B17: PS-007 PS-017 | C17: ='P7+P17'!A5 -> Determinarea acidităţii/indicelui de aciditate | D17: ='P7+P17'!L1 -> 46112 | E17: P7+P17'!A1
A18: 15 | B18: PS-004 | C18: ='P4'!A5 -> Determinarea conţinutului de azot (proteină) | D18: ='P4'!L1 -> 45904 | E18: P4'!A1
A19: 16 | B19: PS-006 | C19: ='P6'!A5 -> Determinarea glucidelor: Zahăr reducător (invertit), Zahăr ușor hidrolizabil, Glucoza, Zaharoza, *Fructoza, Glucoza | D19: ='P6'!L1 -> 27.04.2026 | E19: P6'!A1
A20: 17 | B20: PS-016.2 | C20: ='P16.2'!A5 -> Determinarea indicelui de iod | D20: ='P16.2'!L1 -> 06.04.2026 | E20: P16.2!A1
A21: 18 | B21: PS-016.3 | C21: ='P16.3'!A5 -> Determinarea indicelui de peroxid | D21: ='P16.3'!L1 -> 46118 | E21: P16.3!A1
A22: 19 | B22: PS-010.1 | C22: Determinarea amoniacului prin: ● determinarea azotului uşor hidrolizabil ● determinarea azotului bazic volatil total (ABVT) | D22: ='P10.1'!L1 -> 01.07.2025 | E22: P10.1!A1
A23: 20 | B23: PS-005 PS-013 | C23: Determinarea clorurii de sodiu /clorurilor Titrare volumetrică/Titrare potenţiometrică | D23: ='P5+P13'!L1 -> 45980 | E23: P5+P13'!A1
A24: 21 | B24: PS-009.2 | C24: ='P9.2'!A5 -> Determinarea conţinutului de granule de polen | D24: ='P9.2'!L1 -> 46140 | E24: P9.2!A1
A25: 22 | B25: PS-010.2 | C25: ='P10.2'!A5 -> Identificarea hidrogenului sulfurat | D25: ='P10.2'!L1 -> 03.09.2024 | E25: P10.2!A1
A26: 23 | B26: PS-010.3 | C26: ='P10.3'!A5 -> Apreciere a stadiului de oxidare a grăsimii (R. Kreiss și indice de peroxid) | D26: ='P10.3'!L1 -> 03.09.2024 | E26: P10.3!A1
A27: 24 | B27: PS-010.4 | C27: ='P10.4'!A5 -> Identificarea amoniacului în stare liberă cu Reactiv Nessler | D27: ='P10.4'!L1 -> 03.09.2024 | E27: P10.4!A1
A28: 25 | B28: PS-024 | C28: Determinarea coloranţilor solubili în apă prin HPLC | D28: ='P24'!L1 -> 24.06.2026 | E28: P24'!A1
A29: 26 | B29: PS-023 | C29: Determinarea conservanților prin HPLC: Acidul benzoic şi benzoaţi; Acidul sorbic și sorbați | D29: ='P23'!L1 -> 24.06.2026 | E29: P23'!A1
A30: 27 | B30: PS-025 | C30: Determinarea îndulcitorilor prin HPLC: Acesulfam K(E950); Zaharină (E 954); Aspartam (E 951) | D30: ='P25'!L1 -> 24.06.2026 | E30: P25'!A1
A31: 28 | B31: PS-020 | C31: Determinarea hidrocarburilor aromatice policlice (HAP) prin UHPLC-FLD: | D31: ='P020'!L1 -> 24.06.2026 | E31: P020'!A1
A32: 29 | B32: PS-017 | C32: Determinarea histaminei prin UHPLC-DAD | D32: ='P017'!L1 -> 45807 | E32: P017'!A1
A33: 30 | B33: PS-026 | C33: Determinarea coloranţilor insolubili în apă prin LC-MS/MS: Roşu de Sudan I, II, III şi IV | D33: ='P26'!L1 -> 45537 | E33: P26'!A1
A34: 31 | B34: PS-021 | C34: ='P21'!A5 -> Determinarea histaminei prin LC/MS/MS | D34: ='P21'!L1 -> 45537 | E34: P21'!A1
A35: 32 | B35: PS-014 | C35: ='P14'!A6 -> Determinarea conținutului de fosfor | D35: ='P14'!L1 -> 25.06.2026 | E35: P14'!A1
A36: 33 | B36: PS-012 | C36: Determinarea conţinutului de hidroxiprolină (colagen) | D36: ='P12'!L1 -> 05.09.2024 | E36: P12'!A1
A37: 34 | B37: PS-009.3 | C37: ='P9.3'!A5 -> Determinarea hidroximetilfurfuralului (HMF) | D37: ='P9.3'!L1 -> 25.02.2026 | E37: P9.3!A1
A38: 35 | B38: PS-062 | C38: ='P62'!A6 -> Determinarea acidului L glutamic | D38: ='P62'!L1 -> 24.06.2026 | E38: P62'!A1
A39: 36 | B39: PS-189 | C39: Determinarea acizilor lactic și 3-hidroxibutiric | D39: ='P189'!L1 -> 19.03.2021 | E39: P189'!A1
A40: 37 | B40: PS-050 | C40: ='P50'!A5 -> Identificarea cărnii decongelate prin determinarea activității enzimei HADH | D40: ='P50'!L1 -> 03.10.2022 | E40: P50'!A1
A41: 38 | B41: PS-013.1 | C41: ='P13.1'!A5 -> Determinarea conținutului de amoniu | D41: ='P13.1'!L1 -> 45505 | E41: P13.1!A1
A42: 39 | B42: PS-013.2 | C42: ='P13.2'!A5 -> Determinarea conţinutului de nitraţi (azotați) | D42: ='P13.2'!L1 -> 45539 | E42: P13.2!A1
A43: 40 | B43: PS-013 PS-011 | C43: ='P13+P11'!A5 -> Determinarea conţinutului de nitriți (azotiți) | D43: ='P13+P11'!L1 -> 45541 | E43: P13+P11'!A1
A44: 41 | B44: PS-009.4 | C44: Determinarea indicelui diastazic | D44: ='P9.4'!L1 -> 25.02.2026 | E44: P9.4!A1
A45: 42 | B45: PS-030 | C45: ='P30'!A5 -> Determinarea activității specifice a radionuclizilor prin spectrometrie gama de înaltă rezoluţie cu detector de germaniu hiperpur –HPGe (134Cs și 137Cs şi alţii) | D45: ='P30'!L1 -> 19.03.2021 | E45: P30'!A1
A46: 43 | B46: PS-031 | C46: ='P31'!A5 -> Măsurarea luminiscenţei fotostimulate, ca fenomen specific tratamentului de iradiere | D46: ='P31'!L1 -> 19.03.2021 | E46: P31'!A1
B49: Centralizat | C49: Coresp. RMC - Ing. Chim. Stela Munteanu
B50: Verificat | C50: Șef serviciu Chimie și Radioacticvitate - Chim. Cristina Dumitrescu

Sheet P19
A1: Nr. 1 | I1: vers. in vigoare | K1: Data | L1: 09.10.2025
A2: Cuprins | B2: Cuprins!A1 | I2: istoric | K2: vezi nota subsol
A3: Date din Anexa la Certificat | C3: Date din Referential (Cerinta specificata) | I3: Date furnizate de laborator
A4: Domeniul de activitate / Tehnica de măsurare / Denumirea încercării | B4: Material / produs / obiect supus încercării | C4: Referențial de interpretare (care prevede Limita Specificație) | D4: Matricea | E4: Limita Specificației prevazută în referențial | F4: UM | G4: Incertitudine de Măsurare (IM) relativă pt k=2 (%, ) | I4: Regula de decizie (RD) | J4: Declarația de conformitate pentru rezultatul măsurării | N4: Observații
A5: Determinarea densităţii | B5: Lapte crud integral Lapte de consum | C5: SR 2418/2008 (limita minimă) | D5: *Lapte crud integral vaca *Lapte crud integral capra | E5: 1.029 | F5: g/cm3 | G5: 0.08 | H5: % | I5: RD4 nonbinara -ia in considerare IM | J5: ="Rez.≥"&ROUND(E5+(E5)*(G5/100),4)& F5 &" =Indeplineste cerintele specificate" -> Rez.≥1,0298g/cm3 =Indeplineste cerintele specificate | K5: ="Rez.<"&ROUND(E5-(E5)*(G5/100),4)&F5&" =Nu indeplineste cerintele specificate" -> Rez.<1,0282g/cm3 =Nu indeplineste cerintele specificate | L5: =ROUND((E5-(E5)*(G5/100)),4)&F5& "≤ Rez.< "&ROUND(E5+(E5)*(G5/100),4)&F5&" = prezinta risc de neindeplinire cerinte" -> 1,0282g/cm3≤ Rez.< 1,0298g/cm3 = prezinta risc de neindeplinire cerinte | M5: =IF(C5="Nu exista","Neaplicabil ptr. ca nu exista limita de specificatie","x") -> x
A6: Determinarea densităţii | B6: Lapte crud integral Lapte de consum | C6: SR 2418/2008 (limita minimă) | D6: Lapte crud integral bivolita | E6: 1.031 | F6: g/cm3 | G6: 0.08 | H6: % | I6: RD4 nonbinara -ia in considerare IM | J6: ="Rez.≥"&ROUND(E6+(E6)*(G6/100),4)& F6 &" =Indeplineste cerintele specificate" -> Rez.≥1,0318g/cm3 =Indeplineste cerintele specificate | K6: ="Rez.<"&ROUND(E6-(E6)*(G6/100),4)&F6&" =Nu indeplineste cerintele specificate" -> Rez.<1,0302g/cm3 =Nu indeplineste cerintele specificate | L6: =ROUND((E6-(E6)*(G6/100)),4)&F6& "≤ Rez.< "&ROUND(E6+(E6)*(G6/100),4)&F6&" = prezinta risc de neindeplinire cerinte" -> 1,0302g/cm3≤ Rez.< 1,0318g/cm3 = prezinta risc de neindeplinire cerinte | M6: =IF(C6="Nu exista","Neaplicabil ptr. ca nu exista limita de specificatie","x") -> x
A7: Determinarea densităţii | B7: Lapte crud integral Lapte de consum | C7: SR 2418/2008 (limita minimă) | D7: Lapte crud integral oaie | E7: 1.033 | F7: g/cm3 | G7: 0.08 | H7: % | I7: RD4 nonbinara -ia in considerare IM | J7: ="Rez.≥"&ROUND(E7+(E7)*(G7/100),4)& F7 &" =Indeplineste cerintele specificate" -> Rez.≥1,0338g/cm3 =Indeplineste cerintele specificate | K7: ="Rez.<"&ROUND(E7-(E7)*(G7/100),4)&F7&" =Nu indeplineste cerintele specificate" -> Rez.<1,0322g/cm3 =Nu indeplineste cerintele specificate | L7: =ROUND((E7-(E7)*(G7/100)),4)&F7& "≤ Rez.< "&ROUND(E7+(E7)*(G7/100),4)&F7&" = prezinta risc de neindeplinire cerinte" -> 1,0322g/cm3≤ Rez.< 1,0338g/cm3 = prezinta risc de neindeplinire cerinte | M7: =IF(C7="Nu exista","Neaplicabil ptr. ca nu exista limita de specificatie","x") -> x
A8: Determinarea densităţii | B8: Lapte crud integral Lapte de consum | C8: SR 2418/2008 (limita minimă) | D8: *Lapte de consum normalizat *Lapte de consum smantanit | E8: 1.029 | F8: g/cm3 | G8: 0.08 | H8: % | I8: RD4 nonbinara -ia in considerare IM | J8: ="Rez.≥"&ROUND(E8+(E8)*(G8/100),4)& F8 &" =Indeplineste cerintele specificate" -> Rez.≥1,0298g/cm3 =Indeplineste cerintele specificate | K8: ="Rez.<"&ROUND(E8-(E8)*(G8/100),4)&F8&" =Nu indeplineste cerintele specificate" -> Rez.<1,0282g/cm3 =Nu indeplineste cerintele specificate | L8: =ROUND((E8-(E8)*(G8/100)),4)&F8& "≤ Rez.< "&ROUND(E8+(E8)*(G8/100),4)&F8&" = prezinta risc de neindeplinire cerinte" -> 1,0282g/cm3≤ Rez.< 1,0298g/cm3 = prezinta risc de neindeplinire cerinte | M8: =IF(C8="Nu exista","Neaplicabil ptr. ca nu exista limita de specificatie","x") -> x
A9: Determinarea densităţii | B9: Lapte crud integral Lapte de consum | C9: SR 2418/2008 (limita minimă) | D9: Lapte de consum hiperproteic | E9: 1.03 | F9: g/cm3 | G9: 0.08 | H9: % | I9: RD4 nonbinara -ia in considerare IM | J9: ="Rez.≥"&ROUND(E9+(E9)*(G9/100),4)& F9 &" =Indeplineste cerintele specificate" -> Rez.≥1,0308g/cm3 =Indeplineste cerintele specificate | K9: ="Rez.<"&ROUND(E9-(E9)*(G9/100),4)&F9&" =Nu indeplineste cerintele specificate" -> Rez.<1,0292g/cm3 =Nu indeplineste cerintele specificate | L9: =ROUND((E9-(E9)*(G9/100)),4)&F9& "≤ Rez.< "&ROUND(E9+(E9)*(G9/100),4)&F9&" = prezinta risc de neindeplinire cerinte" -> 1,0292g/cm3≤ Rez.< 1,0308g/cm3 = prezinta risc de neindeplinire cerinte | M9: =IF(C9="Nu exista","Neaplicabil ptr. ca nu exista limita de specificatie","x") -> x
A10: Determinarea densităţii | B10: Lapte crud integral Lapte de consum | C10: Nu exista | D10: alte tipuri de matrici pentru care nu exista referential de interpretare | E10: x | F10: g/cm3 | G10: 0.08 | H10: % | I10: "-" | J10: X | K10: X | L10: X | M10: =IF(C10="Nu exista","Neaplicabil ptr. ca nu exista limita de specificatie","x") -> Neaplicabil ptr. ca nu exista limita de specificatie
A12: Isoric versiuni
A13: Nr.vers/data | B13: Descriere modificare
A14: 0/19.03.2021 | B14: versiunea initiala
A15: 1/09.09.2024 | B15: s-au revizuit im dupa relocarea in sediu nou
A16: 2/09.10.2025 | B16: s-a revizuit validarea

Sheet P22
A1: Nr. 2 | I1: vers. in vigoare | K1: Data | L1: 15.01.2026
A2: Cuprins | B2: Cuprins!A1 | I2: istoric | K2: vezi nota subsol
A3: Date din Anexa la Certificat | C3: Date din Referential (Cerinta specificata) | I3: Date furnizate de laborator
A4: Domeniul de activitate / Tehnica de măsurare / Denumirea încercării | B4: Material / produs / obiect supus încercării | C4: Referențial de interpretare (care prevede Limita Specificație) | D4: Matricea | E4: Limita Specificației prevazută în referențial | F4: UM | G4: Incertitudine de Măsurare (IM) relativă pt k=2 (%, ) | I4: Regula de decizie (RD) | J4: Declarația de conformitate pentru rezultatul măsurării | N4: Observații
A5: Determinarea punctului de congelare | B5: Lapte | C5: SR 2418/2008 pt. lapte crud (limita minima) | D5: lapte crud | E5: -0.515 | F5: °C | G5: 0.44 | H5: % | I5: RD4 nonbinara -ia in considerare IM | J5: ="Rez.≥"&ROUND(E5+(E5)*(G5/100),4)& F5 &" =Indeplineste cerintele specificate" -> Rez.≥-0,5173°C =Indeplineste cerintele specificate | K5: ="Rez.<"&ROUND(E5-(E5)*(G5/100),4)&F5&" =Nu indeplineste cerintele specificate" -> Rez.<-0,5127°C =Nu indeplineste cerintele specificate | L5: =ROUND((E5-(E5)*(G5/100)),4)&F5& "≤ Rez.< "&ROUND(E5+(E5)*(G5/100),4)&F5&" = prezinta risc de neindeplinire cerinte" -> -0,5127°C≤ Rez.< -0,5173°C = prezinta risc de neindeplinire cerinte | M5: =IF(C5="Nu exista","Neaplicabil ptr. ca nu exista limita de specificatie","x") -> x
A6: Determinarea punctului de congelare | B6: Lapte | C6: SR 143/2008 pentru lapte de consum (limita minima) | D6: lapte de consum | E6: -0.515 | F6: °C | G6: 0.48 | H6: % | I6: RD4 nonbinara -ia in considerare IM | J6: ="Rez.≥"&ROUND(E6+(E6)*(G6/100),4)& F6 &" =Indeplineste cerintele specificate" -> Rez.≥-0,5175°C =Indeplineste cerintele specificate | K6: ="Rez.<"&ROUND(E6-(E6)*(G6/100),4)&F6&" =Nu indeplineste cerintele specificate" -> Rez.<-0,5125°C =Nu indeplineste cerintele specificate | L6: =ROUND((E6-(E6)*(G6/100)),4)&F6& "≤ Rez.< "&ROUND(E6+(E6)*(G6/100),4)&F6&" = prezinta risc de neindeplinire cerinte" -> -0,5125°C≤ Rez.< -0,5175°C = prezinta risc de neindeplinire cerinte | M6: =IF(C6="Nu exista","Neaplicabil ptr. ca nu exista limita de specificatie","x") -> x
A8: Isoric versiuni
A9: Nr.vers/data | B9: Descriere modificare
A10: 0/19.03.2021 | B10: versiunea initiala
A11: 1/02.09.2024 | B11: s-au revizuit im dupa relocarea in sediu nou
A12: 2/15.01.2026 | B12: s-a revizuit validarea

Sheet P9.1
A1: Nr. 3 | I1: vers. in vigoare | K1: Data | L1: 01.04.2026
A2: Cuprins | B2: Cuprins!A1 | I2: istoric | K2: vezi nota subsol
A3: Date din Anexa la Certificat | C3: Date din Referential (Cerinta specificata) | I3: Date furnizate de laborator
A4: Domeniul de activitate / Tehnica de măsurare / Denumirea încercării | B4: Material / produs / obiect supus încercării | C4: Referențial de interpretare (care prevede Limita Specificație) | D4: Matricea | E4: Limita Specificației prevazută în referențial | F4: UM | G4: Incertitudine de Măsurare (IM) relativă pt k=2 (%, ) | I4: Regula de decizie (RD) | J4: Declarația de conformitate pentru rezultatul măsurării | N4: Observații
A5: Determinarea conductivităţii electrice | B5: Miere | C5: Ordinul MADR/MS/ANPC nr. 522/798/317/2003 cu completarile ulterioare (Directiva nr.110/2001/CE) (limita maxima admisa) | D5: Miere | E5: 0.8 | F5: mS/cm | G5: 8.4 | H5: % | I5: RD4 nonbinara -ia in considerare IM | J5: ="Rez.≤"&ROUND(E5-(E5)*(G5/100),3)&F5 &" = Indeplineste cerintele specificate" -> Rez.≤0,733mS/cm = Indeplineste cerintele specificate | K5: ="Rez.>"&ROUND(E5+(E5)*(G5/100),3)&F5&" = Nu indeplineste cerintele specificate" -> Rez.>0,867mS/cm = Nu indeplineste cerintele specificate | L5: =ROUND((E5-(E5)*(G5/100)),3)&F5& " < Rez. ≤ "&ROUND(E5+(E5)*(G5/100),3)&F5&" = prezinta risc de neindeplinire cerinte specificate" -> 0,733mS/cm < Rez. ≤ 0,867mS/cm = prezinta risc de neindeplinire cerinte specificate | M5: =IF(C5="Nu exista","Neaplicabil ptr. ca nu exista limita de specificatie","x") -> x
A7: Isoric versiuni
A8: Nr.vers/data | B8: Descriere modificare
A9: 0/19.03.2021 | B9: versiunea initiala
A10: 1/09.09.2024 | B10: s-au revizuit im dupa relocarea in sediu nou
A11: 2/01.04.2026 | B11: s-a revizuit validarea

Sheet P8+P13
A1: Nr. 4 | I1: vers. in vigoare | K1: Data | L1: 45538
A2: Cuprins | B2: Cuprins!A1 | I2: istoric | K2: vezi nota subsol
A3: Date din Anexa la Certificat | C3: Date din Referential (Cerinta specificata) | I3: Date furnizate de laborator
A4: Domeniul de activitate / Tehnica de măsurare / Denumirea încercării | B4: Material / produs / obiect supus încercării | C4: Referențial de interpretare (care prevede Limita Specificație) | D4: Matricea | E4: Limita Specificației prevazută în referențial | F4: UM | G4: Incertitudine de Măsurare (IM) relativă pt k=2 (%, ) | I4: Regula de decizie (RD) | J4: Declarația de conformitate pentru rezultatul măsurării | N4: Observații
A5: Determinarea pH-ului | B5: Apă potabilă (utilizată în procesul tehnologic) | C5: Legea 458/2002 cu modificarile si completarile ulterioare (limita inferioara maxima) | D5: Apă potabilă (utilizată în procesul tehnologic) 5.6-6.2 unitati pH | E5: 6.5 | F5: unitati pH | G5: 0.84 | H5: % | I5: RD4 nonbinara -ia in considerare IM | J5: ="Rez.≥"&ROUND(E5+(E5)*(G5/100),1)& F5 &" =Indeplineste cerintele specificate" -> Rez.≥6,6 unitati pH =Indeplineste cerintele specificate | K5: ="Rez.<"&ROUND(E5-(E5)*(G5/100),1)&F5&" =Nu indeplineste cerintele specificate" -> Rez.<6,4 unitati pH =Nu indeplineste cerintele specificate | L5: =ROUND((E5-(E5)*(G5/100)),1)&F5& "≤ Rez.< "&ROUND(E5+(E5)*(G5/100),1)&F5&" = prezinta risc de neindeplinire cerinte" -> 6,4 unitati pH≤ Rez.< 6,6 unitati pH = prezinta risc de neindeplinire cerinte | M5: =IF(C5="Nu exista","Neaplicabil ptr. ca nu exista limita de specificatie","x") -> x
A6: Determinarea pH-ului | B6: Apă potabilă (utilizată în procesul tehnologic) | C6: Legea 458/2002 cu modificarile si completarile ulterioare (limita superioara maxima) | D6: Apă potabilă (utilizată în procesul tehnologic) | E6: 9.5 | F6: unitati pH | G6: 0.84 | H6: % | I6: RD4 nonbinara -ia in considerare IM | J6: ="Rez.≤"&ROUND(E6-(E6)*(G6/100),1)&F6 &" = Indeplineste cerintele specificate" -> Rez.≤9,4 unitati pH = Indeplineste cerintele specificate | K6: ="Rez.>"&ROUND(E6+(E6)*(G6/100),1)&F6&" = Nu indeplineste cerintele specificate" -> Rez.>9,6 unitati pH = Nu indeplineste cerintele specificate | L6: =ROUND((E6-(E6)*(G6/100)),1)&F6& " < Rez. ≤ "&ROUND(E6+(E6)*(G6/100),1)&F6&" = prezinta risc de neindeplinire cerinte specificate" -> 9,4 unitati pH < Rez. ≤ 9,6 unitati pH = prezinta risc de neindeplinire cerinte specificate | M6: =IF(C6="Nu exista","Neaplicabil ptr. ca nu exista limita de specificatie","x") -> x
A7: Determinarea pH-ului | B7: Apă potabilă (utilizată în procesul tehnologic) | C7: Ordonanta 7/2023 (limita inferioara si superioara) | D7: Apă potabilă (utilizată în procesul tehnologic) | E7: =E5&" -"&E6&F6 -> 6,5 -9,5 unitati pH | F7: unit.pH | G7: 0.73 | H7: % | I7: RD4 nonbinara -ia in considerare IM | J7: =J5&" // "&J6 -> Rez.≥6,6 unitati pH =Indeplineste cerintele specificate // Rez.≤9,4 unitati pH = Indeplineste cerintele specificate | K7: =K5&" // "&K6 -> Rez.<6,4 unitati pH =Nu indeplineste cerintele specificate // Rez.>9,6 unitati pH = Nu indeplineste cerintele specificate | L7: =L5&" // "&L6 -> 6,4 unitati pH≤ Rez.< 6,6 unitati pH = prezinta risc de neindeplinire cerinte // 9,4 unitati pH < Rez. ≤ 9,6 unitati pH = prezinta risc de neindeplinire cerinte specificate | M7: =IF(C7="Nu exista","Neaplicabil ptr. ca nu exista limita de specificatie","x") -> x
A8: Determinarea pH-ului | B8: Carne şi produse de carne | C8: SR 2443:2008 (limita inferioara maxima) | D8: carne porcine (Zvantata, Refrigerata, Congelata) | E8: 5.6 | F8: unitati pH | G8: 1.4 | H8: % | I8: RD1 binara-nu ia in considerare IM | J8: ="Rez.≥"&ROUND(E8+(E8)*(G8/100),1)& F8 &" =Indeplineste cerintele specificate" -> Rez.≥5,7 unitati pH =Indeplineste cerintele specificate | K8: ="Rez.<"&ROUND(E8-(E8)*(G8/100),1)&F8&" =Nu indeplineste cerintele specificate" -> Rez.<5,5 unitati pH =Nu indeplineste cerintele specificate | L8: =ROUND((E8-(E8)*(G8/100)),1)&F8& "≤ Rez.< "&ROUND(E8+(E8)*(G8/100),1)&F8&" = prezinta risc de neindeplinire cerinte" -> 5,5 unitati pH≤ Rez.< 5,7 unitati pH = prezinta risc de neindeplinire cerinte | M8: =IF(C8="Nu exista","Neaplicabil ptr. ca nu exista limita de specificatie","x") -> x | N8: x
A9: Determinarea pH-ului | B9: Carne şi produse de carne | C9: SR 2443:2008 (limita superioara maxima) | D9: carne porcine (Zvantata, Refrigerata, Congelata) | E9: 6.2 | F9: unitati pH | G9: 1.4 | H9: % | I9: RD1 binara-nu ia in considerare IM | J9: ="Rez.≤"&ROUND(E9-(E9)*(G9/100),1)&F9 &" = Indeplineste cerintele specificate" -> Rez.≤6,1 unitati pH = Indeplineste cerintele specificate | K9: ="Rez.>"&ROUND(E9+(E9)*(G9/100),1)&F9&" = Nu indeplineste cerintele specificate" -> Rez.>6,3 unitati pH = Nu indeplineste cerintele specificate | L9: =ROUND((E9-(E9)*(G9/100)),1)&F9& " < Rez. ≤ "&ROUND(E9+(E9)*(G9/100),1)&F9&" = prezinta risc de neindeplinire cerinte specificate" -> 6,1 unitati pH < Rez. ≤ 6,3 unitati pH = prezinta risc de neindeplinire cerinte specificate | M9: =IF(C9="Nu exista","Neaplicabil ptr. ca nu exista limita de specificatie","x") -> x | N9: x
A10: Determinarea pH-ului | B10: Carne şi produse de carne | C10: SR 2443:2008 (limita inferioara si superioara) | D10: carne porcine (Zvantata, Refrigerata, Congelata) | E10: =E8&" -"&E9&F9 -> 5,6 -6,2 unitati pH | F10: unit.pH | G10: 2.2 | H10: % | I10: RD4 nonbinara -ia in considerare IM | J10: =J8&" // "&J9 -> Rez.≥5,7 unitati pH =Indeplineste cerintele specificate // Rez.≤6,1 unitati pH = Indeplineste cerintele specificate | K10: =K8&" // "&K9 -> Rez.<5,5 unitati pH =Nu indeplineste cerintele specificate // Rez.>6,3 unitati pH = Nu indeplineste cerintele specificate | L10: =L8&" // "&L9 -> 5,5 unitati pH≤ Rez.< 5,7 unitati pH = prezinta risc de neindeplinire cerinte // 6,1 unitati pH < Rez. ≤ 6,3 unitati pH = prezinta risc de neindeplinire cerinte specificate | M10: =IF(C10="Nu exista","Neaplicabil ptr. ca nu exista limita de specificatie","x") -> x | N10: xx
A11: Determinarea pH-ului | B11: Carne şi produse de carne | C11: SR 3275:2008 (limita inferioara maxima) | D11: carne ovine si caprine (Zvantata) | E11: 5 | F11: unitati pH | G11: 1.4 | H11: % | I11: RD1 binara-nu ia in considerare IM | J11: ="Rez.≥"&ROUND(E11+(E11)*(G11/100),1)& F11 &" =Indeplineste cerintele specificate" -> Rez.≥5,1 unitati pH =Indeplineste cerintele specificate | K11: ="Rez.<"&ROUND(E11-(E11)*(G11/100),1)&F11&" =Nu indeplineste cerintele specificate" -> Rez.<4,9 unitati pH =Nu indeplineste cerintele specificate | L11: =ROUND((E11-(E11)*(G11/100)),1)&F11& "≤ Rez.< "&ROUND(E11+(E11)*(G11/100),1)&F11&" = prezinta risc de neindeplinire cerinte" -> 4,9 unitati pH≤ Rez.< 5,1 unitati pH = prezinta risc de neindeplinire cerinte | M11: =IF(C11="Nu exista","Neaplicabil ptr. ca nu exista limita de specificatie","x") -> x | N11: r
A12: Determinarea pH-ului | B12: Carne şi produse de carne | C12: SR 3275:2008 (limita superioara maxima) | D12: carne ovine si caprine (Zvantata) | E12: 6 | F12: unitati pH | G12: 1.4 | H12: % | I12: RD1 binara-nu ia in considerare IM | J12: ="Rez.≤"&ROUND(E12-(E12)*(G12/100),1)&F12 &" = Indeplineste cerintele specificate" -> Rez.≤5,9 unitati pH = Indeplineste cerintele specificate | K12: ="Rez.>"&ROUND(E12+(E12)*(G12/100),1)&F12&" = Nu indeplineste cerintele specificate" -> Rez.>6,1 unitati pH = Nu indeplineste cerintele specificate | L12: =ROUND((E12-(E12)*(G12/100)),1)&F12& " < Rez. ≤ "&ROUND(E12+(E12)*(G12/100),1)&F12&" = prezinta risc de neindeplinire cerinte specificate" -> 5,9 unitati pH < Rez. ≤ 6,1 unitati pH = prezinta risc de neindeplinire cerinte specificate | M12: =IF(C12="Nu exista","Neaplicabil ptr. ca nu exista limita de specificatie","x") -> x | N12: r
A13: Determinarea pH-ului | B13: Carne şi produse de carne | C13: SR 3275:2008 (limita inferioara si superioara) | D13: carne ovine si caprine (Zvantata) | E13: =E11&" -"&E12&F12 -> 5 -6 unitati pH | F13: unit.pH | G13: 2.2 | H13: % | I13: RD4 nonbinara -ia in considerare IM | J13: =J11&" // "&J12 -> Rez.≥5,1 unitati pH =Indeplineste cerintele specificate // Rez.≤5,9 unitati pH = Indeplineste cerintele specificate | K13: =K11&" // "&K12 -> Rez.<4,9 unitati pH =Nu indeplineste cerintele specificate // Rez.>6,1 unitati pH = Nu indeplineste cerintele specificate | L13: =L11&" // "&L12 -> 4,9 unitati pH≤ Rez.< 5,1 unitati pH = prezinta risc de neindeplinire cerinte // 5,9 unitati pH < Rez. ≤ 6,1 unitati pH = prezinta risc de neindeplinire cerinte specificate | M13: =IF(C13="Nu exista","Neaplicabil ptr. ca nu exista limita de specificatie","x") -> x | N13: rr
A14: Determinarea pH-ului | B14: Carne şi produse de carne | C14: SR 3275:2008 (limita inferioara maxima) | D14: carne ovine si caprine (Refrigerata, Congelata) | E14: 5.6 | F14: unitati pH | G14: 1.4 | H14: % | I14: RD1 binara-nu ia in considerare IM | J14: ="Rez.≥"&ROUND(E14+(E14)*(G14/100),1)& F14 &" =Indeplineste cerintele specificate" -> Rez.≥5,7 unitati pH =Indeplineste cerintele specificate | K14: ="Rez.<"&ROUND(E14-(E14)*(G14/100),1)&F14&" =Nu indeplineste cerintele specificate" -> Rez.<5,5 unitati pH =Nu indeplineste cerintele specificate | L14: =ROUND((E14-(E14)*(G14/100)),1)&F14& "≤ Rez.< "&ROUND(E14+(E14)*(G14/100),1)&F14&" = prezinta risc de neindeplinire cerinte" -> 5,5 unitati pH≤ Rez.< 5,7 unitati pH = prezinta risc de neindeplinire cerinte | M14: =IF(C14="Nu exista","Neaplicabil ptr. ca nu exista limita de specificatie","x") -> x | N14: z
A15: Determinarea pH-ului | B15: Carne şi produse de carne | C15: SR 3275:2008 (limita superioara maxima) | D15: carne ovine si caprine (Refrigerata, Congelata) | E15: 6.2 | F15: unitati pH | G15: 1.4 | H15: % | I15: RD1 binara-nu ia in considerare IM | J15: ="Rez.≤"&ROUND(E15-(E15)*(G15/100),1)&F15 &" = Indeplineste cerintele specificate" -> Rez.≤6,1 unitati pH = Indeplineste cerintele specificate | K15: ="Rez.>"&ROUND(E15+(E15)*(G15/100),1)&F15&" = Nu indeplineste cerintele specificate" -> Rez.>6,3 unitati pH = Nu indeplineste cerintele specificate | L15: =ROUND((E15-(E15)*(G15/100)),1)&F15& " < Rez. ≤ "&ROUND(E15+(E15)*(G15/100),1)&F15&" = prezinta risc de neindeplinire cerinte specificate" -> 6,1 unitati pH < Rez. ≤ 6,3 unitati pH = prezinta risc de neindeplinire cerinte specificate | M15: =IF(C15="Nu exista","Neaplicabil ptr. ca nu exista limita de specificatie","x") -> x | N15: z
A16: Determinarea pH-ului | B16: Carne şi produse de carne | C16: SR 3275:2008 (limita inferioara si superioara) | D16: carne ovine si caprine (Refrigerata, Congelata) | E16: =E14&" -"&E15&F15 -> 5,6 -6,2 unitati pH | F16: unit.pH | G16: 2.2 | H16: % | I16: RD4 nonbinara -ia in considerare IM | J16: =J14&" // "&J15 -> Rez.≥5,7 unitati pH =Indeplineste cerintele specificate // Rez.≤6,1 unitati pH = Indeplineste cerintele specificate | K16: =K14&" // "&K15 -> Rez.<5,5 unitati pH =Nu indeplineste cerintele specificate // Rez.>6,3 unitati pH = Nu indeplineste cerintele specificate | L16: =L14&" // "&L15 -> 5,5 unitati pH≤ Rez.< 5,7 unitati pH = prezinta risc de neindeplinire cerinte // 6,1 unitati pH < Rez. ≤ 6,3 unitati pH = prezinta risc de neindeplinire cerinte specificate | M16: =IF(C16="Nu exista","Neaplicabil ptr. ca nu exista limita de specificatie","x") -> x | N16: zz
A17: Determinarea pH-ului | B17: Carne şi produse de carne | C17: SR 2713:2008 (limita inferioara maxima) | D17: carne bovine (Zvantata, Refrigerata, Congelata) | E17: 5.6 | F17: unitati pH | G17: 1.4 | H17: % | I17: RD1 binara-nu ia in considerare IM | J17: ="Rez.≥"&ROUND(E17+(E17)*(G17/100),1)& F17 &" =Indeplineste cerintele specificate" -> Rez.≥5,7 unitati pH =Indeplineste cerintele specificate | K17: ="Rez.<"&ROUND(E17-(E17)*(G17/100),1)&F17&" =Nu indeplineste cerintele specificate" -> Rez.<5,5 unitati pH =Nu indeplineste cerintele specificate | L17: =ROUND((E17-(E17)*(G17/100)),1)&F17& "≤ Rez.< "&ROUND(E17+(E17)*(G17/100),1)&F17&" = prezinta risc de neindeplinire cerinte" -> 5,5 unitati pH≤ Rez.< 5,7 unitati pH = prezinta risc de neindeplinire cerinte | M17: =IF(C17="Nu exista","Neaplicabil ptr. ca nu exista limita de specificatie","x") -> x | N17: d
A18: Determinarea pH-ului | B18: Carne şi produse de carne | C18: SR 2713:2008 (limita superioara maxima) | D18: carne bovine (Zvantata, Refrigerata, Congelata) | E18: 6.2 | F18: unitati pH | G18: 1.4 | H18: % | I18: RD1 binara-nu ia in considerare IM | J18: ="Rez.≤"&ROUND(E18-(E18)*(G18/100),1)&F18 &" = Indeplineste cerintele specificate" -> Rez.≤6,1 unitati pH = Indeplineste cerintele specificate | K18: ="Rez.>"&ROUND(E18+(E18)*(G18/100),1)&F18&" = Nu indeplineste cerintele specificate" -> Rez.>6,3 unitati pH = Nu indeplineste cerintele specificate | L18: =ROUND((E18-(E18)*(G18/100)),1)&F18& " < Rez. ≤ "&ROUND(E18+(E18)*(G18/100),1)&F18&" = prezinta risc de neindeplinire cerinte specificate" -> 6,1 unitati pH < Rez. ≤ 6,3 unitati pH = prezinta risc de neindeplinire cerinte specificate | M18: =IF(C18="Nu exista","Neaplicabil ptr. ca nu exista limita de specificatie","x") -> x | N18: d
A19: Determinarea pH-ului | B19: Carne şi produse de carne | C19: SR 2713:2008 (limita inferioara si superioara) | D19: carne bovine (Zvantata, Refrigerata, Congelata) | E19: =E17&" -"&E18&F18 -> 5,6 -6,2 unitati pH | F19: unit.pH | G19: 2.2 | H19: % | I19: RD4 nonbinara -ia in considerare IM | J19: =J17&" // "&J18 -> Rez.≥5,7 unitati pH =Indeplineste cerintele specificate // Rez.≤6,1 unitati pH = Indeplineste cerintele specificate | K19: =K17&" // "&K18 -> Rez.<5,5 unitati pH =Nu indeplineste cerintele specificate // Rez.>6,3 unitati pH = Nu indeplineste cerintele specificate | L19: =L17&" // "&L18 -> 5,5 unitati pH≤ Rez.< 5,7 unitati pH = prezinta risc de neindeplinire cerinte // 6,1 unitati pH < Rez. ≤ 6,3 unitati pH = prezinta risc de neindeplinire cerinte specificate | M19: =IF(C19="Nu exista","Neaplicabil ptr. ca nu exista limita de specificatie","x") -> x | N19: dd
A20: Determinarea pH-ului | B20: Carne şi produse de carne | C20: SR 7031:2008 (limita inferioara maxima) | D20: carne pasare (Refrigerata, Congelata) | E20: 5.6 | F20: unitati pH | G20: 1.4 | H20: % | I20: RD4 nonbinara -ia in considerare IM | J20: ="Rez.≥"&ROUND(E20+(E20)*(G20/100),1)& F20 &" =Indeplineste cerintele specificate" -> Rez.≥5,7 unitati pH =Indeplineste cerintele specificate | K20: ="Rez.<"&ROUND(E20-(E20)*(G20/100),1)&F20&" =Nu indeplineste cerintele specificate" -> Rez.<5,5 unitati pH =Nu indeplineste cerintele specificate | L20: =ROUND((E20-(E20)*(G20/100)),1)&F20& "≤ Rez.< "&ROUND(E20+(E20)*(G20/100),1)&F20&" = prezinta risc de neindeplinire cerinte" -> 5,5 unitati pH≤ Rez.< 5,7 unitati pH = prezinta risc de neindeplinire cerinte | M20: =IF(C20="Nu exista","Neaplicabil ptr. ca nu exista limita de specificatie","x") -> x | N20: f
A21: Determinarea pH-ului | B21: Carne şi produse de carne | C21: SR 7031:2008 (limita superioara maxima) | D21: carne pasare (Refrigerata, Congelata) | E21: 6.2 | F21: unitati pH | G21: 1.4 | H21: % | I21: RD4 nonbinara -ia in considerare IM | J21: ="Rez.≤"&ROUND(E21-(E21)*(G21/100),1)&F21 &" = Indeplineste cerintele specificate" -> Rez.≤6,1 unitati pH = Indeplineste cerintele specificate | K21: ="Rez.>"&ROUND(E21+(E21)*(G21/100),1)&F21&" = Nu indeplineste cerintele specificate" -> Rez.>6,3 unitati pH = Nu indeplineste cerintele specificate | L21: =ROUND((E21-(E21)*(G21/100)),1)&F21& " < Rez. ≤ "&ROUND(E21+(E21)*(G21/100),1)&F21&" = prezinta risc de neindeplinire cerinte specificate" -> 6,1 unitati pH < Rez. ≤ 6,3 unitati pH = prezinta risc de neindeplinire cerinte specificate | M21: =IF(C21="Nu exista","Neaplicabil ptr. ca nu exista limita de specificatie","x") -> x | N21: f
A22: Determinarea pH-ului | B22: Carne şi produse de carne | C22: SR 7031:2008 (limita inferioara si superioara) | D22: carne pasare (Refrigerata, Congelata) | E22: =E20&" -"&E21&F21 -> 5,6 -6,2 unitati pH | F22: unit.pH | G22: 2.2 | H22: % | I22: RD4 nonbinara -ia in considerare IM | J22: =J20&" // "&J21 -> Rez.≥5,7 unitati pH =Indeplineste cerintele specificate // Rez.≤6,1 unitati pH = Indeplineste cerintele specificate | K22: =K20&" // "&K21 -> Rez.<5,5 unitati pH =Nu indeplineste cerintele specificate // Rez.>6,3 unitati pH = Nu indeplineste cerintele specificate | L22: =L20&" // "&L21 -> 5,5 unitati pH≤ Rez.< 5,7 unitati pH = prezinta risc de neindeplinire cerinte // 6,1 unitati pH < Rez. ≤ 6,3 unitati pH = prezinta risc de neindeplinire cerinte specificate | M22: =IF(C22="Nu exista","Neaplicabil ptr. ca nu exista limita de specificatie","x") -> x | N22: ff
A23: Determinarea pH-ului | B23: alte tipuri de matrici | C23: Nu exista | D23: alte tipuri de matrici pentru care nu exista referential de interpretare | E23: x | F23: unitati pH | G23: x | H23: % | I23: "-" | J23: "-" | K23: "-" | L23: "-" | M23: =IF(C23="Nu exista","Neaplicabil ptr. ca nu exista limita de specificatie","x") -> Neaplicabil ptr. ca nu exista limita de specificatie
A25: Isoric versiuni
A26: Nr.vers/data | B26: Descriere modificare
A27: 0/19.03.2021 | B27: versiunea initiala
A28: 1/27.01.2023 | B28: Pentru matricea apa potabila utilizata in procesul tehnologic s-a modificat referentialul de interpretarea ca urmare a abrogarii Legii 458/2002 republicata cu modificarile si completarile ulterioare
A29: 2/29.08.2024 | B29: s-au revizuit im la apa dupa relocarea in sediu nou
A30: 3/03.09.2024 | B30: s-au revizuit im la carne dupa relocarea in sediu nou

Sheet P15
A1: Nr. 5 | I1: vers. in vigoare | K1: Data | L1: 08.12.2025
A2: Cuprins | B2: Cuprins!A1 | I2: istoric | K2: vezi nota subsol
A3: Date din Anexa la Certificat | C3: Date din Referential (Cerinta specificata) | I3: Date furnizate de laborator
A4: Domeniul de activitate / Tehnica de măsurare / Denumirea încercării | B4: Material / produs / obiect supus încercării | C4: Referențial de interpretare (care prevede Limita Specificație) | D4: Matricea | E4: Limita Specificației prevazută în referențial | F4: UM | G4: Incertitudine de Măsurare (IM) relativă pt k=2 (%, ) | I4: Regula de decizie (RD) | J4: Declarația de conformitate pentru rezultatul măsurării | N4: Observații
A5: Determinarea activității fosfatazei alcaline | B5: Lapte şi produse din lapte | C5: Regulamentul UE 627/2019, cu modificarile si completarile ulterioare (limita maxim admisa) | D5: Lapte pasteurizat | E5: 350 | F5: mU/l | G5: 9.6 | H5: % | I5: RD4 nonbinara -ia in considerare IM | J5: ="Rez.≤"&ROUND(E5-(E5)*(G5/100),1)&F5 &" = Indeplineste cerintele specificate" -> Rez.≤316,4mU/l = Indeplineste cerintele specificate | K5: ="Rez.>"&ROUND(E5+(E5)*(G5/100),1)&F5&" = Nu indeplineste cerintele specificate" -> Rez.>383,6mU/l = Nu indeplineste cerintele specificate | L5: =ROUND((E5-(E5)*(G5/100)),1)&F5& " < Rez. ≤ "&ROUND(E5+(E5)*(G5/100),1)&F5&" = prezinta risc de neindeplinire cerinte specificate" -> 316,4mU/l < Rez. ≤ 383,6mU/l = prezinta risc de neindeplinire cerinte specificate | M5: =IF(C5="Nu exista","Neaplicabil ptr. ca nu exista limita de specificatie","x") -> x
A7: Isoric versiuni
A8: Nr.vers/data | B8: Descriere modificare
A9: 0/19.03.2021 | B9: versiunea initiala
A10: 1/12.07.2023 | B10: Inlocuire Reg.CE 1664/2006 cu Reg.UE 627/2019, cu modificarile si completarile ulterioare.
A11: 2/03.09.2024 | B11: s-au revizuit im dupa relocarea in sediu nou
A12: 3/08.12.2025 | B12: s-a revizuit validarea

Sheet P2+P120
A1: Nr. 6 | I1: vers. in vigoare | K1: Data | L1: 45975
A2: Cuprins | B2: Cuprins!A1 | I2: istoric | K2: vezi nota subsol
A3: Date din Anexa la Certificat | C3: Date din Referential (Cerinta specificata) | I3: Date furnizate de laborator
A4: Domeniul de activitate / Tehnica de măsurare / Denumirea încercării | B4: Material / produs / obiect supus încercării | C4: Referențial de interpretare (care prevede Limita Specificație) | D4: Matricea | E4: Limita Specificației prevazută în referențial | F4: UM | G4: Incertitudine de Măsurare (IM) relativă pt k=2 (%, ) | I4: Regula de decizie (RD) | J4: Declarația de conformitate pentru rezultatul măsurării | N4: Observații
A5: Determinarea cenuşii totale/cenușii insolubile în acid clorhidric | B5: Carne şi produse de carne Cazeine Concentrate alimentare Hrană pentru animale Miere | C5: Nu exista | D5: Carne şi produse de carne | E5: x | F5: % | G5: 3.58 | H5: % | I5: "-" | J5: "-" | K5: "-" | L5: "-" | M5: =IF(C5="Nu exista","Neaplicabil ptr. ca nu exista limita de specificatie","x") -> Neaplicabil ptr. ca nu exista limita de specificatie
A6: Determinarea cenuşii totale/cenușii insolubile în acid clorhidric | B6: Carne şi produse de carne Cazeine Concentrate alimentare Hrană pentru animale Miere | C6: Nu exista | D6: Cazeine | E6: x | F6: % | G6: 3.2 | H6: % | I6: "-" | J6: "-" | K6: "-" | L6: "-" | M6: =IF(C6="Nu exista","Neaplicabil ptr. ca nu exista limita de specificatie","x") -> Neaplicabil ptr. ca nu exista limita de specificatie
A7: Determinarea cenuşii totale/cenușii insolubile în acid clorhidric | B7: Carne şi produse de carne Cazeine Concentrate alimentare Hrană pentru animale Miere | C7: Nu exista | D7: Hrană pentru animale | E7: x | F7: % | G7: 8,0 (cenuşa totale) 10,0 (cenusa insolubila) | H7: % | I7: "-" | J7: "-" | K7: "-" | L7: "-" | M7: =IF(C7="Nu exista","Neaplicabil ptr. ca nu exista limita de specificatie","x") -> Neaplicabil ptr. ca nu exista limita de specificatie
A8: Determinarea cenuşii totale/cenușii insolubile în acid clorhidric | B8: Carne şi produse de carne Cazeine Concentrate alimentare Hrană pentru animale Miere | C8: SR 784-2/2009 (limita max. admisa) | D8: Miere | E8: 0.5 | F8: % | G8: 8.68 | H8: % | I8: RD4 nonbinara -ia in considerare IM | J8: ="Rez.≤"&ROUND(E8-(E8)*(G8/100),2)&F8 &" = Indeplineste cerintele specificate" -> Rez.≤0,46% = Indeplineste cerintele specificate | K8: ="Rez.>"&ROUND(E8+(E8)*(G8/100),2)&F8&" = Nu indeplineste cerintele specificate" -> Rez.>0,54% = Nu indeplineste cerintele specificate | L8: =ROUND((E8-(E8)*(G8/100)),2)&F8& " < Rez. ≤ "&ROUND(E8+(E8)*(G8/100),2)&F8&" = prezinta risc de neindeplinire cerinte specificate" -> 0,46% < Rez. ≤ 0,54% = prezinta risc de neindeplinire cerinte specificate | M8: =IF(C8="Nu exista","Neaplicabil ptr. ca nu exista limita de specificatie","x") -> x
A10: Isoric versiuni
A11: Nr.vers/data | B11: Descriere modificare
A12: 0/19.03.2021 | B12: versiunea initiala
A13: 1/10.12.2021 | B13: I.M. carne si produse din carne modificata din 2,74% in 2,52 %
A14: 2/26.08.2024 | B14: s-au revizuit im dupa relocarea in sediu nou
A15: 3/03.09.2024 | B15: s-a revizuit im la carne si produse carne dupa relocare la sediu nou
A16: 4/14.11.2025 | B16: s-a revizuit validarea

Sheet P32
A1: Nr. 7 | I1: vers. in vigoare | K1: Data | M1: 45537
A2: Cuprins | B2: Cuprins!A1 | I2: istoric | K2: vezi nota subsol
A3: Date din Anexa la Certificat | C3: Date din Referential (Cerinta specificata) | I3: Date furnizate de laborator
A4: Domeniul de activitate / Tehnica de măsurare / Denumirea încercării | B4: Material / produs / obiect supus încercării | C4: Referențial de interpretare (care prevede Limita Specificație) | D4: Matricea | E4: Limita Specificației prevazută în referențial | F4: UM | G4: Incertitudine de Măsurare (IM) relativă pt k=2 (%, ) | I4: Regula de decizie (RD) | J4: Declarația de conformitate pentru rezultatul măsurării | N4: Observații
A5: Determinarea conţinutului de celuloză brută | B5: Hrană pentru animale | C5: Nu exista | D5: Hrană pentru animale | E5: x | F5: % | G5: 9 | H5: % | I5: "-" | J5: "-" | K5: "-" | L5: "-" | M5: =IF(C5="Nu exista","Neaplicabil ptr. ca nu exista limita de specificatie","x") -> Neaplicabil ptr. ca nu exista limita de specificatie
A7: Isoric versiuni
A8: Nr.vers/data | B8: Descriere modificare
A9: 0/19.03.2021 | B9: versiunea initiala
A10: 1/02.09.2024 | B10: s-au revizuit im dupa relocarea in sediu nou

Sheet P1+P189
A1: Nr. 8 | I1: vers. in vigoare | J1: 3 | K1: Data | L1: 45904
A2: Cuprins | B2: Cuprins!A1 | I2: istoric | K2: vezi nota subsol
A3: Date din Anexa la Certificat | C3: Date din Referential (Cerinta specificata) | I3: Date furnizate de laborator
A4: Domeniul de activitate / Tehnica de măsurare / Denumirea încercării | B4: Material / produs / obiect supus încercării | C4: Referențial de interpretare (care prevede Limita Specificație) | D4: Matricea | E4: Limita Specificației prevazută în referențial | F4: UM | G4: Incertitudine de Măsurare (IM) relativă pt k=2 (%, ) | I4: Regula de decizie (RD) | J4: Declarația de conformitate pentru rezultatul măsurării | N4: Observații
A5: Determinarea umidității și substanței uscate Determinarea umidității | B5: Carne şi produse de carne | C5: Ord.Comun al MAPDR,MSP,ANPC,ANSVSA Nr.560/1271/339/210/2006 - preparate din carne ( in functie de produs) (apa-limita maxima admisa) | D5: Produse din carne fierte- tobe sangerete, | E5: 70 | F5: % | G5: 1.3 | H5: % | I5: RD4 nonbinara -ia in considerare IM | J5: ="Rez.≤"&ROUND(E5-(E5)*(G5/100),2)&F5 &" = Indeplineste cerintele specificate" -> Rez.≤69,09% = Indeplineste cerintele specificate | K5: ="Rez.>"&ROUND(E5+(E5)*(G5/100),2)&F5&" = Nu indeplineste cerintele specificate" -> Rez.>70,91% = Nu indeplineste cerintele specificate | L5: =ROUND((E5-(E5)*(G5/100)),2)&F5& " < Rez. ≤ "&ROUND(E5+(E5)*(G5/100),2)&F5&" = prezinta risc de neindeplinire cerinte specificate" -> 69,09% < Rez. ≤ 70,91% = prezinta risc de neindeplinire cerinte specificate | M5: =IF(C5="Nu exista","Neaplicabil ptr. ca nu exista limita de specificatie","x") -> x | N5: Se emite declaratie de conformitate, doar daca sunt prezentate date/informatii privind procesul de fabricatie.
A6: Determinarea umidității și substanței uscate Determinarea umidității | B6: Carne şi produse de carne | C6: Ord.Comun al MAPDR,MSP,ANPC,ANSVSA Nr.560/1271/339/210/2006 - preparate din carne ( in functie de produs) (apa-limita maxima admisa) | D6: Produse din carne fierte- caltabos | E6: 72 | F6: % | G6: 1.3 | H6: % | I6: RD4 nonbinara -ia in considerare IM | J6: ="Rez.≤"&ROUND(E6-(E6)*(G6/100),2)&F6 &" = Indeplineste cerintele specificate" -> Rez.≤71,06% = Indeplineste cerintele specificate | K6: ="Rez.>"&ROUND(E6+(E6)*(G6/100),2)&F6&" = Nu indeplineste cerintele specificate" -> Rez.>72,94% = Nu indeplineste cerintele specificate | L6: =ROUND((E6-(E6)*(G6/100)),2)&F6& " < Rez. ≤ "&ROUND(E6+(E6)*(G6/100),2)&F6&" = prezinta risc de neindeplinire cerinte specificate" -> 71,06% < Rez. ≤ 72,94% = prezinta risc de neindeplinire cerinte specificate | M6: =IF(C6="Nu exista","Neaplicabil ptr. ca nu exista limita de specificatie","x") -> x | N6: Se emite declaratie de conformitate, doar daca sunt prezentate date/informatii privind procesul de fabricatie.
A7: Determinarea umidității și substanței uscate Determinarea umidității | B7: Carne şi produse de carne | C7: Ord.Comun al MAPDR,MSP,ANPC,ANSVSA Nr.560/1271/339/210/2006 - preparate din carne ( in functie de produs) (apa-limita maxima admisa) | D7: Produse din carne fierte- paste (carne) | E7: 73 | F7: % | G7: 1.3 | H7: % | I7: RD4 nonbinara -ia in considerare IM | J7: ="Rez.≤"&ROUND(E7-(E7)*(G7/100),2)&F7 &" = Indeplineste cerintele specificate" -> Rez.≤72,05% = Indeplineste cerintele specificate | K7: ="Rez.>"&ROUND(E7+(E7)*(G7/100),2)&F7&" = Nu indeplineste cerintele specificate" -> Rez.>73,95% = Nu indeplineste cerintele specificate | L7: =ROUND((E7-(E7)*(G7/100)),2)&F7& " < Rez. ≤ "&ROUND(E7+(E7)*(G7/100),2)&F7&" = prezinta risc de neindeplinire cerinte specificate" -> 72,05% < Rez. ≤ 73,95% = prezinta risc de neindeplinire cerinte specificate | M7: =IF(C7="Nu exista","Neaplicabil ptr. ca nu exista limita de specificatie","x") -> x | N7: Se emite declaratie de conformitate, doar daca sunt prezentate date/informatii privind procesul de fabricatie.
A8: Determinarea umidității și substanței uscate Determinarea umidității | B8: Carne şi produse de carne | C8: Ord.Comun al MAPDR,MSP,ANPC,ANSVSA Nr.560/1271/339/210/2006 - preparate din carne ( in functie de produs) (apa-limita maxima admisa) | D8: Produse din carne fierte- Salamuri, carnati-fara structura | E8: 70 | F8: % | G8: 1.3 | H8: % | I8: RD4 nonbinara -ia in considerare IM | J8: ="Rez.≤"&ROUND(E8-(E8)*(G8/100),2)&F8 &" = Indeplineste cerintele specificate" -> Rez.≤69,09% = Indeplineste cerintele specificate | K8: ="Rez.>"&ROUND(E8+(E8)*(G8/100),2)&F8&" = Nu indeplineste cerintele specificate" -> Rez.>70,91% = Nu indeplineste cerintele specificate | L8: =ROUND((E8-(E8)*(G8/100)),2)&F8& " < Rez. ≤ "&ROUND(E8+(E8)*(G8/100),2)&F8&" = prezinta risc de neindeplinire cerinte specificate" -> 69,09% < Rez. ≤ 70,91% = prezinta risc de neindeplinire cerinte specificate | M8: =IF(C8="Nu exista","Neaplicabil ptr. ca nu exista limita de specificatie","x") -> x | N8: Se emite declaratie de conformitate, doar daca sunt prezentate date/informatii privind procesul de fabricatie.
A9: Determinarea umidității și substanței uscate Determinarea umidității | B9: Carne şi produse de carne | C9: Ord.Comun al MAPDR,MSP,ANPC,ANSVSA Nr.560/1271/339/210/2006 - preparate din carne ( in functie de produs) (apa-limita maxima admisa) | D9: Produse din carne fierte- Salamuri, carnati-cu structura | E9: 68 | F9: % | G9: 1.3 | H9: % | I9: RD4 nonbinara -ia in considerare IM | J9: ="Rez.≤"&ROUND(E9-(E9)*(G9/100),2)&F9 &" = Indeplineste cerintele specificate" -> Rez.≤67,12% = Indeplineste cerintele specificate | K9: ="Rez.>"&ROUND(E9+(E9)*(G9/100),2)&F9&" = Nu indeplineste cerintele specificate" -> Rez.>68,88% = Nu indeplineste cerintele specificate | L9: =ROUND((E9-(E9)*(G9/100)),2)&F9& " < Rez. ≤ "&ROUND(E9+(E9)*(G9/100),2)&F9&" = prezinta risc de neindeplinire cerinte specificate" -> 67,12% < Rez. ≤ 68,88% = prezinta risc de neindeplinire cerinte specificate | M9: =IF(C9="Nu exista","Neaplicabil ptr. ca nu exista limita de specificatie","x") -> x | N9: Se emite declaratie de conformitate, doar daca sunt prezentate date/informatii privind procesul de fabricatie.
A10: Determinarea umidității și substanței uscate Determinarea umidității | B10: Carne şi produse de carne | C10: Ord.Comun al MAPDR,MSP,ANPC,ANSVSA Nr.560/1271/339/210/2006 - preparate din carne ( in functie de produs) (apa-limita maxima admisa) | D10: Produse din carne, afumate -carnati afumati la rece | E10: 58 | F10: % | G10: 1.3 | H10: % | I10: RD4 nonbinara -ia in considerare IM | J10: ="Rez.≤"&ROUND(E10-(E10)*(G10/100),2)&F10 &" = Indeplineste cerintele specificate" -> Rez.≤57,25% = Indeplineste cerintele specificate | K10: ="Rez.>"&ROUND(E10+(E10)*(G10/100),2)&F10&" = Nu indeplineste cerintele specificate" -> Rez.>58,75% = Nu indeplineste cerintele specificate | L10: =ROUND((E10-(E10)*(G10/100)),2)&F10& " < Rez. ≤ "&ROUND(E10+(E10)*(G10/100),2)&F10&" = prezinta risc de neindeplinire cerinte specificate" -> 57,25% < Rez. ≤ 58,75% = prezinta risc de neindeplinire cerinte specificate | M10: =IF(C10="Nu exista","Neaplicabil ptr. ca nu exista limita de specificatie","x") -> x | N10: Se emite declaratie de conformitate, doar daca sunt prezentate date/informatii privind procesul de fabricatie.
A11: Determinarea umidității și substanței uscate Determinarea umidității | B11: Carne şi produse de carne | C11: Ord.Comun al MAPDR,MSP,ANPC,ANSVSA Nr.560/1271/339/210/2006 - preparate din carne ( in functie de produs) (apa-limita maxima admisa) | D11: Produse din carne, afumate si fierte Salamuri fara structura Carnati fara structura, | E11: 70 | F11: % | G11: 1.3 | H11: % | I11: RD4 nonbinara -ia in considerare IM | J11: ="Rez.≤"&ROUND(E11-(E11)*(G11/100),2)&F11 &" = Indeplineste cerintele specificate" -> Rez.≤69,09% = Indeplineste cerintele specificate | K11: ="Rez.>"&ROUND(E11+(E11)*(G11/100),2)&F11&" = Nu indeplineste cerintele specificate" -> Rez.>70,91% = Nu indeplineste cerintele specificate | L11: =ROUND((E11-(E11)*(G11/100)),2)&F11& " < Rez. ≤ "&ROUND(E11+(E11)*(G11/100),2)&F11&" = prezinta risc de neindeplinire cerinte specificate" -> 69,09% < Rez. ≤ 70,91% = prezinta risc de neindeplinire cerinte specificate | M11: =IF(C11="Nu exista","Neaplicabil ptr. ca nu exista limita de specificatie","x") -> x | N11: Se emite declaratie de conformitate, doar daca sunt prezentate date/informatii privind procesul de fabricatie.
A12: Determinarea umidității și substanței uscate Determinarea umidității | B12: Carne şi produse de carne | C12: Ord.Comun al MAPDR,MSP,ANPC,ANSVSA Nr.560/1271/339/210/2006 - preparate din carne ( in functie de produs) (apa-limita maxima admisa) | D12: Produse din carne, afumate si fierte Salamuri cu structura | E12: 66 | F12: % | G12: 1.3 | H12: % | I12: RD4 nonbinara -ia in considerare IM | J12: ="Rez.≤"&ROUND(E12-(E12)*(G12/100),2)&F12 &" = Indeplineste cerintele specificate" -> Rez.≤65,14% = Indeplineste cerintele specificate | K12: ="Rez.>"&ROUND(E12+(E12)*(G12/100),2)&F12&" = Nu indeplineste cerintele specificate" -> Rez.>66,86% = Nu indeplineste cerintele specificate | L12: =ROUND((E12-(E12)*(G12/100)),2)&F12& " < Rez. ≤ "&ROUND(E12+(E12)*(G12/100),2)&F12&" = prezinta risc de neindeplinire cerinte specificate" -> 65,14% < Rez. ≤ 66,86% = prezinta risc de neindeplinire cerinte specificate | M12: =IF(C12="Nu exista","Neaplicabil ptr. ca nu exista limita de specificatie","x") -> x | N12: Se emite declaratie de conformitate, doar daca sunt prezentate date/informatii privind procesul de fabricatie.
A13: Determinarea umidității și substanței uscate Determinarea umidității | B13: Carne şi produse de carne | C13: Ord.Comun al MAPDR,MSP,ANPC,ANSVSA Nr.560/1271/339/210/2006 - preparate din carne ( in functie de produs) (apa-limita maxima admisa) | D13: Produse din carne, afumate si fierte Carnati cu structura | E13: 65 | F13: % | G13: 1.3 | H13: % | I13: RD4 nonbinara -ia in considerare IM | J13: ="Rez.≤"&ROUND(E13-(E13)*(G13/100),2)&F13 &" = Indeplineste cerintele specificate" -> Rez.≤64,16% = Indeplineste cerintele specificate | K13: ="Rez.>"&ROUND(E13+(E13)*(G13/100),2)&F13&" = Nu indeplineste cerintele specificate" -> Rez.>65,85% = Nu indeplineste cerintele specificate | L13: =ROUND((E13-(E13)*(G13/100)),2)&F13& " < Rez. ≤ "&ROUND(E13+(E13)*(G13/100),2)&F13&" = prezinta risc de neindeplinire cerinte specificate" -> 64,16% < Rez. ≤ 65,85% = prezinta risc de neindeplinire cerinte specificate | M13: =IF(C13="Nu exista","Neaplicabil ptr. ca nu exista limita de specificatie","x") -> x | N13: Se emite declaratie de conformitate, doar daca sunt prezentate date/informatii privind procesul de fabricatie.
A14: Determinarea umidității și substanței uscate Determinarea umidității | B14: Carne şi produse de carne | C14: Ord.Comun al MAPDR,MSP,ANPC,ANSVSA Nr.560/1271/339/210/2006 - preparate din carne ( in functie de produs) (apa-limita maxima admisa) | D14: Produse din carne fierte si dublu afumate - salamuri, - carnati, | E14: 50 | F14: % | G14: 1.3 | H14: % | I14: RD4 nonbinara -ia in considerare IM | J14: ="Rez.≤"&ROUND(E14-(E14)*(G14/100),2)&F14 &" = Indeplineste cerintele specificate" -> Rez.≤49,35% = Indeplineste cerintele specificate | K14: ="Rez.>"&ROUND(E14+(E14)*(G14/100),2)&F14&" = Nu indeplineste cerintele specificate" -> Rez.>50,65% = Nu indeplineste cerintele specificate | L14: =ROUND((E14-(E14)*(G14/100)),2)&F14& " < Rez. ≤ "&ROUND(E14+(E14)*(G14/100),2)&F14&" = prezinta risc de neindeplinire cerinte specificate" -> 49,35% < Rez. ≤ 50,65% = prezinta risc de neindeplinire cerinte specificate | M14: =IF(C14="Nu exista","Neaplicabil ptr. ca nu exista limita de specificatie","x") -> x | N14: Se emite declaratie de conformitate, doar daca sunt prezentate date/informatii privind procesul de fabricatie.
A15: Determinarea umidității și substanței uscate Determinarea umidității | B15: Carne şi produse de carne | C15: Ord.Comun al MAPDR,MSP,ANPC,ANSVSA Nr.560/1271/339/210/2006 - preparate din carne ( in functie de produs) (apa-limita maxima admisa) | D15: Produse din carne fierte si dublu afumate si uscate - salamuri, - carnati, | E15: 48 | F15: % | G15: 1.3 | H15: % | I15: RD4 nonbinara -ia in considerare IM | J15: ="Rez.≤"&ROUND(E15-(E15)*(G15/100),2)&F15 &" = Indeplineste cerintele specificate" -> Rez.≤47,38% = Indeplineste cerintele specificate | K15: ="Rez.>"&ROUND(E15+(E15)*(G15/100),2)&F15&" = Nu indeplineste cerintele specificate" -> Rez.>48,62% = Nu indeplineste cerintele specificate | L15: =ROUND((E15-(E15)*(G15/100)),2)&F15& " < Rez. ≤ "&ROUND(E15+(E15)*(G15/100),2)&F15&" = prezinta risc de neindeplinire cerinte specificate" -> 47,38% < Rez. ≤ 48,62% = prezinta risc de neindeplinire cerinte specificate | M15: =IF(C15="Nu exista","Neaplicabil ptr. ca nu exista limita de specificatie","x") -> x | N15: Se emite declaratie de conformitate, doar daca sunt prezentate date/informatii privind procesul de fabricatie.
A16: Determinarea umidității și substanței uscate Determinarea umidității | B16: Carne şi produse de carne | C16: Ord.Comun al MAPDR,MSP,ANPC,ANSVSA Nr.560/1271/339/210/2006 - preparate din carne ( in functie de produs) (apa-limita maxima admisa) | D16: Produse din carne crude- uscate salam de Sibiu | E16: 30 | F16: % | G16: 1.3 | H16: % | I16: RD4 nonbinara -ia in considerare IM | J16: ="Rez.≤"&ROUND(E16-(E16)*(G16/100),2)&F16 &" = Indeplineste cerintele specificate" -> Rez.≤29,61% = Indeplineste cerintele specificate | K16: ="Rez.>"&ROUND(E16+(E16)*(G16/100),2)&F16&" = Nu indeplineste cerintele specificate" -> Rez.>30,39% = Nu indeplineste cerintele specificate | L16: =ROUND((E16-(E16)*(G16/100)),2)&F16& " < Rez. ≤ "&ROUND(E16+(E16)*(G16/100),2)&F16&" = prezinta risc de neindeplinire cerinte specificate" -> 29,61% < Rez. ≤ 30,39% = prezinta risc de neindeplinire cerinte specificate | M16: =IF(C16="Nu exista","Neaplicabil ptr. ca nu exista limita de specificatie","x") -> x | N16: Se emite declaratie de conformitate, doar daca sunt prezentate date/informatii privind procesul de fabricatie.
... A22: Determinarea umidității și substanței uscate Determinarea umidității | B22: Carne şi produse de carne | C22: Ord.Comun al MAPDR,MSP,ANPC,ANSVSA Nr.560/1271/339/210/2006 - preparate din carne ( in functie de produs) (apa-limita maxima admisa) | D22: Produse din carne sterilizate - conserve pentru copii | E22: 85 | F22: % | G22: 1.3 | H22: % | I22: RD4 nonbinara -ia in considerare IM | J22: ="Rez.≤"&ROUND(E22-(E22)*(G22/100),2)&F22 &" = Indeplineste cerintele specificate" -> Rez.≤83,9% = Indeplineste cerintele specificate | K22: ="Rez.>"&ROUND(E22+(E22)*(G22/100),2)&F22&" = Nu indeplineste cerintele specificate" -> Rez.>86,11% = Nu indeplineste cerintele specificate | L22: =ROUND((E22-(E22)*(G22/100)),2)&F22& " < Rez. ≤ "&ROUND(E22+(E22)*(G22/100),2)&F22&" = prezinta risc de neindeplinire cerinte specificate" -> 83,9% < Rez. ≤ 86,11% = prezinta risc de neindeplinire cerinte specificate | M22: =IF(C22="Nu exista","Neaplicabil ptr. ca nu exista limita de specificatie","x") -> x | N22: Se emite declaratie de conformitate, doar daca sunt prezentate date/informatii privind procesul de fabricatie.
A23: Determinarea umidității și substanței uscate Determinarea umidității | B23: peste | C23: Nu exista | D23: peste | E23: x | F23: % | G23: 0,82 | H23: % | I23: "-" | J23: x | K23: x | L23: x | M23: =IF(C23="Nu exista","Neaplicabil ptr. ca nu exista limita de specificatie","x") -> Neaplicabil ptr. ca nu exista limita de specificatie
A24: Determinarea umidității și substanței uscate Determinarea umidității | B24: fructe de mare | C24: Nu exista | D24: fructe de mare | E24: x | F24: % | G24: 0,90 | H24: % | I24: "-" | J24: x | K24: x | L24: x | M24: =IF(C24="Nu exista","Neaplicabil ptr. ca nu exista limita de specificatie","x") -> Neaplicabil ptr. ca nu exista limita de specificatie
A25: Determinarea umidității și substanței uscate Determinarea umidității Determinarea substanței uscate | B25: Hrană pentru animale | C25: Nu exista | D25: Hrană pentru animale | E25: x | F25: % | G25: 3.2 | H25: % | I25: "-" | J25: x | K25: x | L25: x | M25: =IF(C25="Nu exista","Neaplicabil ptr. ca nu exista limita de specificatie","x") -> Neaplicabil ptr. ca nu exista limita de specificatie | N25: Se emite declaratie de conformitate, doar daca sunt prezentate date/informatii privind procesul de fabricatie.
A26: Determinarea umidității și substanței uscate Determinarea umidității Determinarea substanței uscate | B26: Unt | C26: Nu exista | D26: Unt | E26: x | F26: % | G26: 1.3 | H26: % | I26: "-" | J26: x | K26: x | L26: x | M26: =IF(C26="Nu exista","Neaplicabil ptr. ca nu exista limita de specificatie","x") -> Neaplicabil ptr. ca nu exista limita de specificatie | N26: Se emite declaratie de conformitate, doar daca sunt prezentate date/informatii privind procesul de fabricatie.
A27: Determinarea umidității și substanței uscate Determinarea umidității Determinarea substanței uscate | B27: Brânzeturi şi brânzeturi procesate | C27: SR 1286+A1:1997 pt. branzeturi cu pasta oparita (cascaval) (Subst. uscata limita minima) | D27: branzeturi cu pasta oparita (cascaval) -din lapte de oaie, -din lapte amestec lapte bivolita si vaca, | E27: 57 | F27: % | G27: 0.6 | H27: % | I27: RD4 nonbinara -ia in considerare IM | J27: ="Rez.≥"&ROUND(E27+(E27)*(G27/100),2)& F27 &" =Indeplineste cerintele specificate" -> Rez.≥57,34% =Indeplineste cerintele specificate | K27: ="Rez.<"&ROUND(E27-(E27)*(G27/100),2)&F27&" =Nu indeplineste cerintele specificate" -> Rez.<56,66% =Nu indeplineste cerintele specificate | L27: =ROUND((E27-(E27)*(G27/100)),2)&F27& "≤ Rez.< "&ROUND(E27+(E27)*(G27/100),2)&F27&" = prezinta risc de neindeplinire cerinte" -> 56,66%≤ Rez.< 57,34% = prezinta risc de neindeplinire cerinte | M27: =IF(C27="Nu exista","Neaplicabil ptr. ca nu exista limita de specificatie","x") -> x | N27: Se emite declaratie de conformitate, doar daca sunt prezentate date/informatii privind procesul de fabricatie.
A28: Determinarea umidității și substanței uscate Determinarea umidității Determinarea substanței uscate | B28: Brânzeturi şi brânzeturi procesate | C28: SR 1286+A1:1997 pt. branzeturi cu pasta oparita (cascaval) (Subst. uscata limita minima) | D28: branzeturi cu pasta oparita (cascaval) -din lapte amestec lapte oaie si vaca, | E28: 55 | F28: % | G28: 0.6 | H28: % | I28: RD4 nonbinara -ia in considerare IM | J28: ="Rez.≥"&ROUND(E28+(E28)*(G28/100),2)& F28 &" =Indeplineste cerintele specificate" -> Rez.≥55,33% =Indeplineste cerintele specificate | K28: ="Rez.<"&ROUND(E28-(E28)*(G28/100),2)&F28&" =Nu indeplineste cerintele specificate" -> Rez.<54,67% =Nu indeplineste cerintele specificate | L28: =ROUND((E28-(E28)*(G28/100)),2)&F28& "≤ Rez.< "&ROUND(E28+(E28)*(G28/100),2)&F28&" = prezinta risc de neindeplinire cerinte" -> 54,67%≤ Rez.< 55,33% = prezinta risc de neindeplinire cerinte | M28: =IF(C28="Nu exista","Neaplicabil ptr. ca nu exista limita de specificatie","x") -> x | N28: Se emite declaratie de conformitate, doar daca sunt prezentate date/informatii privind procesul de fabricatie.
A29: Determinarea umidității și substanței uscate Determinarea umidității Determinarea substanței uscate | B29: Brânzeturi şi brânzeturi procesate | C29: SR 1286+A1:1997 pt. branzeturi cu pasta oparita (cascaval) (Subst. uscata limita minima) | D29: branzeturi cu pasta oparita (cascaval) -din lapte de vaca | E29: 52 | F29: % | G29: 0.6 | H29: % | I29: RD4 nonbinara -ia in considerare IM | J29: ="Rez.≥"&ROUND(E29+(E29)*(G29/100),2)& F29 &" =Indeplineste cerintele specificate" -> Rez.≥52,31% =Indeplineste cerintele specificate | K29: ="Rez.<"&ROUND(E29-(E29)*(G29/100),2)&F29&" =Nu indeplineste cerintele specificate" -> Rez.<51,69% =Nu indeplineste cerintele specificate | L29: =ROUND((E29-(E29)*(G29/100)),2)&F29& "≤ Rez.< "&ROUND(E29+(E29)*(G29/100),2)&F29&" = prezinta risc de neindeplinire cerinte" -> 51,69%≤ Rez.< 52,31% = prezinta risc de neindeplinire cerinte | M29: =IF(C29="Nu exista","Neaplicabil ptr. ca nu exista limita de specificatie","x") -> x | N29: Se emite declaratie de conformitate, doar daca sunt prezentate date/informatii privind procesul de fabricatie.
A30: Determinarea umidității și substanței uscate Determinarea umidității Determinarea substanței uscate | B30: Brânzeturi şi brânzeturi procesate | C30: SR 1286+A1:1997 pt. branzeturi cu pasta oparita (cascaval) (Subst. uscata limita minima) | D30: branzeturi cu pasta oparita (cascaval) -din lapte de vaca, -din lapte de oaie | E30: 50 | F30: % | G30: 0.6 | H30: % | I30: RD4 nonbinara -ia in considerare IM | J30: ="Rez.≥"&ROUND(E30+(E30)*(G30/100),2)& F30 &" =Indeplineste cerintele specificate" -> Rez.≥50,3% =Indeplineste cerintele specificate | K30: ="Rez.<"&ROUND(E30-(E30)*(G30/100),2)&F30&" =Nu indeplineste cerintele specificate" -> Rez.<49,7% =Nu indeplineste cerintele specificate | L30: =ROUND((E30-(E30)*(G30/100)),2)&F30& "≤ Rez.< "&ROUND(E30+(E30)*(G30/100),2)&F30&" = prezinta risc de neindeplinire cerinte" -> 49,7%≤ Rez.< 50,3% = prezinta risc de neindeplinire cerinte | M30: =IF(C30="Nu exista","Neaplicabil ptr. ca nu exista limita de specificatie","x") -> x | N30: Se emite declaratie de conformitate, doar daca sunt prezentate date/informatii privind procesul de fabricatie.
A31: Determinarea umidității și substanței uscate Determinarea umidității Determinarea substanței uscate | B31: Brânzeturi şi brânzeturi procesate | C31: SR 1286+A1:1997 pt. branzeturi cu pasta oparita (cascaval) (Subst. uscata limita minima) | D31: branzeturi cu pasta oparita (cascaval) -din lapte de vaca -din lapte de oaie | E31: 50 | F31: % | G31: 0.6 | H31: % | I31: RD4 nonbinara -ia in considerare IM | J31: ="Rez.≥"&ROUND(E31+(E31)*(G31/100),2)& F31 &" =Indeplineste cerintele specificate" -> Rez.≥50,3% =Indeplineste cerintele specificate | K31: ="Rez.<"&ROUND(E31-(E31)*(G31/100),2)&F31&" =Nu indeplineste cerintele specificate" -> Rez.<49,7% =Nu indeplineste cerintele specificate | L31: =ROUND((E31-(E31)*(G31/100)),2)&F31& "≤ Rez.< "&ROUND(E31+(E31)*(G31/100),2)&F31&" = prezinta risc de neindeplinire cerinte" -> 49,7%≤ Rez.< 50,3% = prezinta risc de neindeplinire cerinte | M31: =IF(C31="Nu exista","Neaplicabil ptr. ca nu exista limita de specificatie","x") -> x | N31: Se emite declaratie de conformitate, doar daca sunt prezentate date/informatii privind procesul de fabricatie.
A32: Determinarea umidității și substanței uscate Determinarea umidității Determinarea substanței uscate | B32: Brânzeturi şi brânzeturi procesate | C32: SR 1981/2008 Brânză telemea (apa -limita maxima admisa) | D32: Brânză telemea Maturata oaie, Maturata bivolita, Maturata vaca sup, Maturata mixta, | E32: 55 | F32: % | G32: 0.6 | H32: % | I32: RD4 nonbinara -ia in considerare IM | J32: ="Rez.≤"&ROUND(E32-(E32)*(G32/100),2)&F32 &" = Indeplineste cerintele specificate" -> Rez.≤54,67% = Indeplineste cerintele specificate | K32: ="Rez.>"&ROUND(E32+(E32)*(G32/100),2)&F32&" = Nu indeplineste cerintele specificate" -> Rez.>55,33% = Nu indeplineste cerintele specificate | L32: =ROUND((E32-(E32)*(G32/100)),2)&F32& " < Rez. ≤ "&ROUND(E32+(E32)*(G32/100),2)&F32&" = prezinta risc de neindeplinire cerinte specificate" -> 54,67% < Rez. ≤ 55,33% = prezinta risc de neindeplinire cerinte specificate | M32: =IF(C32="Nu exista","Neaplicabil ptr. ca nu exista limita de specificatie","x") -> x | N32: Se emite declaratie de conformitate, doar daca sunt prezentate date/informatii privind procesul de fabricatie.
A33: Determinarea umidității și substanței uscate Determinarea umidității Determinarea substanței uscate | B33: Brânzeturi şi brânzeturi procesate | C33: SR 1981/2008 Brânză telemea (apa -limita maxima admisa) | D33: Brânză telemea Maturata vaca I,II Proaspata de oaie, | E33: 57 | F33: % | G33: 0.6 | H33: % | I33: RD4 nonbinara -ia in considerare IM | J33: ="Rez.≤"&ROUND(E33-(E33)*(G33/100),2)&F33 &" = Indeplineste cerintele specificate" -> Rez.≤56,66% = Indeplineste cerintele specificate | K33: ="Rez.>"&ROUND(E33+(E33)*(G33/100),2)&F33&" = Nu indeplineste cerintele specificate" -> Rez.>57,34% = Nu indeplineste cerintele specificate | L33: =ROUND((E33-(E33)*(G33/100)),2)&F33& " < Rez. ≤ "&ROUND(E33+(E33)*(G33/100),2)&F33&" = prezinta risc de neindeplinire cerinte specificate" -> 56,66% < Rez. ≤ 57,34% = prezinta risc de neindeplinire cerinte specificate | M33: =IF(C33="Nu exista","Neaplicabil ptr. ca nu exista limita de specificatie","x") -> x | N33: Se emite declaratie de conformitate, doar daca sunt prezentate date/informatii privind procesul de fabricatie.
A34: Determinarea umidității și substanței uscate Determinarea umidității Determinarea substanței uscate | B34: Brânzeturi şi brânzeturi procesate | C34: SR 1981/2008 Brânză telemea (apa -limita maxima admisa) | D34: Brânză telemea Proaspata de vaca, | E34: 60 | F34: % | G34: 0.6 | H34: % | I34: RD4 nonbinara -ia in considerare IM | J34: ="Rez.≤"&ROUND(E34-(E34)*(G34/100),2)&F34 &" = Indeplineste cerintele specificate" -> Rez.≤59,64% = Indeplineste cerintele specificate | K34: ="Rez.>"&ROUND(E34+(E34)*(G34/100),2)&F34&" = Nu indeplineste cerintele specificate" -> Rez.>60,36% = Nu indeplineste cerintele specificate | L34: =ROUND((E34-(E34)*(G34/100)),2)&F34& " < Rez. ≤ "&ROUND(E34+(E34)*(G34/100),2)&F34&" = prezinta risc de neindeplinire cerinte specificate" -> 59,64% < Rez. ≤ 60,36% = prezinta risc de neindeplinire cerinte specificate | M34: =IF(C34="Nu exista","Neaplicabil ptr. ca nu exista limita de specificatie","x") -> x | N34: Se emite declaratie de conformitate, doar daca sunt prezentate date/informatii privind procesul de fabricatie.
A35: Determinarea umidității și substanței uscate Determinarea umidității Determinarea substanței uscate | B35: Brânzeturi şi brânzeturi procesate | C35: SR 3664/2008 Brânză prospătă de vacă (Subst. uscata limita minima) | D35: Brânză prospătă de vacă-Foarte grasa | E35: 40 | F35: % | G35: 0.6 | H35: % | I35: RD4 nonbinara -ia in considerare IM | J35: ="Rez.≥"&ROUND(E35+(E35)*(G35/100),2)& F35 &" =Indeplineste cerintele specificate" -> Rez.≥40,24% =Indeplineste cerintele specificate | K35: ="Rez.<"&ROUND(E35-(E35)*(G35/100),2)&F35&" =Nu indeplineste cerintele specificate" -> Rez.<39,76% =Nu indeplineste cerintele specificate | L35: =ROUND((E35-(E35)*(G35/100)),2)&F35& "≤ Rez.< "&ROUND(E35+(E35)*(G35/100),2)&F35&" = prezinta risc de neindeplinire cerinte" -> 39,76%≤ Rez.< 40,24% = prezinta risc de neindeplinire cerinte | M35: =IF(C35="Nu exista","Neaplicabil ptr. ca nu exista limita de specificatie","x") -> x | N35: Se emite declaratie de conformitate, doar daca sunt prezentate date/informatii privind procesul de fabricatie.
A36: Determinarea umidității și substanței uscate Determinarea umidității Determinarea substanței uscate | B36: Brânzeturi şi brânzeturi procesate | C36: SR 3664/2008 Brânză prospătă de vacă (Subst. uscata limita minima) | D36: Brânză prospătă de vacă-Grasa | E36: 30 | F36: % | G36: 0.6 | H36: % | I36: RD4 nonbinara -ia in considerare IM | J36: ="Rez.≥"&ROUND(E36+(E36)*(G36/100),2)& F36 &" =Indeplineste cerintele specificate" -> Rez.≥30,18% =Indeplineste cerintele specificate | K36: ="Rez.<"&ROUND(E36-(E36)*(G36/100),2)&F36&" =Nu indeplineste cerintele specificate" -> Rez.<29,82% =Nu indeplineste cerintele specificate | L36: =ROUND((E36-(E36)*(G36/100)),2)&F36& "≤ Rez.< "&ROUND(E36+(E36)*(G36/100),2)&F36&" = prezinta risc de neindeplinire cerinte" -> 29,82%≤ Rez.< 30,18% = prezinta risc de neindeplinire cerinte | M36: =IF(C36="Nu exista","Neaplicabil ptr. ca nu exista limita de specificatie","x") -> x | N36: Se emite declaratie de conformitate, doar daca sunt prezentate date/informatii privind procesul de fabricatie.
A37: Determinarea umidității și substanței uscate Determinarea umidității Determinarea substanței uscate | B37: Brânzeturi şi brânzeturi procesate | C37: SR 3664/2008 Brânză prospătă de vacă (Subst. uscata limita minima) | D37: Brânză prospătă de vacă -Semigrasa -Slaba | E37: 20 | F37: % | G37: 0.6 | H37: % | I37: RD4 nonbinara -ia in considerare IM | J37: ="Rez.≥"&ROUND(E37+(E37)*(G37/100),2)& F37 &" =Indeplineste cerintele specificate" -> Rez.≥20,12% =Indeplineste cerintele specificate | K37: ="Rez.<"&ROUND(E37-(E37)*(G37/100),2)&F37&" =Nu indeplineste cerintele specificate" -> Rez.<19,88% =Nu indeplineste cerintele specificate | L37: =ROUND((E37-(E37)*(G37/100)),2)&F37& "≤ Rez.< "&ROUND(E37+(E37)*(G37/100),2)&F37&" = prezinta risc de neindeplinire cerinte" -> 19,88%≤ Rez.< 20,12% = prezinta risc de neindeplinire cerinte | M37: =IF(C37="Nu exista","Neaplicabil ptr. ca nu exista limita de specificatie","x") -> x | N37: Se emite declaratie de conformitate, doar daca sunt prezentate date/informatii privind procesul de fabricatie.
A38: Determinarea umidității și substanței uscate Determinarea umidității Determinarea substanței uscate | B38: Lapte, smântână și lapte condensat | C38: SR 143/2008 pt. lapte consum; (Subst. uscata limita minima) | D38: Lapte normalizat, Lapte smantanit | E38: 8.5 | F38: % | G38: 1.2 | H38: % | I38: RD4 nonbinara -ia in considerare IM | J38: ="Rez.≥"&ROUND(E38+(E38)*(G38/100),2)& F38 &" =Indeplineste cerintele specificate" -> Rez.≥8,6% =Indeplineste cerintele specificate | K38: ="Rez.<"&ROUND(E38-(E38)*(G38/100),2)&F38&" =Nu indeplineste cerintele specificate" -> Rez.<8,4% =Nu indeplineste cerintele specificate | L38: =ROUND((E38-(E38)*(G38/100)),2)&F38& "≤ Rez.< "&ROUND(E38+(E38)*(G38/100),2)&F38&" = prezinta risc de neindeplinire cerinte" -> 8,4%≤ Rez.< 8,6% = prezinta risc de neindeplinire cerinte | M38: =IF(C38="Nu exista","Neaplicabil ptr. ca nu exista limita de specificatie","x") -> x
A39: Determinarea umidității și substanței uscate Determinarea umidității Determinarea substanței uscate | B39: Lapte, smântână și lapte condensat | C39: SR 2418/2008 pt. lapte crud; (Subst. uscata limita minima) | D39: lapte crud; -Lapte de vaca, -Lapte de capre | E39: 8.5 | F39: % | G39: 1.2 | H39: % | I39: RD4 nonbinara -ia in considerare IM | J39: ="Rez.≥"&ROUND(E39+(E39)*(G39/100),2)& F39 &" =Indeplineste cerintele specificate" -> Rez.≥8,6% =Indeplineste cerintele specificate | K39: ="Rez.<"&ROUND(E39-(E39)*(G39/100),2)&F39&" =Nu indeplineste cerintele specificate" -> Rez.<8,4% =Nu indeplineste cerintele specificate | L39: =ROUND((E39-(E39)*(G39/100)),2)&F39& "≤ Rez.< "&ROUND(E39+(E39)*(G39/100),2)&F39&" = prezinta risc de neindeplinire cerinte" -> 8,4%≤ Rez.< 8,6% = prezinta risc de neindeplinire cerinte | M39: =IF(C39="Nu exista","Neaplicabil ptr. ca nu exista limita de specificatie","x") -> x
A40: Determinarea umidității și substanței uscate Determinarea umidității Determinarea substanței uscate | B40: Lapte, smântână și lapte condensat | C40: SR 2418/2008 pt. lapte crud; (Subst. uscata limita minima) | D40: lapte crud; -Lapte de bivolita | E40: 10 | F40: % | G40: 1.2 | H40: % | I40: RD4 nonbinara -ia in considerare IM | J40: ="Rez.≥"&ROUND(E40+(E40)*(G40/100),2)& F40 &" =Indeplineste cerintele specificate" -> Rez.≥10,12% =Indeplineste cerintele specificate | K40: ="Rez.<"&ROUND(E40-(E40)*(G40/100),2)&F40&" =Nu indeplineste cerintele specificate" -> Rez.<9,88% =Nu indeplineste cerintele specificate | L40: =ROUND((E40-(E40)*(G40/100)),2)&F40& "≤ Rez.< "&ROUND(E40+(E40)*(G40/100),2)&F40&" = prezinta risc de neindeplinire cerinte" -> 9,88%≤ Rez.< 10,12% = prezinta risc de neindeplinire cerinte | M40: =IF(C40="Nu exista","Neaplicabil ptr. ca nu exista limita de specificatie","x") -> x
A41: Determinarea umidității și substanței uscate Determinarea umidității Determinarea substanței uscate | B41: Lapte, smântână și lapte condensat | C41: SR 2418/2008 pt. lapte crud; (Subst. uscata limita minima) | D41: lapte crud; -Lapte de oaie | E41: 11 | F41: % | G41: 1.2 | H41: % | I41: RD4 nonbinara -ia in considerare IM | J41: ="Rez.≥"&ROUND(E41+(E41)*(G41/100),2)& F41 &" =Indeplineste cerintele specificate" -> Rez.≥11,13% =Indeplineste cerintele specificate | K41: ="Rez.<"&ROUND(E41-(E41)*(G41/100),2)&F41&" =Nu indeplineste cerintele specificate" -> Rez.<10,87% =Nu indeplineste cerintele specificate | L41: =ROUND((E41-(E41)*(G41/100)),2)&F41& "≤ Rez.< "&ROUND(E41+(E41)*(G41/100),2)&F41&" = prezinta risc de neindeplinire cerinte" -> 10,87%≤ Rez.< 11,13% = prezinta risc de neindeplinire cerinte | M41: =IF(C41="Nu exista","Neaplicabil ptr. ca nu exista limita de specificatie","x") -> x
A42: Determinarea umidității și substanței uscate Determinarea umidității Determinarea substanței uscate | B42: Lapte, smântână și lapte condensat | C42: SR 3665/1999 pt. Iaurt (Subst. uscata limita minima) | D42: iaurt integral cu grasime min.3% | E42: 14 | F42: % | G42: 2.6 | H42: % | I42: RD4 nonbinara -ia in considerare IM | J42: ="Rez.≥"&ROUND(E42+(E42)*(G42/100),2)& F42 &" =Indeplineste cerintele specificate" -> Rez.≥14,36% =Indeplineste cerintele specificate | K42: ="Rez.<"&ROUND(E42-(E42)*(G42/100),2)&F42&" =Nu indeplineste cerintele specificate" -> Rez.<13,64% =Nu indeplineste cerintele specificate | L42: =ROUND((E42-(E42)*(G42/100)),2)&F42& "≤ Rez.< "&ROUND(E42+(E42)*(G42/100),2)&F42&" = prezinta risc de neindeplinire cerinte" -> 13,64%≤ Rez.< 14,36% = prezinta risc de neindeplinire cerinte | M42: =IF(C42="Nu exista","Neaplicabil ptr. ca nu exista limita de specificatie","x") -> x
A43: Determinarea umidității și substanței uscate Determinarea umidității Determinarea substanței uscate | B43: Lapte, smântână și lapte condensat | C43: SR 3665/1999 pt. Iaurt (Subst. uscata limita minima) | D43: iaurt partial degresat cu grasime=0.5-3% grasime | E43: 11 | F43: % | G43: 2.6 | H43: % | I43: RD4 nonbinara -ia in considerare IM | J43: ="Rez.≥"&ROUND(E43+(E43)*(G43/100),2)& F43 &" =Indeplineste cerintele specificate" -> Rez.≥11,29% =Indeplineste cerintele specificate | K43: ="Rez.<"&ROUND(E43-(E43)*(G43/100),2)&F43&" =Nu indeplineste cerintele specificate" -> Rez.<10,71% =Nu indeplineste cerintele specificate | L43: =ROUND((E43-(E43)*(G43/100)),2)&F43& "≤ Rez.< "&ROUND(E43+(E43)*(G43/100),2)&F43&" = prezinta risc de neindeplinire cerinte" -> 10,71%≤ Rez.< 11,29% = prezinta risc de neindeplinire cerinte | M43: =IF(C43="Nu exista","Neaplicabil ptr. ca nu exista limita de specificatie","x") -> x
A44: Determinarea umidității și substanței uscate Determinarea umidității Determinarea substanței uscate | B44: Lapte, smântână și lapte condensat | C44: SR 3665/1999 pt. Iaurt (Subst. uscata limita minima) | D44: iaurt degresat | E44: 8.5 | F44: % | G44: 2.6 | H44: % | I44: RD4 nonbinara -ia in considerare IM | J44: ="Rez.≥"&ROUND(E44+(E44)*(G44/100),2)& F44 &" =Indeplineste cerintele specificate" -> Rez.≥8,72% =Indeplineste cerintele specificate | K44: ="Rez.<"&ROUND(E44-(E44)*(G44/100),2)&F44&" =Nu indeplineste cerintele specificate" -> Rez.<8,28% =Nu indeplineste cerintele specificate | L44: =ROUND((E44-(E44)*(G44/100)),2)&F44& "≤ Rez.< "&ROUND(E44+(E44)*(G44/100),2)&F44&" = prezinta risc de neindeplinire cerinte" -> 8,28%≤ Rez.< 8,72% = prezinta risc de neindeplinire cerinte | M44: =IF(C44="Nu exista","Neaplicabil ptr. ca nu exista limita de specificatie","x") -> x
A45: Determinarea umidității și substanței uscate Determinarea umidității Determinarea substanței uscate | B45: Lapte, smântână și lapte condensat | C45: Nu exista | D45: smântână | E45: x | F45: % | G45: 0.6 | H45: % | I45: "-" | J45: "-" | K45: "-" | L45: "-" | M45: =IF(C45="Nu exista","Neaplicabil ptr. ca nu exista limita de specificatie","x") -> Neaplicabil ptr. ca nu exista limita de specificatie
A46: Determinarea umidității și substanței uscate Determinarea umidității Determinarea substanței uscate | B46: Lapte, smântână și lapte condensat | C46: SR 5559 :2008 Lapte praf Umid -limita maxima admisa) | D46: lapte praf tip a,in ambalaj de desfacere G=26±1% pt lapte praf tip b,in ambalaj de desfacere G=20±1% | E46: 4 | F46: % | G46: 3.8 | H46: % | I46: RD4 nonbinara -ia in considerare IM | J46: ="Rez.≤"&ROUND(E46-(E46)*(G46/100),2)&F46 &" = Indeplineste cerintele specificate" -> Rez.≤3,85% = Indeplineste cerintele specificate | K46: ="Rez.>"&ROUND(E46+(E46)*(G46/100),2)&F46&" = Nu indeplineste cerintele specificate" -> Rez.>4,15% = Nu indeplineste cerintele specificate | L46: =ROUND((E46-(E46)*(G46/100)),2)&F46& " < Rez. ≤ "&ROUND(E46+(E46)*(G46/100),2)&F46&" = prezinta risc de neindeplinire cerinte specificate" -> 3,85% < Rez. ≤ 4,15% = prezinta risc de neindeplinire cerinte specificate | M46: =IF(C46="Nu exista","Neaplicabil ptr. ca nu exista limita de specificatie","x") -> x | N46: Se emite declaratie de conformitate, doar daca sunt prezentate date/informatii complete ptr. Incadrare matrice
A47: Determinarea umidității și substanței uscate Determinarea umidității Determinarea substanței uscate | B47: Lapte, smântână și lapte condensat | C47: SR 5559 :2008 Lapte praf Umid -limita maxima admisa) | D47: lapte praf tip a,in ambalaj de transport G=26±1% lapte praf tip b,in ambalaj de transport G=20±1% lapte praf tip c,in ambalaj de desfacere G max 1.5% lapte praf tip c,in ambalaj de transport G max 1.5% | E47: 5 | F47: % | G47: 3.8 | H47: % | I47: RD4 nonbinara -ia in considerare IM | J47: ="Rez.≤"&ROUND(E47-(E47)*(G47/100),2)&F47 &" = Indeplineste cerintele specificate" -> Rez.≤4,81% = Indeplineste cerintele specificate | K47: ="Rez.>"&ROUND(E47+(E47)*(G47/100),2)&F47&" = Nu indeplineste cerintele specificate" -> Rez.>5,19% = Nu indeplineste cerintele specificate | L47: =ROUND((E47-(E47)*(G47/100)),2)&F47& " < Rez. ≤ "&ROUND(E47+(E47)*(G47/100),2)&F47&" = prezinta risc de neindeplinire cerinte specificate" -> 4,81% < Rez. ≤ 5,19% = prezinta risc de neindeplinire cerinte specificate | M47: =IF(C47="Nu exista","Neaplicabil ptr. ca nu exista limita de specificatie","x") -> x | N47: Se emite declaratie de conformitate, doar daca sunt prezentate date/informatii complete ptr. Incadrare matrice
A48: Determinarea umidității și substanței uscate Determinarea umidității
A49: Determinarea umidității și substanței uscate Determinarea umidității Determinarea substanței uscate | B49: Carne şi produse de carne Concentrate alimentare Hrană pentru animale Unt Brânzeturi şi brânzeturi procesate Lapte, smântână și lapte condensat Ou | C49: Nu exista | D49: alte tipuri de matrici pentru care nu exista referential de interpretare | E49: 0 | F49: % | G49: x | H49: % | I49: "-" | J49: X | K49: X | L49: X | M49: =IF(C49="Nu exista","Neaplicabil ptr. ca nu exista limita de specificatie","x") -> Neaplicabil ptr. ca nu exista limita de specificatie
A51: Isoric versiuni
A52: Nr.vers/data | B52: Descriere modificare
A53: 0/19.03.2021 | B53: versiunea initiala
A54: 1/02.09.2024 | B54: s-au revizuit im dupa relocarea in sediu nou
A55: 2/04.09.2024 | B55: s-a revizuit im pentru carne si produse dupa relocare in sediu nou
A56: 3/04.09.2025 | B56: s-a introdus im pentru matricile peste si fructe de mare

Sheet P18
A1: Nr. 9 | I1: vers. in vigoare | J1: 3 | K1: Data | L1: 09.03.2026
A2: Cuprins | B2: Cuprins!A1 | I2: istoric | K2: vezi nota subsol
A3: Date din Anexa la Certificat | C3: Date din Referential (Cerinta specificata) | I3: Date furnizate de laborator
A4: Domeniul de activitate / Tehnica de măsurare / Denumirea încercării | B4: Material / produs / obiect supus încercării | C4: Referențial de interpretare (care prevede Limita Specificație) | D4: Matricea | E4: Limita Specificației prevazută în referențial | F4: UM | G4: Incertitudine de Măsurare (IM) relativă pt k=2 (%, ) | I4: Regula de decizie (RD) | J4: Declarația de conformitate pentru rezultatul măsurării | N4: Observații
A5: Determinări ponderale | B5: Peşte şi produse din peşte Conserve | C5: Regulamentul UE 1169/2011 cu modificarile si completarile ulterioare ( pentru greutatea neta specificata pe eticheta) | D5: Conserve din peste | E5: cform etichetei | F5: g | G5: neaplicabil/ se aplica limitele de toleranta descrise in Anexa I din Directiva 76/211/EEC | H5: g | I5: RD1 binara-nu ia in considerare IM | J5: "-" | K5: "-" | L5: "-" | M5: Cform declaratiei de pe eticheta produsului
A6: Determinări ponderale | B6: Peşte şi produse din peşte Conserve | C6: Regulamentul UE 1169/2011 cu modificarile si completarile ulterioare ( pentru continutul de peste specificat pe eticheta) | D6: Conserve din peste | E6: cform etichetei | F6: % | G6: 7,2 | H6: % | I6: RD1 binara-nu ia in considerare IM | J6: "-" | K6: "-" | L6: "-" | M6: Cform declaratiei de pe eticheta produsului
A7: Determinări ponderale- greutate neta | B7: peste | C7: Regulamentul UE 1169/2011 cu modificarile si completarile ulterioare ( pentru greutatea neta specificata pe eticheta) | D7: peste | E7: cform etichetei | F7: g | G7: neaplicabil/ se aplica limitele de toleranta descrise in Anexa I din Directiva 76/211/EEC | H7: g | I7: RD1 binara-nu ia in considerare IM | J7: "-" | K7: "-" | L7: "-" | M7: Cform declaratiei de pe eticheta produsului
A8: Determinări ponderale- greutate neta | B8: fructe de mare | C8: Regulamentul UE 1169/2011 cu modificarile si completarile ulterioare ( pentru greutatea neta specificata pe eticheta) | D8: fructe de mare | E8: cform etichetei | F8: g | G8: neaplicabil/ se aplica limitele de toleranta descrise in Anexa I din Directiva 76/211/EEC | H8: g | I8: RD1 binara-nu ia in considerare IM | J8: "-" | K8: "-" | L8: "-" | M8: Cform declaratiei de pe eticheta produsului
A9: Determinări ponderale- glazura | B9: peste | C9: Regulamentul UE 1169/2011 cu modificarile si completarile ulterioare ( pentru glazura specificata pe eticheta) | D9: peste | E9: cform etichetei | F9: % | G9: 9 | H9: % | I9: RD1 binara-nu ia in considerare IM | J9: "-" | K9: "-" | L9: "-" | M9: Cform declaratiei de pe eticheta produsului
A10: Determinări ponderale- glazura | B10: fructe de mare | C10: Regulamentul UE 1169/2011 cu modificarile si completarile ulterioare ( pentru glazura specificata pe eticheta) | D10: fructe de mare | E10: cform etichetei | F10: % | G10: 13,6 | H10: % | I10: RD1 binara-nu ia in considerare IM | J10: "-" | K10: "-" | L10: "-" | M10: Cform declaratiei de pe eticheta produsului
A11: Determinări ponderale- raport apa/proteina (W/P) | B11: peste | C11: Recomandarea CE din Planul Coordonat al UE"GoldFish" | D11: peste | E11: file Pangasius 5,0 File Cod Atlantic 4,7 | G11: 9,6 | H11: % | I11: RD1 binara-nu ia in considerare IM | J11: "-" | K11: "-" | L11: "-" | M11: Recomandarea CE din Planul Coordonat al UE"GoldFish"
A12: Determinări ponderale- raport apa/proteina (W/P) | B12: fructe de mare | C12: Recomandarea CE din Planul Coordonat al UE"GoldFish" | D12: fructe de mare | E12: creveti White Tiger 4,2 | G12: 6,0 | H12: % | I12: RD1 binara-nu ia in considerare IM | J12: "-" | K12: "-" | L12: "-" | M12: Recomandarea CE din Planul Coordonat al UE"GoldFish"
A14: Isoric versiuni
A15: Nr.vers/data | B15: Descriere modificare
A16: 0/19.03.2021 | B16: versiunea initiala
A17: 1/27.01.2023 | B17: S-a introdus ca referential de interpretare pentru etichetare (greutate neta, continut de peste) Regulamentul UE 1169/2011 cu modificarile si completarile ulterioare.
A18: 2/02.09.2024 | B18: s-au revizuit im dupa relocarea in sediu nou
A19: 3/09.03.2026 | B19: S-au introdus matricile peste si fructe de mare cu im pentru greutate neta, glazura si raport apa/proteina (W/P)

Sheet P27
A1: Nr. 10 | I1: vers. in vigoare | J1: 3 | K1: Data | L1: 09.03.2026
A2: Cuprins | B2: Cuprins!A1 | I2: istoric | K2: vezi nota subsol
A3: Date din Anexa la Certificat | C3: Date din Referential (Cerinta specificata) | I3: Date furnizate de laborator
A4: Domeniul de activitate / Tehnica de măsurare / Denumirea încercării | B4: Material / produs / obiect supus încercării | C4: Referențial de interpretare (care prevede Limita Specificație) | D4: Matricea | E4: Limita Specificației prevazută în referențial | F4: UM | G4: Incertitudine de Măsurare (IM) relativă pt k=2 (%, ) | I4: Regula de decizie (RD) | J4: Declarația de conformitate pentru rezultatul măsurării | N4: Observații
A5: Determinarea conţinuțului de apă din carnea de pasăre prin testul chimic -CARCASE | B5: Carne pasăre | C5: Reg.Delegat (UE) 343/2026, Anexa VII | D5: Carne pasăre | E5: WG (limita superioara tolerabila) | F5: g | G5: 14 | H5: % | I5: RD1 binara-nu ia in considerare IM | J5: Daca Rez. = WA (cantitate apa continuta) ≤ WG = conform | K5: Daca Rez. = WA (cantitate apa continuta) > WG = neconform | L5: x | M5: =IF(C5="Nu exista","Neaplicabil ptr. ca nu exista limita de specificatie","x") -> x
A6: Determinarea conţinuțului de apă din carnea de pasăre prin testul chimic -BUCATI/PARTI din CARCASE | B6: Carne pasăre | C6: Reg.Delegat (UE) 343/2026, Anexa VIII | D6: File din piept de pui, fără piele-Răcire prin folosirea aerului | E6: 3.4 | F6: (-) | G6: 14 | H6: % | I6: RD1 binara-nu ia in considerare IM | J6: ="Rez ≤"&E6& F6 &" =Indeplineste cerintele specificate" -> Rez ≤3,4(-) =Indeplineste cerintele specificate | K6: ="Rez.>"&E6&F6&" = Nu indeplineste cerintele specificate" -> Rez.>3,4(-) = Nu indeplineste cerintele specificate | L6: x | M6: =IF(C6="Nu exista","Neaplicabil ptr. ca nu exista limita de specificatie","x") -> x
A7: Determinarea conţinuțului de apă din carnea de pasăre prin testul chimic -BUCATI/PARTI din CARCASE | B7: Carne pasăre | C7: Reg.Delegat (UE) 343/2026, Anexa VIII | D7: Piept de pui, cu piele Răcire prin folosirea aerului | E7: 3.4 | F7: (-) | G7: 14 | H7: % | I7: RD1 binara-nu ia in considerare IM | J7: ="Rez ≤"&E7& F7 &" =Indeplineste cerintele specificate" -> Rez ≤3,4(-) =Indeplineste cerintele specificate | K7: ="Rez.>"&E7&F7&" = Nu indeplineste cerintele specificate" -> Rez.>3,4(-) = Nu indeplineste cerintele specificate | L7: x | M7: =IF(C7="Nu exista","Neaplicabil ptr. ca nu exista limita de specificatie","x") -> x
A8: Determinarea conţinuțului de apă din carnea de pasăre prin testul chimic -BUCATI/PARTI din CARCASE | B8: Carne pasăre | C8: Reg.Delegat (UE) 343/2026, Anexa VIII | D8: Pulpe superioare de pui, pulpe inferioare de pui, pulpe de pui cu spate, sferturi de pulpe de pui, cu piele Răcire prin folosirea aerului | E8: 4.05 | F8: (-) | G8: 14 | H8: % | I8: RD1 binara-nu ia in considerare IM | J8: ="Rez ≤"&E8& F8 &" =Indeplineste cerintele specificate" -> Rez ≤4,05(-) =Indeplineste cerintele specificate | K8: ="Rez.>"&E8&F8&" = Nu indeplineste cerintele specificate" -> Rez.>4,05(-) = Nu indeplineste cerintele specificate | L8: x | M8: =IF(C8="Nu exista","Neaplicabil ptr. ca nu exista limita de specificatie","x") -> x
A9: Determinarea conţinuțului de apă din carnea de pasăre prin testul chimic -BUCATI/PARTI din CARCASE | B9: Carne pasăre | C9: Reg.Delegat (UE) 343/2026, Anexa VIII | D9: File din piept de curcan, fără piele Răcire prin folosirea aerului | E9: 3.4 | F9: (-) | G9: 14 | H9: % | I9: RD1 binara-nu ia in considerare IM | J9: ="Rez ≤"&E9& F9 &" =Indeplineste cerintele specificate" -> Rez ≤3,4(-) =Indeplineste cerintele specificate | K9: ="Rez.>"&E9&F9&" = Nu indeplineste cerintele specificate" -> Rez.>3,4(-) = Nu indeplineste cerintele specificate | L9: x | M9: =IF(C9="Nu exista","Neaplicabil ptr. ca nu exista limita de specificatie","x") -> x
A10: Determinarea conţinuțului de apă din carnea de pasăre prin testul chimic -BUCATI/PARTI din CARCASE | B10: Carne pasăre | C10: Reg.Delegat (UE) 343/2026, Anexa VIII | D10: Piept de curcan, cu piele Răcire prin folosirea aerului | E10: 3.4 | F10: (-) | G10: 14 | H10: % | I10: RD1 binara-nu ia in considerare IM | J10: ="Rez ≤"&E10& F10 &" =Indeplineste cerintele specificate" -> Rez ≤3,4(-) =Indeplineste cerintele specificate | K10: ="Rez.>"&E10&F10&" = Nu indeplineste cerintele specificate" -> Rez.>3,4(-) = Nu indeplineste cerintele specificate | L10: x | M10: =IF(C10="Nu exista","Neaplicabil ptr. ca nu exista limita de specificatie","x") -> x
A11: Determinarea conţinuțului de apă din carnea de pasăre prin testul chimic -BUCATI/PARTI din CARCASE | B11: Carne pasăre | C11: Reg.Delegat (UE) 343/2026, Anexa VIII | D11: Pulpe superioare de curcan, pulpe inferioare de curcan, pulpe de curcan, cu piele Răcire prin folosirea aerului | E11: 3.8 | F11: (-) | G11: 14 | H11: % | I11: RD1 binara-nu ia in considerare IM | J11: ="Rez ≤"&E11& F11 &" =Indeplineste cerintele specificate" -> Rez ≤3,8(-) =Indeplineste cerintele specificate | K11: ="Rez.>"&E11&F11&" = Nu indeplineste cerintele specificate" -> Rez.>3,8(-) = Nu indeplineste cerintele specificate | L11: x | M11: =IF(C11="Nu exista","Neaplicabil ptr. ca nu exista limita de specificatie","x") -> x
A12: Determinarea conţinuțului de apă din carnea de pasăre prin testul chimic -BUCATI/PARTI din CARCASE | B12: Carne pasăre | C12: Reg.Delegat (UE) 343/2026, Anexa VIII | D12: Pulpe de curcan dezosate, fără piele Răcire prin folosirea aerului | E12: 3.95 | F12: (-) | G12: 14 | H12: % | I12: RD1 binara-nu ia in considerare IM | J12: ="Rez ≤"&E12& F12 &" =Indeplineste cerintele specificate" -> Rez ≤3,95(-) =Indeplineste cerintele specificate | K12: ="Rez.>"&E12&F12&" = Nu indeplineste cerintele specificate" -> Rez.>3,95(-) = Nu indeplineste cerintele specificate | L12: x | M12: =IF(C12="Nu exista","Neaplicabil ptr. ca nu exista limita de specificatie","x") -> x
A13: Determinarea conţinuțului de apă din carnea de pasăre prin testul chimic -BUCATI/PARTI din CARCASE | B13: Carne pasăre | C13: Reg.Delegat (UE) 343/2026, Anexa VIII | D13: File din piept de pui, fără piele-Răcire prin stropire | E13: 3.4 | F13: (-) | G13: 14 | H13: % | I13: RD1 binara-nu ia in considerare IM | J13: ="Rez ≤"&E13& F13 &" =Indeplineste cerintele specificate" -> Rez ≤3,4(-) =Indeplineste cerintele specificate | K13: ="Rez.>"&E13&F13&" = Nu indeplineste cerintele specificate" -> Rez.>3,4(-) = Nu indeplineste cerintele specificate | L13: x | M13: =IF(C13="Nu exista","Neaplicabil ptr. ca nu exista limita de specificatie","x") -> x
A14: Determinarea conţinuțului de apă din carnea de pasăre prin testul chimic -BUCATI/PARTI din CARCASE | B14: Carne pasăre | C14: Reg.Delegat (UE) 343/2026, Anexa VIII | D14: Piept de pui, cu piele -Răcire prin stropire | E14: 3.5 | F14: (-) | G14: 14 | H14: % | I14: RD1 binara-nu ia in considerare IM | J14: ="Rez ≤"&E14& F14 &" =Indeplineste cerintele specificate" -> Rez ≤3,5(-) =Indeplineste cerintele specificate | K14: ="Rez.>"&E14&F14&" = Nu indeplineste cerintele specificate" -> Rez.>3,5(-) = Nu indeplineste cerintele specificate | L14: x | M14: =IF(C14="Nu exista","Neaplicabil ptr. ca nu exista limita de specificatie","x") -> x
A15: Determinarea conţinuțului de apă din carnea de pasăre prin testul chimic -BUCATI/PARTI din CARCASE | B15: Carne pasăre | C15: Reg.Delegat (UE) 343/2026, Anexa VIII | D15: Pulpe superioare de pui, pulpe inferioare de pui, pulpe de pui cu spate, sferturi de pulpe de pui, cu piele-Răcire prin stropire | E15: 4.15 | F15: (-) | G15: 14 | H15: % | I15: RD1 binara-nu ia in considerare IM | J15: ="Rez ≤"&E15& F15 &" =Indeplineste cerintele specificate" -> Rez ≤4,15(-) =Indeplineste cerintele specificate | K15: ="Rez.>"&E15&F15&" = Nu indeplineste cerintele specificate" -> Rez.>4,15(-) = Nu indeplineste cerintele specificate | L15: x | M15: =IF(C15="Nu exista","Neaplicabil ptr. ca nu exista limita de specificatie","x") -> x
A16: Determinarea conţinuțului de apă din carnea de pasăre prin testul chimic -BUCATI/PARTI din CARCASE | B16: Carne pasăre | C16: Reg.Delegat (UE) 343/2026, Anexa VIII | D16: File din piept de curcan, fără piele-Răcire prin stropire | E16: 3.4 | F16: (-) | G16: 14 | H16: % | I16: RD1 binara-nu ia in considerare IM | J16: ="Rez ≤"&E16& F16 &" =Indeplineste cerintele specificate" -> Rez ≤3,4(-) =Indeplineste cerintele specificate | K16: ="Rez.>"&E16&F16&" = Nu indeplineste cerintele specificate" -> Rez.>3,4(-) = Nu indeplineste cerintele specificate | L16: x | M16: =IF(C16="Nu exista","Neaplicabil ptr. ca nu exista limita de specificatie","x") -> x
A17: Determinarea conţinuțului de apă din carnea de pasăre prin testul chimic -BUCATI/PARTI din CARCASE | B17: Carne pasăre | C17: Reg.Delegat (UE) 343/2026, Anexa VIII | D17: Piept de curcan, cu piele-Răcire prin stropire | E17: 3.5 | F17: (-) | G17: 14 | H17: % | I17: RD1 binara-nu ia in considerare IM | J17: ="Rez ≤"&E17& F17 &" =Indeplineste cerintele specificate" -> Rez ≤3,5(-) =Indeplineste cerintele specificate | K17: ="Rez.>"&E17&F17&" = Nu indeplineste cerintele specificate" -> Rez.>3,5(-) = Nu indeplineste cerintele specificate | L17: x | M17: =IF(C17="Nu exista","Neaplicabil ptr. ca nu exista limita de specificatie","x") -> x
... A26: Determinarea conţinuțului de apă din carnea de pasăre prin testul chimic -BUCATI/PARTI din CARCASE | B26: Carne pasăre | C26: Reg.Delegat (UE) 343/2026, Anexa VIII | D26: Pulpe de curcan dezosate, fără piele-Răcire prin imersiune | E26: 3.95 | F26: (-) | G26: 14 | H26: % | I26: RD1 binara-nu ia in considerare IM | J26: ="Rez ≤"&E26& F26 &" =Indeplineste cerintele specificate" -> Rez ≤3,95(-) =Indeplineste cerintele specificate | K26: ="Rez.>"&E26&F26&" = Nu indeplineste cerintele specificate" -> Rez.>3,95(-) = Nu indeplineste cerintele specificate | L26: x | M26: =IF(C26="Nu exista","Neaplicabil ptr. ca nu exista limita de specificatie","x") -> x
A28: Isoric versiuni
A29: Nr.vers/data | B29: Descriere modificare
A30: 0/19.03.2021 | B30: versiunea initiala
A31: 1/27.01.2023 | B31: S-au inlocuit abrevierile U si P cu denumirea parametrilor umiditate si proteina
A32: 2/03.09.2024 | B32: S-a revizuit im in urma relocarii la sediu nou
A33: 3/09.03.2026 | B33: S-a inlocuit Reg.CE 543 abrogat cu Reg. Delegat UE 343/2026

Sheet P3
A1: Nr. 11 | I1: vers. in vigoare | K1: Data | L1: 46132
A2: Cuprins | B2: Cuprins!A1 | I2: istoric | K2: vezi nota subsol
A3: Date din Anexa la Certificat | C3: Date din Referential (Cerinta specificata) | I3: Date furnizate de laborator
A4: Domeniul de activitate / Tehnica de măsurare / Denumirea încercării | B4: Material / produs / obiect supus încercării | C4: Referențial de interpretare (care prevede Limita Specificație) | D4: Matricea | E4: Limita Specificației prevazută în referențial | F4: UM | G4: Incertitudine de Măsurare (IM) relativă pt k=2 (%, ) | I4: Regula de decizie (RD) | J4: Declarația de conformitate pentru rezultatul măsurării | N4: Observații
A5: Determinarea conţinutului de substanțe grase | B5: Alimente pe bază de lapte pentru sugari | C5: Nu exista | D5: Alimente pe bază de lapte pentru sugari | E5: x | F5: % | G5: 3.2 | H5: % | I5: "-" | J5: "-" | K5: "-" | L5: "-" | M5: =IF(C5="Nu exista","Neaplicabil ptr. ca nu exista limita de specificatie","x") -> Neaplicabil ptr. ca nu exista limita de specificatie
A6: Determinarea conţinutului de substanțe grase | B6: Brânză | C6: Nu exista | D6: brânză proaspata de vaca-Foarte grasa | E6: x | F6: % | G6: 1 | I6: "-" | J6: "-" | K6: "-" | L6: "-" | M6: =IF(C6="Nu exista","Neaplicabil ptr. ca nu exista limita de specificatie","x") -> Neaplicabil ptr. ca nu exista limita de specificatie
A7: Determinarea conţinutului de substanțe grase | B7: Brânză | C7: Nu exista | D7: brânză proaspata de vaca-Grasa | E7: x | F7: % | G7: 1 | H7: % | I7: "-" | J7: "-" | K7: "-" | L7: "-" | M7: =IF(C7="Nu exista","Neaplicabil ptr. ca nu exista limita de specificatie","x") -> Neaplicabil ptr. ca nu exista limita de specificatie
A8: Determinarea conţinutului de substanțe grase | B8: Brânză | C8: Nu exista | D8: brânză proaspata de vaca-Semigrasa | E8: x | F8: % | G8: 1 | H8: % | I8: "-" | J8: "-" | K8: "-" | L8: "-" | M8: =IF(C8="Nu exista","Neaplicabil ptr. ca nu exista limita de specificatie","x") -> Neaplicabil ptr. ca nu exista limita de specificatie
A9: Determinarea conţinutului de substanțe grase | B9: Brânză | C9: Nu exista | D9: brânză proaspata de vaca-Slaba | E9: x | F9: % | G9: 1 | H9: % | I9: "-" | J9: "-" | K9: "-" | L9: "-" | M9: =IF(C9="Nu exista","Neaplicabil ptr. ca nu exista limita de specificatie","x") -> Neaplicabil ptr. ca nu exista limita de specificatie
A10: Determinarea conţinutului de substanțe grase | B10: Brânză | C10: Nu exista | D10: brânză telemea *maturata oaie cal. superioara *maturata vaca sup A, | E10: x | F10: % | G10: 1 | H10: % | I10: "-" | J10: "-" | K10: "-" | L10: "-" | M10: =IF(C10="Nu exista","Neaplicabil ptr. ca nu exista limita de specificatie","x") -> Neaplicabil ptr. ca nu exista limita de specificatie
A11: Determinarea conţinutului de substanțe grase | B11: Brânză | C11: Nu exista | D11: brânză telemea *maturata oaie calitate I si II *maturata bivolita cal.I si II *proaspata de oaie | E11: x | F11: % | G11: 1 | H11: % | I11: "-" | J11: "-" | K11: "-" | L11: "-" | M11: =IF(C11="Nu exista","Neaplicabil ptr. ca nu exista limita de specificatie","x") -> Neaplicabil ptr. ca nu exista limita de specificatie
A12: Determinarea conţinutului de substanțe grase | B12: Brânză | C12: Nu exista | D12: brânză telemea *maturata vaca sup B, *maturata mixta | E12: x | F12: % | G12: 1 | H12: % | I12: "-" | J12: "-" | K12: "-" | L12: "-" | M12: =IF(C12="Nu exista","Neaplicabil ptr. ca nu exista limita de specificatie","x") -> Neaplicabil ptr. ca nu exista limita de specificatie
A13: Determinarea conţinutului de substanțe grase | B13: Brânză | C13: Nu exista | D13: brânză telemea *maturata vaca IA *proaspata de vaca cal.I | E13: x | F13: % | G13: 1 | H13: % | I13: "-" | J13: "-" | K13: "-" | L13: "-" | M13: =IF(C13="Nu exista","Neaplicabil ptr. ca nu exista limita de specificatie","x") -> Neaplicabil ptr. ca nu exista limita de specificatie
A14: Determinarea conţinutului de substanțe grase | B14: Brânză | C14: Nu exista | D14: brânză telemea *maturata vaca IB *proaspata de vaca cal.II | E14: x | F14: % | G14: 1 | H14: % | I14: "-" | J14: "-" | K14: "-" | L14: "-" | M14: =IF(C14="Nu exista","Neaplicabil ptr. ca nu exista limita de specificatie","x") -> Neaplicabil ptr. ca nu exista limita de specificatie
A15: Determinarea conţinutului de substanțe grase | B15: Brânză | C15: Nu exista | D15: brânză telemea *maturata vaca II | E15: x | F15: % | G15: 1 | H15: % | I15: "-" | J15: "-" | K15: "-" | L15: "-" | M15: =IF(C15="Nu exista","Neaplicabil ptr. ca nu exista limita de specificatie","x") -> Neaplicabil ptr. ca nu exista limita de specificatie
A16: Determinarea conţinutului de substanțe grase | B16: Brânză şi produse din brânză procesată | C16: Nu exista | D16: Cascaval amestec lapte bivolita si vaca | E16: x | F16: % | G16: 1 | H16: % | I16: "-" | J16: "-" | K16: "-" | L16: "-" | M16: =IF(C16="Nu exista","Neaplicabil ptr. ca nu exista limita de specificatie","x") -> Neaplicabil ptr. ca nu exista limita de specificatie
A17: Determinarea conţinutului de substanțe grase | B17: Brânză şi produse din brânză procesată | C17: Nu exista | D17: Cascaval din lapte de oaie, | E17: x | F17: % | G17: 1 | H17: % | I17: "-" | J17: "-" | K17: "-" | L17: "-" | M17: =IF(C17="Nu exista","Neaplicabil ptr. ca nu exista limita de specificatie","x") -> Neaplicabil ptr. ca nu exista limita de specificatie
A18: Determinarea conţinutului de substanțe grase | B18: Brânză şi produse din brânză procesată | C18: Nu exista | D18: Cascaval amestec lapte oaie si vaca | E18: x | F18: % | G18: 1 | H18: % | I18: "-" | J18: "-" | K18: "-" | L18: "-" | M18: =IF(C18="Nu exista","Neaplicabil ptr. ca nu exista limita de specificatie","x") -> Neaplicabil ptr. ca nu exista limita de specificatie
... A20: Determinarea conţinutului de substanțe grase | B20: Brânză şi produse din brânză procesată | C20: Nu exista | D20: Cascaval *din lapte de vaca, | E20: x | F20: % | G20: 1 | H20: % | I20: "-" | J20: "-" | K20: "-" | L20: "-" | M20: =IF(C20="Nu exista","Neaplicabil ptr. ca nu exista limita de specificatie","x") -> Neaplicabil ptr. ca nu exista limita de specificatie
A21: Determinarea conţinutului de substanțe grase | B21: Carne şi produse de carne | C21: Reg. CE 1169/2011 (carne tocata) (valoare maxima) | D21: Carne tocata slaba | E21: 7 | F21: % | G21: 3.2 | H21: % | I21: RD4 nonbinara -ia in considerare IM | J21: ="Rez.≤"&ROUND(E21-(E21)*(G21/100),1)&F21 &" = Indeplineste cerintele specificate" -> Rez.≤6,8% = Indeplineste cerintele specificate | K21: ="Rez.>"&ROUND(E21+(E21)*(G21/100),1)&F21&" = Nu indeplineste cerintele specificate" -> Rez.>7,2% = Nu indeplineste cerintele specificate | L21: =ROUND((E21-(E21)*(G21/100)),1)&F21& " < Rez. ≤ "&ROUND(E21+(E21)*(G21/100),1)&F21&" = prezinta risc de neindeplinire cerinte specificate" -> 6,8% < Rez. ≤ 7,2% = prezinta risc de neindeplinire cerinte specificate | M21: =IF(C21="Nu exista","Neaplicabil ptr. ca nu exista limita de specificatie","x") -> x | N21: Se emite declaratie de conformitate, doar daca sunt prezentate date/informatii complete ptr. Incadrare matrice
A22: Determinarea conţinutului de substanțe grase | B22: Carne şi produse de carne | C22: Reg. CE 1169/2011 (carne tocata) (valoare maxima) | D22: Carne tocata exclusiv de vita | E22: 20 | F22: % | G22: 3.2 | H22: % | I22: RD4 nonbinara -ia in considerare IM | J22: ="Rez.≤"&ROUND(E22-(E22)*(G22/100),1)&F22 &" = Indeplineste cerintele specificate" -> Rez.≤19,4% = Indeplineste cerintele specificate | K22: ="Rez.>"&ROUND(E22+(E22)*(G22/100),1)&F22&" = Nu indeplineste cerintele specificate" -> Rez.>20,6% = Nu indeplineste cerintele specificate | L22: =ROUND((E22-(E22)*(G22/100)),1)&F22& " < Rez. ≤ "&ROUND(E22+(E22)*(G22/100),1)&F22&" = prezinta risc de neindeplinire cerinte specificate" -> 19,4% < Rez. ≤ 20,6% = prezinta risc de neindeplinire cerinte specificate | M22: =IF(C22="Nu exista","Neaplicabil ptr. ca nu exista limita de specificatie","x") -> x | N22: Se emite declaratie de conformitate, doar daca sunt prezentate date/informatii complete ptr. Incadrare matrice
A23: Determinarea conţinutului de substanțe grase | B23: Carne şi produse de carne | C23: Reg. CE 1169/2011 (carne tocata) (valoare maxima) | D23: Carne tocata continand si carne de porc | E23: 30 | F23: % | G23: 3.2 | H23: % | I23: RD4 nonbinara -ia in considerare IM | J23: ="Rez.≤"&ROUND(E23-(E23)*(G23/100),1)&F23 &" = Indeplineste cerintele specificate" -> Rez.≤29% = Indeplineste cerintele specificate | K23: ="Rez.>"&ROUND(E23+(E23)*(G23/100),1)&F23&" = Nu indeplineste cerintele specificate" -> Rez.>31% = Nu indeplineste cerintele specificate | L23: =ROUND((E23-(E23)*(G23/100)),1)&F23& " < Rez. ≤ "&ROUND(E23+(E23)*(G23/100),1)&F23&" = prezinta risc de neindeplinire cerinte specificate" -> 29% < Rez. ≤ 31% = prezinta risc de neindeplinire cerinte specificate | M23: =IF(C23="Nu exista","Neaplicabil ptr. ca nu exista limita de specificatie","x") -> x | N23: Se emite declaratie de conformitate, doar daca sunt prezentate date/informatii complete ptr. Incadrare matrice
A24: Determinarea conţinutului de substanțe grase | B24: Carne şi produse de carne | C24: Reg. CE 1169/2011 (carne tocata) (valoare maxima) | D24: Carne tocata provenind de la alte specii, | E24: 25 | F24: % | G24: 3.2 | H24: % | I24: RD4 nonbinara -ia in considerare IM | J24: ="Rez.≤"&ROUND(E24-(E24)*(G24/100),1)&F24 &" = Indeplineste cerintele specificate" -> Rez.≤24,2% = Indeplineste cerintele specificate | K24: ="Rez.>"&ROUND(E24+(E24)*(G24/100),1)&F24&" = Nu indeplineste cerintele specificate" -> Rez.>25,8% = Nu indeplineste cerintele specificate | L24: =ROUND((E24-(E24)*(G24/100)),1)&F24& " < Rez. ≤ "&ROUND(E24+(E24)*(G24/100),1)&F24&" = prezinta risc de neindeplinire cerinte specificate" -> 24,2% < Rez. ≤ 25,8% = prezinta risc de neindeplinire cerinte specificate | M24: =IF(C24="Nu exista","Neaplicabil ptr. ca nu exista limita de specificatie","x") -> x | N24: Se emite declaratie de conformitate, doar daca sunt prezentate date/informatii complete ptr. Incadrare matrice
A25: Determinarea conţinutului de substanțe grase | B25: Carne şi produse de carne | C25: MAPDR, MSP, ANPC, ANSVSA Nr.560/1271/339/210/ 2006 -preparate din carne (in functie de produs) (valoare maxima) | D25: Produse din carne fierte Salamuri fara structura | E25: 26 | F25: % | G25: 3.2 | H25: % | I25: RD4 nonbinara -ia in considerare IM | J25: ="Rez.≤"&ROUND(E25-(E25)*(G25/100),1)&F25 &" = Indeplineste cerintele specificate" -> Rez.≤25,2% = Indeplineste cerintele specificate | K25: ="Rez.>"&ROUND(E25+(E25)*(G25/100),1)&F25&" = Nu indeplineste cerintele specificate" -> Rez.>26,8% = Nu indeplineste cerintele specificate | L25: =ROUND((E25-(E25)*(G25/100)),1)&F25& " < Rez. ≤ "&ROUND(E25+(E25)*(G25/100),1)&F25&" = prezinta risc de neindeplinire cerinte specificate" -> 25,2% < Rez. ≤ 26,8% = prezinta risc de neindeplinire cerinte specificate | M25: =IF(C25="Nu exista","Neaplicabil ptr. ca nu exista limita de specificatie","x") -> x | N25: Se emite declaratie de conformitate, doar daca sunt prezentate date/informatii complete ptr. Incadrare matrice
A26: Determinarea conţinutului de substanțe grase | B26: Carne şi produse de carne | C26: MAPDR, MSP, ANPC, ANSVSA Nr.560/1271/339/210/ 2006 -preparate din carne (in functie de produs) (valoare maxima) | D26: Produse din carne fierte - tobe, - caltabos, *carnati fara structura | E26: 27 | F26: % | G26: 3.2 | H26: % | I26: RD4 nonbinara -ia in considerare IM | J26: ="Rez.≤"&ROUND(E26-(E26)*(G26/100),1)&F26 &" = Indeplineste cerintele specificate" -> Rez.≤26,1% = Indeplineste cerintele specificate | K26: ="Rez.>"&ROUND(E26+(E26)*(G26/100),1)&F26&" = Nu indeplineste cerintele specificate" -> Rez.>27,9% = Nu indeplineste cerintele specificate | L26: =ROUND((E26-(E26)*(G26/100)),1)&F26& " < Rez. ≤ "&ROUND(E26+(E26)*(G26/100),1)&F26&" = prezinta risc de neindeplinire cerinte specificate" -> 26,1% < Rez. ≤ 27,9% = prezinta risc de neindeplinire cerinte specificate | M26: =IF(C26="Nu exista","Neaplicabil ptr. ca nu exista limita de specificatie","x") -> x | N26: Se emite declaratie de conformitate, doar daca sunt prezentate date/informatii complete ptr. Incadrare matrice
A27: Determinarea conţinutului de substanțe grase | B27: Carne şi produse de carne | C27: MAPDR, MSP, ANPC, ANSVSA Nr.560/1271/339/210/ 2006 -preparate din carne (in functie de produs) (valoare maxima) | D27: Produse din carne fierte - sangerete, * carnati cu structura | E27: 28 | F27: % | G27: 3.2 | H27: % | I27: RD4 nonbinara -ia in considerare IM | J27: ="Rez.≤"&ROUND(E27-(E27)*(G27/100),1)&F27 &" = Indeplineste cerintele specificate" -> Rez.≤27,1% = Indeplineste cerintele specificate | K27: ="Rez.>"&ROUND(E27+(E27)*(G27/100),1)&F27&" = Nu indeplineste cerintele specificate" -> Rez.>28,9% = Nu indeplineste cerintele specificate | L27: =ROUND((E27-(E27)*(G27/100)),1)&F27& " < Rez. ≤ "&ROUND(E27+(E27)*(G27/100),1)&F27&" = prezinta risc de neindeplinire cerinte specificate" -> 27,1% < Rez. ≤ 28,9% = prezinta risc de neindeplinire cerinte specificate | M27: =IF(C27="Nu exista","Neaplicabil ptr. ca nu exista limita de specificatie","x") -> x | N27: Se emite declaratie de conformitate, doar daca sunt prezentate date/informatii complete ptr. Incadrare matrice
A28: Determinarea conţinutului de substanțe grase | B28: Carne şi produse de carne | C28: MAPDR, MSP, ANPC, ANSVSA Nr.560/1271/339/210/ 2006 -preparate din carne (in functie de produs) (valoare maxima) | D28: Produse din carne fierte - paste - sunci, | E28: 32 | F28: % | G28: 3.2 | H28: % | I28: RD4 nonbinara -ia in considerare IM | J28: ="Rez.≤"&ROUND(E28-(E28)*(G28/100),1)&F28 &" = Indeplineste cerintele specificate" -> Rez.≤31% = Indeplineste cerintele specificate | K28: ="Rez.>"&ROUND(E28+(E28)*(G28/100),1)&F28&" = Nu indeplineste cerintele specificate" -> Rez.>33% = Nu indeplineste cerintele specificate | L28: =ROUND((E28-(E28)*(G28/100)),1)&F28& " < Rez. ≤ "&ROUND(E28+(E28)*(G28/100),1)&F28&" = prezinta risc de neindeplinire cerinte specificate" -> 31% < Rez. ≤ 33% = prezinta risc de neindeplinire cerinte specificate | M28: =IF(C28="Nu exista","Neaplicabil ptr. ca nu exista limita de specificatie","x") -> x | N28: Se emite declaratie de conformitate, doar daca sunt prezentate date/informatii complete ptr. Incadrare matrice
A29: Determinarea conţinutului de substanțe grase | B29: Carne şi produse de carne | C29: MAPDR, MSP, ANPC, ANSVSA Nr.560/1271/339/210/ 2006 -preparate din carne (in functie de produs) (valoare maxima) | D29: Produse din carne fierte - rulade | E29: 43 | F29: % | G29: 3.2 | H29: % | I29: RD4 nonbinara -ia in considerare IM | J29: ="Rez.≤"&ROUND(E29-(E29)*(G29/100),1)&F29 &" = Indeplineste cerintele specificate" -> Rez.≤41,6% = Indeplineste cerintele specificate | K29: ="Rez.>"&ROUND(E29+(E29)*(G29/100),1)&F29&" = Nu indeplineste cerintele specificate" -> Rez.>44,4% = Nu indeplineste cerintele specificate | L29: =ROUND((E29-(E29)*(G29/100)),1)&F29& " < Rez. ≤ "&ROUND(E29+(E29)*(G29/100),1)&F29&" = prezinta risc de neindeplinire cerinte specificate" -> 41,6% < Rez. ≤ 44,4% = prezinta risc de neindeplinire cerinte specificate | M29: =IF(C29="Nu exista","Neaplicabil ptr. ca nu exista limita de specificatie","x") -> x | N29: Se emite declaratie de conformitate, doar daca sunt prezentate date/informatii complete ptr. Incadrare matrice
A30: Determinarea conţinutului de substanțe grase | B30: Carne şi produse de carne | C30: MAPDR, MSP, ANPC, ANSVSA Nr.560/1271/339/210/ 2006 -preparate din carne (in functie de produs) (valoare maxima) | D30: Produse din carne afumate - carnati afumati la rece | E30: 38 | F30: % | G30: 3.2 | H30: % | I30: RD4 nonbinara -ia in considerare IM | J30: ="Rez.≤"&ROUND(E30-(E30)*(G30/100),1)&F30 &" = Indeplineste cerintele specificate" -> Rez.≤36,8% = Indeplineste cerintele specificate | K30: ="Rez.>"&ROUND(E30+(E30)*(G30/100),1)&F30&" = Nu indeplineste cerintele specificate" -> Rez.>39,2% = Nu indeplineste cerintele specificate | L30: =ROUND((E30-(E30)*(G30/100)),1)&F30& " < Rez. ≤ "&ROUND(E30+(E30)*(G30/100),1)&F30&" = prezinta risc de neindeplinire cerinte specificate" -> 36,8% < Rez. ≤ 39,2% = prezinta risc de neindeplinire cerinte specificate | M30: =IF(C30="Nu exista","Neaplicabil ptr. ca nu exista limita de specificatie","x") -> x | N30: Se emite declaratie de conformitate, doar daca sunt prezentate date/informatii complete ptr. Incadrare matrice
A31: Determinarea conţinutului de substanțe grase | B31: Carne şi produse de carne | C31: MAPDR, MSP, ANPC, ANSVSA Nr.560/1271/339/210/ 2006 -preparate din carne (in functie de produs) (valoare maxima) | D31: Produse din carne afumate si fierte, din care: Salamuri fara structura Carnati fara structura | E31: 26 | F31: % | G31: 3.2 | H31: % | I31: RD4 nonbinara -ia in considerare IM | J31: ="Rez.≤"&ROUND(E31-(E31)*(G31/100),1)&F31 &" = Indeplineste cerintele specificate" -> Rez.≤25,2% = Indeplineste cerintele specificate | K31: ="Rez.>"&ROUND(E31+(E31)*(G31/100),1)&F31&" = Nu indeplineste cerintele specificate" -> Rez.>26,8% = Nu indeplineste cerintele specificate | L31: =ROUND((E31-(E31)*(G31/100)),1)&F31& " < Rez. ≤ "&ROUND(E31+(E31)*(G31/100),1)&F31&" = prezinta risc de neindeplinire cerinte specificate" -> 25,2% < Rez. ≤ 26,8% = prezinta risc de neindeplinire cerinte specificate | M31: =IF(C31="Nu exista","Neaplicabil ptr. ca nu exista limita de specificatie","x") -> x | N31: Se emite declaratie de conformitate, doar daca sunt prezentate date/informatii complete ptr. Incadrare matrice
A32: Determinarea conţinutului de substanțe grase | B32: Carne şi produse de carne | C32: MAPDR, MSP, ANPC, ANSVSA Nr.560/1271/339/210/ 2006 -preparate din carne (in functie de produs) (valoare maxima) | D32: Produse din carne afumate si fierte, din care: Salamuri cu structura | E32: 30 | F32: % | G32: 3.2 | H32: % | I32: RD4 nonbinara -ia in considerare IM | J32: ="Rez.≤"&ROUND(E32-(E32)*(G32/100),1)&F32 &" = Indeplineste cerintele specificate" -> Rez.≤29% = Indeplineste cerintele specificate | K32: ="Rez.>"&ROUND(E32+(E32)*(G32/100),1)&F32&" = Nu indeplineste cerintele specificate" -> Rez.>31% = Nu indeplineste cerintele specificate | L32: =ROUND((E32-(E32)*(G32/100)),1)&F32& " < Rez. ≤ "&ROUND(E32+(E32)*(G32/100),1)&F32&" = prezinta risc de neindeplinire cerinte specificate" -> 29% < Rez. ≤ 31% = prezinta risc de neindeplinire cerinte specificate | M32: =IF(C32="Nu exista","Neaplicabil ptr. ca nu exista limita de specificatie","x") -> x | N32: Se emite declaratie de conformitate, doar daca sunt prezentate date/informatii complete ptr. Incadrare matrice
... A45: Determinarea conţinutului de substanțe grase | B45: Carne şi produse de carne | C45: MAPDR, MSP, ANPC, ANSVSA Nr.560/1271/339/210/ 2006 -preparate din carne (in functie de produs) (valoare maxima) | D45: Produse din carne sterilizate: -conserve pentru copi | E45: 5.6 | F45: % | G45: 3.2 | H45: % | I45: RD4 nonbinara -ia in considerare IM | J45: ="Rez.≤"&ROUND(E45-(E45)*(G45/100),1)&F45 &" = Indeplineste cerintele specificate" -> Rez.≤5,4% = Indeplineste cerintele specificate | K45: ="Rez.>"&ROUND(E45+(E45)*(G45/100),1)&F45&" = Nu indeplineste cerintele specificate" -> Rez.>5,8% = Nu indeplineste cerintele specificate | L45: =ROUND((E45-(E45)*(G45/100)),1)&F45& " < Rez. ≤ "&ROUND(E45+(E45)*(G45/100),1)&F45&" = prezinta risc de neindeplinire cerinte specificate" -> 5,4% < Rez. ≤ 5,8% = prezinta risc de neindeplinire cerinte specificate | M45: =IF(C45="Nu exista","Neaplicabil ptr. ca nu exista limita de specificatie","x") -> x | N45: Se emite declaratie de conformitate, doar daca sunt prezentate date/informatii complete ptr. Incadrare matrice
A46: Determinarea conţinutului de substanțe grase | B46: Îngheţată şi amestecuri de îngheţată pe bază de lapte | C46: Nu exista | D46: Îngheţată şi amestecuri de îngheţată pe bază de lapte | E46: x | F46: % | G46: 2.26 | H46: % | I46: "-" | J46: "-" | K46: "-" | L46: "-" | M46: =IF(C46="Nu exista","Neaplicabil ptr. ca nu exista limita de specificatie","x") -> Neaplicabil ptr. ca nu exista limita de specificatie
A47: Determinarea conţinutului de substanțe grase | B47: lapte | C47: SR 143/2008 pt. lapte consum (G% -valoare minima) | D47: Lapte normalizat, grasime = 1.5-0.1 | E47: 1.4 | F47: % | G47: 1.16 | H47: % | I47: RD4 nonbinara -ia in considerare IM | J47: ="Rez.≥"&ROUND(E47+(E47)*(G47/100),2)& F47 &" =Indeplineste cerintele specificate" -> Rez.≥1,42% =Indeplineste cerintele specificate | K47: ="Rez.<"&ROUND(E47-(E47)*(G47/100),2)&F47&" =Nu indeplineste cerintele specificate" -> Rez.<1,38% =Nu indeplineste cerintele specificate | L47: =ROUND((E47-(E47)*(G47/100)),2)&F47& "≤ Rez.< "&ROUND(E47+(E47)*(G47/100),2)&F47&" = prezinta risc de neindeplinire cerinte" -> 1,38%≤ Rez.< 1,42% = prezinta risc de neindeplinire cerinte | M47: =IF(C47="Nu exista","Neaplicabil ptr. ca nu exista limita de specificatie","x") -> x | O47: x
A48: Determinarea conţinutului de substanțe grase | B48: lapte | C48: SR 143/2008 pt. lapte consum (G% -valoare minima) | D48: Lapte normalizat, grasime = 1.5+0.1 | E48: 1.6 | F48: % | G48: 3.2 | H48: % | I48: RD4 nonbinara -ia in considerare IM | J48: ="Rez.≤"&ROUND(E48-(E48)*(G48/100),2)&F48 &" = Indeplineste cerintele specificate" -> Rez.≤1,55% = Indeplineste cerintele specificate | K48: ="Rez.>"&ROUND(E48+(E48)*(G48/100),2)&F48&" = Nu indeplineste cerintele specificate" -> Rez.>1,65% = Nu indeplineste cerintele specificate | L48: =ROUND((E48-(E48)*(G48/100)),2)&F48& " < Rez. ≤ "&ROUND(E48+(E48)*(G48/100),2)&F48&" = prezinta risc de neindeplinire cerinte specificate" -> 1,55% < Rez. ≤ 1,65% = prezinta risc de neindeplinire cerinte specificate | M48: =IF(C48="Nu exista","Neaplicabil ptr. ca nu exista limita de specificatie","x") -> x | O48: x
A49: Determinarea conţinutului de substanțe grase | B49: lapte | C49: SR 143/2008 pt. lapte consum (G% -) | D49: Lapte normalizat, grasime = 1.5±0.1 | E49: 1.5±01 | F49: % | G49: 0.96 | H49: % | I49: RD4 nonbinara -ia in considerare IM | J49: =J47&" // "&J48 -> Rez.≥1,42% =Indeplineste cerintele specificate // Rez.≤1,55% = Indeplineste cerintele specificate | K49: =K47&" // "&K48 -> Rez.<1,38% =Nu indeplineste cerintele specificate // Rez.>1,65% = Nu indeplineste cerintele specificate | L49: =L47&" // "&L48 -> 1,38%≤ Rez.< 1,42% = prezinta risc de neindeplinire cerinte // 1,55% < Rez. ≤ 1,65% = prezinta risc de neindeplinire cerinte specificate | O49: xx
A50: Determinarea conţinutului de substanțe grase | B50: lapte | C50: SR 143/2008 pt. lapte consum (G% -valoare minima) | D50: Lapte normalizat, grasime = 1.8-0.1% | E50: 1.7 | F50: % | G50: 1.16 | H50: % | I50: RD4 nonbinara -ia in considerare IM | J50: ="Rez.≥"&ROUND(E50+(E50)*(G50/100),2)& F50 &" =Indeplineste cerintele specificate" -> Rez.≥1,72% =Indeplineste cerintele specificate | K50: ="Rez.<"&ROUND(E50-(E50)*(G50/100),2)&F50&" =Nu indeplineste cerintele specificate" -> Rez.<1,68% =Nu indeplineste cerintele specificate | L50: =ROUND((E50-(E50)*(G50/100)),2)&F50& "≤ Rez.< "&ROUND(E50+(E50)*(G50/100),2)&F50&" = prezinta risc de neindeplinire cerinte" -> 1,68%≤ Rez.< 1,72% = prezinta risc de neindeplinire cerinte | M50: =IF(C50="Nu exista","Neaplicabil ptr. ca nu exista limita de specificatie","x") -> x | O50: x
A51: Determinarea conţinutului de substanțe grase | B51: lapte | C51: SR 143/2008 pt. lapte consum (G% -valoare minima) | D51: Lapte normalizat, grasime = 1.8+0.1% | E51: 1.9 | F51: % | G51: 0.96 | H51: % | I51: RD4 nonbinara -ia in considerare IM | J51: ="Rez.≤"&ROUND(E51-(E51)*(G51/100),2)&F51 &" = Indeplineste cerintele specificate" -> Rez.≤1,88% = Indeplineste cerintele specificate | K51: ="Rez.>"&ROUND(E51+(E51)*(G51/100),2)&F51&" = Nu indeplineste cerintele specificate" -> Rez.>1,92% = Nu indeplineste cerintele specificate | L51: =ROUND((E51-(E51)*(G51/100)),2)&F51& " < Rez. ≤ "&ROUND(E51+(E51)*(G51/100),2)&F51&" = prezinta risc de neindeplinire cerinte specificate" -> 1,88% < Rez. ≤ 1,92% = prezinta risc de neindeplinire cerinte specificate | M51: =IF(C51="Nu exista","Neaplicabil ptr. ca nu exista limita de specificatie","x") -> x | O51: x
A52: Determinarea conţinutului de substanțe grase | B52: lapte | C52: SR 143/2008 pt. lapte consum (G% ) | D52: Lapte normalizat, grasime = 1.8±0.1 | E52: 1.8±01 | F52: % | G52: 0.96 | H52: % | I52: RD4 nonbinara -ia in considerare IM | J52: =J50&" // "&J51 -> Rez.≥1,72% =Indeplineste cerintele specificate // Rez.≤1,88% = Indeplineste cerintele specificate | K52: =K50&" // "&K51 -> Rez.<1,68% =Nu indeplineste cerintele specificate // Rez.>1,92% = Nu indeplineste cerintele specificate | L52: =L50&" // "&L51 -> 1,68%≤ Rez.< 1,72% = prezinta risc de neindeplinire cerinte // 1,88% < Rez. ≤ 1,92% = prezinta risc de neindeplinire cerinte specificate | O52: xx
A53: Determinarea conţinutului de substanțe grase | B53: lapte | C53: SR 143/2008 pt. lapte consum (G% -valoare minima) | D53: Lapte normalizat, grasime = 2.5-0.1% | E53: 2.4 | F53: % | G53: 0.96 | H53: % | I53: RD4 nonbinara -ia in considerare IM | J53: ="Rez.≥"&ROUND(E53+(E53)*(G53/100),2)& F53 &" =Indeplineste cerintele specificate" -> Rez.≥2,42% =Indeplineste cerintele specificate | K53: ="Rez.<"&ROUND(E53-(E53)*(G53/100),2)&F53&" =Nu indeplineste cerintele specificate" -> Rez.<2,38% =Nu indeplineste cerintele specificate | L53: =ROUND((E53-(E53)*(G53/100)),2)&F53& "≤ Rez.< "&ROUND(E53+(E53)*(G53/100),2)&F53&" = prezinta risc de neindeplinire cerinte" -> 2,38%≤ Rez.< 2,42% = prezinta risc de neindeplinire cerinte | M53: =IF(C53="Nu exista","Neaplicabil ptr. ca nu exista limita de specificatie","x") -> x | O53: x
A54: Determinarea conţinutului de substanțe grase | B54: lapte | C54: SR 143/2008 pt. lapte consum (G% -valoare minima) | D54: Lapte normalizat, grasime = 2.5+0.1% | E54: 2.6 | F54: % | G54: 3.2 | H54: % | I54: RD4 nonbinara -ia in considerare IM | J54: ="Rez.≤"&ROUND(E54-(E54)*(G54/100),2)&F54 &" = Indeplineste cerintele specificate" -> Rez.≤2,52% = Indeplineste cerintele specificate | K54: ="Rez.>"&ROUND(E54+(E54)*(G54/100),2)&F54&" = Nu indeplineste cerintele specificate" -> Rez.>2,68% = Nu indeplineste cerintele specificate | L54: =ROUND((E54-(E54)*(G54/100)),2)&F54& " < Rez. ≤ "&ROUND(E54+(E54)*(G54/100),2)&F54&" = prezinta risc de neindeplinire cerinte specificate" -> 2,52% < Rez. ≤ 2,68% = prezinta risc de neindeplinire cerinte specificate | M54: =IF(C54="Nu exista","Neaplicabil ptr. ca nu exista limita de specificatie","x") -> x | O54: x
A55: Determinarea conţinutului de substanțe grase | B55: lapte | C55: SR 143/2008 pt. lapte consum (G% ) | D55: Lapte normalizat, grasime = 2.5±0.1 | E55: 2.5±01 | F55: % | G55: 0.96 | H55: % | I55: RD4 nonbinara -ia in considerare IM | J55: =J53&" // "&J54 -> Rez.≥2,42% =Indeplineste cerintele specificate // Rez.≤2,52% = Indeplineste cerintele specificate | K55: =K53&" // "&K54 -> Rez.<2,38% =Nu indeplineste cerintele specificate // Rez.>2,68% = Nu indeplineste cerintele specificate | L55: =L53&" // "&L54 -> 2,38%≤ Rez.< 2,42% = prezinta risc de neindeplinire cerinte // 2,52% < Rez. ≤ 2,68% = prezinta risc de neindeplinire cerinte specificate | O55: xx
A56: Determinarea conţinutului de substanțe grase | B56: lapte | C56: SR 143/2008 pt. lapte consum (G% -valoare minima) | D56: Lapte normalizat, grasime = 3.0-0.1% | E56: 3.1 | F56: % | G56: 0.96 | H56: % | I56: RD4 nonbinara -ia in considerare IM | J56: ="Rez.≥"&ROUND(E56+(E56)*(G56/100),2)& F56 &" =Indeplineste cerintele specificate" -> Rez.≥3,13% =Indeplineste cerintele specificate | K56: ="Rez.<"&ROUND(E56-(E56)*(G56/100),2)&F56&" =Nu indeplineste cerintele specificate" -> Rez.<3,07% =Nu indeplineste cerintele specificate | L56: =ROUND((E56-(E56)*(G56/100)),2)&F56& "≤ Rez.< "&ROUND(E56+(E56)*(G56/100),2)&F56&" = prezinta risc de neindeplinire cerinte" -> 3,07%≤ Rez.< 3,13% = prezinta risc de neindeplinire cerinte | M56: =IF(C56="Nu exista","Neaplicabil ptr. ca nu exista limita de specificatie","x") -> x | O56: x
A57: Determinarea conţinutului de substanțe grase | B57: lapte | C57: SR 143/2008 pt. lapte consum (G% -valoare minima) | D57: Lapte normalizat, grasime = 3.0+0.1% | E57: 2.9 | F57: % | G57: 0.96 | H57: % | I57: RD4 nonbinara -ia in considerare IM | J57: ="Rez.≤"&ROUND(E57-(E57)*(G57/100),2)&F57 &" = Indeplineste cerintele specificate" -> Rez.≤2,87% = Indeplineste cerintele specificate | K57: ="Rez.>"&ROUND(E57+(E57)*(G57/100),2)&F57&" = Nu indeplineste cerintele specificate" -> Rez.>2,93% = Nu indeplineste cerintele specificate | L57: =ROUND((E57-(E57)*(G57/100)),2)&F57& " < Rez. ≤ "&ROUND(E57+(E57)*(G57/100),2)&F57&" = prezinta risc de neindeplinire cerinte specificate" -> 2,87% < Rez. ≤ 2,93% = prezinta risc de neindeplinire cerinte specificate | M57: =IF(C57="Nu exista","Neaplicabil ptr. ca nu exista limita de specificatie","x") -> x | O57: x
A58: Determinarea conţinutului de substanțe grase | B58: lapte | C58: SR 143/2008 pt. lapte consum (G% ) | D58: Lapte normalizat, grasime = 3.0±0.1 | E58: 3.0±01 | F58: % | G58: 0.96 | H58: % | I58: RD4 nonbinara -ia in considerare IM | J58: =J56&" // "&J57 -> Rez.≥3,13% =Indeplineste cerintele specificate // Rez.≤2,87% = Indeplineste cerintele specificate | K58: =K56&" // "&K57 -> Rez.<3,07% =Nu indeplineste cerintele specificate // Rez.>2,93% = Nu indeplineste cerintele specificate | L58: =L56&" // "&L57 -> 3,07%≤ Rez.< 3,13% = prezinta risc de neindeplinire cerinte // 2,87% < Rez. ≤ 2,93% = prezinta risc de neindeplinire cerinte specificate | O58: xx
A59: Determinarea conţinutului de substanțe grase | B59: lapte | C59: SR 143/2008 pt. lapte consum (G% -valoare minima) | D59: Lapte normalizat, grasime = 3.5-0.1% | E59: 3.4 | F59: % | G59: 0.96 | H59: % | I59: RD4 nonbinara -ia in considerare IM | J59: ="Rez.≥"&ROUND(E59+(E59)*(G59/100),2)& F59 &" =Indeplineste cerintele specificate" -> Rez.≥3,43% =Indeplineste cerintele specificate | K59: ="Rez.<"&ROUND(E59-(E59)*(G59/100),2)&F59&" =Nu indeplineste cerintele specificate" -> Rez.<3,37% =Nu indeplineste cerintele specificate | L59: =ROUND((E59-(E59)*(G59/100)),2)&F59& "≤ Rez.< "&ROUND(E59+(E59)*(G59/100),2)&F59&" = prezinta risc de neindeplinire cerinte" -> 3,37%≤ Rez.< 3,43% = prezinta risc de neindeplinire cerinte | M59: =IF(C59="Nu exista","Neaplicabil ptr. ca nu exista limita de specificatie","x") -> x | O59: x
A60: Determinarea conţinutului de substanțe grase | B60: lapte | C60: SR 143/2008 pt. lapte consum (G% -valoare minima) | D60: Lapte normalizat, grasime = 3.5+0.1% | E60: 3.6 | F60: % | G60: 3.2 | H60: % | I60: RD4 nonbinara -ia in considerare IM | J60: ="Rez.≤"&ROUND(E60-(E60)*(G60/100),2)&F60 &" = Indeplineste cerintele specificate" -> Rez.≤3,48% = Indeplineste cerintele specificate | K60: ="Rez.>"&ROUND(E60+(E60)*(G60/100),2)&F60&" = Nu indeplineste cerintele specificate" -> Rez.>3,72% = Nu indeplineste cerintele specificate | L60: =ROUND((E60-(E60)*(G60/100)),2)&F60& " < Rez. ≤ "&ROUND(E60+(E60)*(G60/100),2)&F60&" = prezinta risc de neindeplinire cerinte specificate" -> 3,48% < Rez. ≤ 3,72% = prezinta risc de neindeplinire cerinte specificate | M60: =IF(C60="Nu exista","Neaplicabil ptr. ca nu exista limita de specificatie","x") -> x | O60: x
A61: Determinarea conţinutului de substanțe grase | B61: lapte | C61: SR 143/2008 pt. lapte consum (G% ) | D61: Lapte normalizat, grasime = 3.5±0.1 | E61: 3.5±01 | F61: % | G61: 0.96 | H61: % | I61: RD4 nonbinara -ia in considerare IM | J61: =J59&" // "&J60 -> Rez.≥3,43% =Indeplineste cerintele specificate // Rez.≤3,48% = Indeplineste cerintele specificate | K61: =K59&" // "&K60 -> Rez.<3,37% =Nu indeplineste cerintele specificate // Rez.>3,72% = Nu indeplineste cerintele specificate | L61: =L59&" // "&L60 -> 3,37%≤ Rez.< 3,43% = prezinta risc de neindeplinire cerinte // 3,48% < Rez. ≤ 3,72% = prezinta risc de neindeplinire cerinte specificate | O61: xx
A62: Determinarea conţinutului de substanțe grase | B62: lapte | C62: SR 143/2008 pt. lapte consum (G% -valoare maxima) | D62: Lapte normalizat, grasime max 0.1% | E62: 0.1 | F62: % | G62: 0.96 | H62: % | I62: RD4 nonbinara -ia in considerare IM | J62: ="Rez.≤"&ROUND(E62-(E62)*(G62/100),1)&F62 &" = Indeplineste cerintele specificate" -> Rez.≤0,1% = Indeplineste cerintele specificate | K62: ="Rez.>"&ROUND(E62+(E62)*(G62/100),1)&F62&" = Nu indeplineste cerintele specificate" -> Rez.>0,1% = Nu indeplineste cerintele specificate | L62: =ROUND((E62-(E62)*(G62/100)),1)&F62& " < Rez. ≤ "&ROUND(E62+(E62)*(G62/100),1)&F62&" = prezinta risc de neindeplinire cerinte specificate" -> 0,1% < Rez. ≤ 0,1% = prezinta risc de neindeplinire cerinte specificate | M62: =IF(C62="Nu exista","Neaplicabil ptr. ca nu exista limita de specificatie","x") -> x
A63: Determinarea conţinutului de substanțe grase | B63: lapte | C63: SR 2418/2008 pt. lapte crud (G% -valoare minima) | D63: lapte de vaca | E63: 3.2 | F63: % | G63: 0.96 | H63: % | I63: RD4 nonbinara -ia in considerare IM | J63: ="Rez.≥"&ROUND(E63+(E63)*(G63/100),2)& F63 &" =Indeplineste cerintele specificate" -> Rez.≥3,23% =Indeplineste cerintele specificate | K63: ="Rez.<"&ROUND(E63-(E63)*(G63/100),2)&F63&" =Nu indeplineste cerintele specificate" -> Rez.<3,17% =Nu indeplineste cerintele specificate | L63: =ROUND((E63-(E63)*(G63/100)),2)&F63& "≤ Rez.< "&ROUND(E63+(E63)*(G63/100),2)&F63&" = prezinta risc de neindeplinire cerinte" -> 3,17%≤ Rez.< 3,23% = prezinta risc de neindeplinire cerinte | M63: =IF(C63="Nu exista","Neaplicabil ptr. ca nu exista limita de specificatie","x") -> x
A64: Determinarea conţinutului de substanțe grase | B64: lapte | C64: SR 2418/2008 pt. lapte crud (G% -valoare minima) | D64: lapte de capra | E64: 3.3 | F64: % | G64: 0.96 | H64: % | I64: RD4 nonbinara -ia in considerare IM | J64: ="Rez.≥"&ROUND(E64+(E64)*(G64/100),2)& F64 &" =Indeplineste cerintele specificate" -> Rez.≥3,33% =Indeplineste cerintele specificate | K64: ="Rez.<"&ROUND(E64-(E64)*(G64/100),2)&F64&" =Nu indeplineste cerintele specificate" -> Rez.<3,27% =Nu indeplineste cerintele specificate | L64: =ROUND((E64-(E64)*(G64/100)),2)&F64& "≤ Rez.< "&ROUND(E64+(E64)*(G64/100),2)&F64&" = prezinta risc de neindeplinire cerinte" -> 3,27%≤ Rez.< 3,33% = prezinta risc de neindeplinire cerinte | M64: =IF(C64="Nu exista","Neaplicabil ptr. ca nu exista limita de specificatie","x") -> x
A65: Determinarea conţinutului de substanțe grase | B65: lapte | C65: SR 2418/2008 pt. lapte crud (G% -valoare minima) | D65: lapte de bivolita lapte de oaie | E65: 6.5 | F65: % | G65: 0.96 | H65: % | I65: RD4 nonbinara -ia in considerare IM | J65: ="Rez.≥"&ROUND(E65+(E65)*(G65/100),2)& F65 &" =Indeplineste cerintele specificate" -> Rez.≥6,56% =Indeplineste cerintele specificate | K65: ="Rez.<"&ROUND(E65-(E65)*(G65/100),2)&F65&" =Nu indeplineste cerintele specificate" -> Rez.<6,44% =Nu indeplineste cerintele specificate | L65: =ROUND((E65-(E65)*(G65/100)),2)&F65& "≤ Rez.< "&ROUND(E65+(E65)*(G65/100),2)&F65&" = prezinta risc de neindeplinire cerinte" -> 6,44%≤ Rez.< 6,56% = prezinta risc de neindeplinire cerinte | M65: =IF(C65="Nu exista","Neaplicabil ptr. ca nu exista limita de specificatie","x") -> x
A66: Determinarea conţinutului de substanțe grase | B66: Lapte concentrat îndulcit şi neîndulcit | C66: Nu exista | D66: Lapte concentrat îndulcit şi neîndulcit | E66: x | F66: % | G66: 0.96 | H66: % | I66: "-" | J66: "-" | K66: "-" | L66: "-" | M66: =IF(C66="Nu exista","Neaplicabil ptr. ca nu exista limita de specificatie","x") -> Neaplicabil ptr. ca nu exista limita de specificatie
A67: Determinarea conţinutului de substanțe grase | B67: Lapte praf şi produse din lapte praf | C67: SR 5559/2008 (G% -valoare minima) | D67: Lapte praf tip a in ambalaj de desfacere/ transport, | E67: 26 | F67: % | G67: 0.74 | H67: % | I67: RD4 nonbinara -ia in considerare IM | J67: ="Rez.≥"&ROUND(E67+(E67)*(G67/100),2)& F67 &" =Indeplineste cerintele specificate" -> Rez.≥26,19% =Indeplineste cerintele specificate | K67: ="Rez.<"&ROUND(E67-(E67)*(G67/100),2)&F67&" =Nu indeplineste cerintele specificate" -> Rez.<25,81% =Nu indeplineste cerintele specificate | L67: =ROUND((E67-(E67)*(G67/100)),2)&F67& "≤ Rez.< "&ROUND(E67+(E67)*(G67/100),2)&F67&" = prezinta risc de neindeplinire cerinte" -> 25,81%≤ Rez.< 26,19% = prezinta risc de neindeplinire cerinte | M67: =IF(C67="Nu exista","Neaplicabil ptr. ca nu exista limita de specificatie","x") -> x | N67: Se emite declaratie de conformitate, doar daca sunt prezentate date/informatii privind procesul de fabricatie.
A68: Determinarea conţinutului de substanțe grase | B68: Lapte praf şi produse din lapte praf | C68: SR 5559/2008 (G% -valoare minima) | D68: Lapte praf tip b in ambalaj de desfacere/ transport, | E68: 20 | F68: % | G68: 0.74 | H68: % | I68: RD4 nonbinara -ia in considerare IM | J68: ="Rez.≥"&ROUND(E68+(E68)*(G68/100),2)& F68 &" =Indeplineste cerintele specificate" -> Rez.≥20,15% =Indeplineste cerintele specificate | K68: ="Rez.<"&ROUND(E68-(E68)*(G68/100),2)&F68&" =Nu indeplineste cerintele specificate" -> Rez.<19,85% =Nu indeplineste cerintele specificate | L68: =ROUND((E68-(E68)*(G68/100)),2)&F68& "≤ Rez.< "&ROUND(E68+(E68)*(G68/100),2)&F68&" = prezinta risc de neindeplinire cerinte" -> 19,85%≤ Rez.< 20,15% = prezinta risc de neindeplinire cerinte | M68: =IF(C68="Nu exista","Neaplicabil ptr. ca nu exista limita de specificatie","x") -> x | N68: Se emite declaratie de conformitate, doar daca sunt prezentate date/informatii privind procesul de fabricatie.
A69: Determinarea conţinutului de substanțe grase | B69: Lapte praf şi produse din lapte praf | C69: SR 5559/2008 (G% -valoare maxima) | D69: Lapte praf tip c in ambalaj de desfacere/transport, | E69: 1.5 | F69: % | G69: 0.74 | H69: % | I69: RD4 nonbinara -ia in considerare IM | J69: ="Rez.≤"&ROUND(E69-(E69)*(G69/100),1)&F69 &" = Indeplineste cerintele specificate" -> Rez.≤1,5% = Indeplineste cerintele specificate | K69: ="Rez.>"&ROUND(E69+(E69)*(G69/100),1)&F69&" = Nu indeplineste cerintele specificate" -> Rez.>1,5% = Nu indeplineste cerintele specificate | L69: =ROUND((E69-(E69)*(G69/100)),1)&F69& " < Rez. ≤ "&ROUND(E69+(E69)*(G69/100),1)&F69&" = prezinta risc de neindeplinire cerinte specificate" -> 1,5% < Rez. ≤ 1,5% = prezinta risc de neindeplinire cerinte specificate | M69: =IF(C69="Nu exista","Neaplicabil ptr. ca nu exista limita de specificatie","x") -> x | N69: Se emite declaratie de conformitate, doar daca sunt prezentate date/informatii privind procesul de fabricatie.
A70: Determinarea conţinutului de substanțe grase | B70: Iaurt | C70: SR 3665:1999 (G% -valoare minima) | D70: Iaurt integral | E70: 3 | F70: % | G70: 2.4 | H70: % | I70: RD4 nonbinara -ia in considerare IM | J70: ="Rez.≥"&ROUND(E70+(E70)*(G70/100),2)& F70 &" =Indeplineste cerintele specificate" -> Rez.≥3,07% =Indeplineste cerintele specificate | K70: ="Rez.<"&ROUND(E70-(E70)*(G70/100),2)&F70&" =Nu indeplineste cerintele specificate" -> Rez.<2,93% =Nu indeplineste cerintele specificate | L70: =ROUND((E70-(E70)*(G70/100)),2)&F70& "≤ Rez.< "&ROUND(E70+(E70)*(G70/100),2)&F70&" = prezinta risc de neindeplinire cerinte" -> 2,93%≤ Rez.< 3,07% = prezinta risc de neindeplinire cerinte | M70: =IF(C70="Nu exista","Neaplicabil ptr. ca nu exista limita de specificatie","x") -> x
A71: Determinarea conţinutului de substanțe grase | B71: Iaurt | C71: SR 3665:1999 (0.5 G% -valoare minima) (3.0 G% -valoare maxima) | D71: Iaurt partial degresat 0,5-3,0% | E71: =E72&F71&" - "&E73&F73 -> 0,5% - 3% | F71: % | G71: 2.4 | H71: % | I71: RD4 nonbinara -ia in considerare IM | J71: =J72&"//"&J73 -> Rez.≥0,51% =Indeplineste cerintele specificate//Rez.≤2,9% = Indeplineste cerintele specificate | K71: =K72&"//"&K73 -> Rez.<0,49% =Nu indeplineste cerintele specificate//Rez.>3,1% = Nu indeplineste cerintele specificate | L71: =L72&"//"&L73 -> 0,49%≤ Rez.< 0,51% = prezinta risc de neindeplinire cerinte//2,9% < Rez. ≤ 3,1% = prezinta risc de neindeplinire cerinte specificate | M71: =IF(C71="Nu exista","Neaplicabil ptr. ca nu exista limita de specificatie","x") -> x | O71: xx
A72: Determinarea conţinutului de substanțe grase | B72: Iaurt | C72: SR 3665:1999 (G% -valoare minima) | D72: Iaurt partial degresat | E72: 0.5 | F72: % | G72: 2.4 | H72: % | I72: RD4 nonbinara -ia in considerare IM | J72: ="Rez.≥"&ROUND(E72+(E72)*(G72/100),2)& F72 &" =Indeplineste cerintele specificate" -> Rez.≥0,51% =Indeplineste cerintele specificate | K72: ="Rez.<"&ROUND(E72-(E72)*(G72/100),2)&F72&" =Nu indeplineste cerintele specificate" -> Rez.<0,49% =Nu indeplineste cerintele specificate | L72: =ROUND((E72-(E72)*(G72/100)),2)&F72& "≤ Rez.< "&ROUND(E72+(E72)*(G72/100),2)&F72&" = prezinta risc de neindeplinire cerinte" -> 0,49%≤ Rez.< 0,51% = prezinta risc de neindeplinire cerinte | M72: =IF(C72="Nu exista","Neaplicabil ptr. ca nu exista limita de specificatie","x") -> x | O72: x
A73: Determinarea conţinutului de substanțe grase | B73: Iaurt | C73: SR 3665:1999 (G% -valoare maxima) | D73: Iaurt partial degresat | E73: 3 | F73: % | G73: 2.4 | H73: % | I73: RD4 nonbinara -ia in considerare IM | J73: ="Rez.≤"&ROUND(E73-(E73)*(G73/100),1)&F73 &" = Indeplineste cerintele specificate" -> Rez.≤2,9% = Indeplineste cerintele specificate | K73: ="Rez.>"&ROUND(E73+(E73)*(G73/100),1)&F73&" = Nu indeplineste cerintele specificate" -> Rez.>3,1% = Nu indeplineste cerintele specificate | L73: =ROUND((E73-(E73)*(G73/100)),1)&F73& " < Rez. ≤ "&ROUND(E73+(E73)*(G73/100),1)&F73&" = prezinta risc de neindeplinire cerinte specificate" -> 2,9% < Rez. ≤ 3,1% = prezinta risc de neindeplinire cerinte specificate | M73: =IF(C73="Nu exista","Neaplicabil ptr. ca nu exista limita de specificatie","x") -> x | O73: x
A74: Determinarea conţinutului de substanțe grase | B74: Smântână | C74: SR 7001/2009 (G% -valoare maxima) | D74: Smântână dulce tip 32 | E74: 32 | F74: % | G74: 0.4 | H74: % | I74: RD4 nonbinara -ia in considerare IM | J74: ="Rez.≤"&ROUND(E74-(E74)*(G74/100),1)&F74 &" = Indeplineste cerintele specificate" -> Rez.≤31,9% = Indeplineste cerintele specificate | K74: ="Rez.>"&ROUND(E74+(E74)*(G74/100),1)&F74&" = Nu indeplineste cerintele specificate" -> Rez.>32,1% = Nu indeplineste cerintele specificate | L74: =ROUND((E74-(E74)*(G74/100)),1)&F74& " < Rez. ≤ "&ROUND(E74+(E74)*(G74/100),1)&F74&" = prezinta risc de neindeplinire cerinte specificate" -> 31,9% < Rez. ≤ 32,1% = prezinta risc de neindeplinire cerinte specificate | M74: =IF(C74="Nu exista","Neaplicabil ptr. ca nu exista limita de specificatie","x") -> x | N74: Se emite declaratie de conformitate, doar daca sunt prezentate date/informatii privind procesul de fabricatie.
A75: Determinarea conţinutului de substanțe grase | B75: Smântână | C75: SR 7001/2009 (G% -valoare maxima) | D75: Smântână dulce tip 14 | E75: 14 | F75: % | G75: 0.4 | H75: % | I75: RD4 nonbinara -ia in considerare IM | J75: ="Rez.≤"&ROUND(E75-(E75)*(G75/100),1)&F75 &" = Indeplineste cerintele specificate" -> Rez.≤13,9% = Indeplineste cerintele specificate | K75: ="Rez.>"&ROUND(E75+(E75)*(G75/100),1)&F75&" = Nu indeplineste cerintele specificate" -> Rez.>14,1% = Nu indeplineste cerintele specificate | L75: =ROUND((E75-(E75)*(G75/100)),1)&F75& " < Rez. ≤ "&ROUND(E75+(E75)*(G75/100),1)&F75&" = prezinta risc de neindeplinire cerinte specificate" -> 13,9% < Rez. ≤ 14,1% = prezinta risc de neindeplinire cerinte specificate | M75: =IF(C75="Nu exista","Neaplicabil ptr. ca nu exista limita de specificatie","x") -> x | N75: Se emite declaratie de conformitate, doar daca sunt prezentate date/informatii privind procesul de fabricatie.
A76: Determinarea conţinutului de substanțe grase | B76: Smântână | C76: SR 7001/2009 (G% -valoare maxima) | D76: Smântână fermentata tip 40 | E76: 40 | F76: % | G76: 0.4 | H76: % | I76: RD4 nonbinara -ia in considerare IM | J76: ="Rez.≤"&ROUND(E76-(E76)*(G76/100),1)&F76 &" = Indeplineste cerintele specificate" -> Rez.≤39,8% = Indeplineste cerintele specificate | K76: ="Rez.>"&ROUND(E76+(E76)*(G76/100),1)&F76&" = Nu indeplineste cerintele specificate" -> Rez.>40,2% = Nu indeplineste cerintele specificate | L76: =ROUND((E76-(E76)*(G76/100)),1)&F76& " < Rez. ≤ "&ROUND(E76+(E76)*(G76/100),1)&F76&" = prezinta risc de neindeplinire cerinte specificate" -> 39,8% < Rez. ≤ 40,2% = prezinta risc de neindeplinire cerinte specificate | M76: =IF(C76="Nu exista","Neaplicabil ptr. ca nu exista limita de specificatie","x") -> x | N76: Se emite declaratie de conformitate, doar daca sunt prezentate date/informatii privind procesul de fabricatie.
A77: Determinarea conţinutului de substanțe grase | B77: Smântână | C77: SR 7001/2009 (G% -valoare maxima) | D77: Smântână fermentata tip 30 | E77: 30 | F77: % | G77: 0.4 | H77: % | I77: RD4 nonbinara -ia in considerare IM | J77: ="Rez.≤"&ROUND(E77-(E77)*(G77/100),1)&F77 &" = Indeplineste cerintele specificate" -> Rez.≤29,9% = Indeplineste cerintele specificate | K77: ="Rez.>"&ROUND(E77+(E77)*(G77/100),1)&F77&" = Nu indeplineste cerintele specificate" -> Rez.>30,1% = Nu indeplineste cerintele specificate | L77: =ROUND((E77-(E77)*(G77/100)),1)&F77& " < Rez. ≤ "&ROUND(E77+(E77)*(G77/100),1)&F77&" = prezinta risc de neindeplinire cerinte specificate" -> 29,9% < Rez. ≤ 30,1% = prezinta risc de neindeplinire cerinte specificate | M77: =IF(C77="Nu exista","Neaplicabil ptr. ca nu exista limita de specificatie","x") -> x | N77: Se emite declaratie de conformitate, doar daca sunt prezentate date/informatii privind procesul de fabricatie.
A78: Determinarea conţinutului de substanțe grase | B78: Smântână | C78: SR 7001/2009 (G% -valoare maxima) | D78: Smântână fermentata tip 25 | E78: 25 | F78: % | G78: 0.4 | H78: % | I78: RD4 nonbinara -ia in considerare IM | J78: ="Rez.≤"&ROUND(E78-(E78)*(G78/100),1)&F78 &" = Indeplineste cerintele specificate" -> Rez.≤24,9% = Indeplineste cerintele specificate | K78: ="Rez.>"&ROUND(E78+(E78)*(G78/100),1)&F78&" = Nu indeplineste cerintele specificate" -> Rez.>25,1% = Nu indeplineste cerintele specificate | L78: =ROUND((E78-(E78)*(G78/100)),1)&F78& " < Rez. ≤ "&ROUND(E78+(E78)*(G78/100),1)&F78&" = prezinta risc de neindeplinire cerinte specificate" -> 24,9% < Rez. ≤ 25,1% = prezinta risc de neindeplinire cerinte specificate | M78: =IF(C78="Nu exista","Neaplicabil ptr. ca nu exista limita de specificatie","x") -> x | N78: Se emite declaratie de conformitate, doar daca sunt prezentate date/informatii privind procesul de fabricatie.
A79: Determinarea conţinutului de substanțe grase | B79: Unt | C79: Nu exista | D79: Unt | E79: x | F79: % | G79: 0.46 | H79: % | I79: "-" | J79: "-" | K79: "-" | L79: "-" | M79: =IF(C79="Nu exista","Neaplicabil ptr. ca nu exista limita de specificatie","x") -> Neaplicabil ptr. ca nu exista limita de specificatie
A80: Determinarea conţinutului de substanțe grase | B80: Hrană pentru animale | C80: Nu exista | D80: Hrană pentru animale | E80: x | F80: % | G80: 5.6 | H80: % | I80: "-" | J80: "-" | K80: "-" | L80: "-" | M80: =IF(C80="Nu exista","Neaplicabil ptr. ca nu exista limita de specificatie","x") -> Neaplicabil ptr. ca nu exista limita de specificatie
A81: Determinarea conţinutului de substanțe grase | B81: alte tipuri de produse pentru care nu exista referential de interpretare | C81: Nu exista | D81: alte tipuri de matrici pentru care nu exista referential de interpretare | E81: x | F81: % | G81: x | H81: % | I81: "-" | J81: "-" | K81: "-" | L81: "-" | M81: =IF(C81="Nu exista","Neaplicabil ptr. ca nu exista limita de specificatie","x") -> Neaplicabil ptr. ca nu exista limita de specificatie
A83: Isoric versiuni
A84: Nr.vers/data | B84: Descriere modificare
A85: 0/19.03.2021 | B85: versiunea initiala
A86: 1/10.12.2021 | B86: La primele 4 produse de carne din lista s-a adaugat observatia legata de declaratia de conformitate. I.M. grasime pentru carne si produse din carne a fost modificata la 2%.
A87: 2/26.08.2024 | B87: s-au revizuit im dupa relocarea in sediu nou
A88: 3/03.09.2024 | B88: s-a revizuit im dupa relocarea in sediu nou
A89: 4/20.04.2026 | B89: s-a revizuit validarea

Sheet P1
A1: Nr. 12 | I1: vers. in vigoare | K1: Data | L1: 04.09.2025
A2: Cuprins | B2: Cuprins!A1 | I2: istoric | K2: vezi nota subsol
A3: Date din Anexa la Certificat | C3: Date din Referential (Cerinta specificata) | I3: Date furnizate de laborator
A4: Domeniul de activitate / Tehnica de măsurare / Denumirea încercării | B4: Material / produs / obiect supus încercării | C4: Referențial de interpretare (care prevede Limita Specificație) | D4: Matricea | E4: Limita Specificației prevazută în referențial | F4: UM | G4: Incertitudine de Măsurare (IM) relativă pt k=2 (%, ) | I4: Regula de decizie (RD) | J4: Declarația de conformitate pentru rezultatul măsurării | N4: Observații
A5: Determinarea umidității, substanţei uscate și substanței uscate solubile | B5: Miere | C5: Ordinului MADR/MS/ANPC nr. 522/798/317/2003 cu modificarile si completarile ulterioare. (Directiva nr.110/2001/CE). (Umidit - limita superioara) | D5: Miere | E5: 20 | F5: % | G5: 1.58 | H5: % | I5: RD4 nonbinara -ia in considerare IM | J5: ="Rez.≤"&ROUND(E5-(E5)*(G5/100),2)&F5 &" = Indeplineste cerintele specificate" -> Rez.≤19,68% = Indeplineste cerintele specificate | K5: ="Rez.>"&ROUND(E5+(E5)*(G5/100),2)&F5&" = Nu indeplineste cerintele specificate" -> Rez.>20,32% = Nu indeplineste cerintele specificate | L5: =ROUND((E5-(E5)*(G5/100)),2)&F5& " < Rez. ≤ "&ROUND(E5+(E5)*(G5/100),2)&F5&" = prezinta risc de neindeplinire cerinte specificate" -> 19,68% < Rez. ≤ 20,32% = prezinta risc de neindeplinire cerinte specificate | M5: =IF(C5="Nu exista","Neaplicabil ptr. ca nu exista limita de specificatie","x") -> x
A6: Determinarea umidității, substanţei uscate și substanței uscate solubile | B6: Sucuri din legume și fructe Produse din fructe și legume Bulion și pastă de tomate | C6: Nu exista | D6: Produse din legume | E6: x | F6: x | G6: 1.78 | H6: % | I6: "-" | J6: "-" | K6: "-" | L6: "-" | M6: =IF(C6="Nu exista","Neaplicabil ptr. ca nu exista limita de specificatie","x") -> Neaplicabil ptr. ca nu exista limita de specificatie
A7: Determinarea umidității, substanţei uscate și substanței uscate solubile | B7: Sucuri din legume și fructe Produse din fructe și legume Bulion și pastă de tomate | C7: Nu exista | D7: Produse dulci | E7: x | F7: x | G7: 1 | H7: % | I7: "-" | J7: "-" | K7: "-" | L7: "-" | M7: =IF(C7="Nu exista","Neaplicabil ptr. ca nu exista limita de specificatie","x") -> Neaplicabil ptr. ca nu exista limita de specificatie
A8: Determinarea umidității, substanţei uscate și substanței uscate solubile | B8: Sucuri din legume și fructe Produse din fructe și legume Bulion și pastă de tomate | C8: Nu exista | D8: Produse din legume si fructe | E8: x | F8: x | G8: 18.3 | H8: % | I8: "-" | J8: "-" | K8: "-" | L8: "-" | M8: =IF(C8="Nu exista","Neaplicabil ptr. ca nu exista limita de specificatie","x") -> Neaplicabil ptr. ca nu exista limita de specificatie
A10: Isoric versiuni
A11: Nr.vers/data | B11: Descriere modificare
A12: 0/19.03.2021 | B12: versiunea initiala
A13: 1/25.09.2023 | B13: s-au revizuit im dupa relocarea in sediu nou
A14: 2/04.09.2025 | B14: s-a revizuit validarea

Sheet P16.1
A1: Nr. 13 | I1: vers. in vigoare | K1: Data | L1: 46118
A2: Cuprins | B2: Cuprins!A1 | I2: istoric | K2: vezi nota subsol
A3: Date din Anexa la Certificat | C3: Date din Referential (Cerinta specificata) | I3: Date furnizate de laborator
A4: Domeniul de activitate / Tehnica de măsurare / Denumirea încercării | B4: Material / produs / obiect supus încercării | C4: Referențial de interpretare (care prevede Limita Specificație) | D4: Matricea | E4: Limita Specificației prevazută în referențial | F4: UM | G4: Incertitudine de Măsurare (IM) relativă pt k=2 (%, ) | I4: Regula de decizie (RD) | J4: Declarația de conformitate pentru rezultatul măsurării | N4: Observații
A5: Determinarea indicelui de refracţie | B5: Grăsimi şi uleiuri de origine animală şi vegetală | C5: Nu exista | D5: Grăsimi şi uleiuri de origine animală | E5: x | F5: % | G5: 0.024 | H5: % | I5: "-" | J5: "-" | K5: "-" | L5: "-" | M5: =IF(C5="Nu exista","Neaplicabil ptr. ca nu exista limita de specificatie","x") -> Neaplicabil ptr. ca nu exista limita de specificatie
A6: Determinarea indicelui de refracţie | B6: Grăsimi şi uleiuri de origine animală şi vegetală | C6: Nu exista | D6: Grăsimi şi uleiuri de origine vegetală | E6: x | F6: % | G6: 0.024 | H6: % | I6: "-" | J6: "-" | K6: "-" | L6: "-" | M6: =IF(C6="Nu exista","Neaplicabil ptr. ca nu exista limita de specificatie","x") -> Neaplicabil ptr. ca nu exista limita de specificatie
A8: Isoric versiuni
A9: Nr.vers/data | B9: Descriere modificare
A10: 0/19.03.2021 | B10: versiunea initiala
A11: 1/25.09.2023 | B11: revizie in urma reetalonarii refractometrului
A12: 2/06.04.2026 | B12: s-a revizuit validarea

Sheet P7+P17
A1: Nr. 14 | I1: vers. in vigoare | K1: Data | L1: 46112
A2: Cuprins | B2: Cuprins!A1 | I2: istoric | K2: vezi nota subsol
A3: Date din Anexa la Certificat | C3: Date din Referential (Cerinta specificata) | I3: Date furnizate de laborator
A4: Domeniul de activitate / Tehnica de măsurare / Denumirea încercării | B4: Material / produs / obiect supus încercării | C4: Referențial de interpretare (care prevede Limita Specificație) | D4: Matricea | E4: Limita Specificației prevazută în referențial | F4: UM | G4: Incertitudine de Măsurare (IM) relativă pt k=2 (%, ) | I4: Regula de decizie (RD) | J4: Declarația de conformitate pentru rezultatul măsurării | N4: Observații
A5: Determinarea acidităţii/indicelui de aciditate | B5: Iaurt | C5: SR 73665:1999 (valoare maxima) | D5: Iaurt | E5: 140 | F5: =F6 -> ° Th. | G5: 5 | H5: % | I5: RD4 nonbinara -ia in considerare IM | J5: ="Rez.≤"&ROUND(E5-(E5)*(G5/100),2)&F5 &" = Indeplineste cerintele specificate" -> Rez.≤133° Th. = Indeplineste cerintele specificate | K5: ="Rez.>"&ROUND(E5+(E5)*(G5/100),2)&F5&" = Nu indeplineste cerintele specificate" -> Rez.>147° Th. = Nu indeplineste cerintele specificate | L5: =ROUND((E5-(E5)*(G5/100)),2)&F5& " < Rez. ≤ "&ROUND(E5+(E5)*(G5/100),2)&F5&" = prezinta risc de neindeplinire cerinte specificate" -> 133° Th. < Rez. ≤ 147° Th. = prezinta risc de neindeplinire cerinte specificate | M5: =IF(C5="Nu exista","Neaplicabil ptr. ca nu exista limita de specificatie","x") -> x
A6: Determinarea acidităţii/indicelui de aciditate | B6: Lapte praf | C6: SR 5559/2008 | D6: Lapte praf reconstituit tip a,b, c in ambalaj de desfacere 14-20° Thorner | E6: =E7&" - "&E8&F6 -> 14 - 20° Th. | F6: =F7 -> ° Th. | G6: 5.8 | H6: % | I6: RD4 nonbinara -ia in considerare IM | J6: =J7&" // "&J8 -> Rez.≥14,7° Th. =Indeplineste cerintele specificate // Rez.≤19° Th. = Indeplineste cerintele specificate | K6: =K7&" // "&K8 -> Rez.<13,3° Th. =Nu indeplineste cerintele specificate // Rez.>21° Th. = Nu indeplineste cerintele specificate | L6: =L7&" // "&L8 -> 13,3° Th.≤ Rez.< 14,7° Th. = prezinta risc de neindeplinire cerinte // 19° Th. < Rez. ≤ 21° Th. = prezinta risc de neindeplinire cerinte specificate | N6: Se emite declaratie de conformitate doar daca este specificat tipul de lapte praf. | O6: xx
A7: Determinarea acidităţii/indicelui de aciditate | B7: Lapte praf | D7: Lapte praf reconstituit tip a, in ambalaj de desfacere 14-20° Thorner | E7: 14 | F7: ° Th. | G7: 5 | H7: % | I7: RD4 nonbinara -ia in considerare IM | J7: ="Rez.≥"&ROUND(E7+(E7)*(G7/100),2)& F7 &" =Indeplineste cerintele specificate" -> Rez.≥14,7° Th. =Indeplineste cerintele specificate | K7: ="Rez.<"&ROUND(E7-(E7)*(G7/100),2)&F7&" =Nu indeplineste cerintele specificate" -> Rez.<13,3° Th. =Nu indeplineste cerintele specificate | L7: =ROUND((E7-(E7)*(G7/100)),2)&F7& "≤ Rez.< "&ROUND(E7+(E7)*(G7/100),2)&F7&" = prezinta risc de neindeplinire cerinte" -> 13,3° Th.≤ Rez.< 14,7° Th. = prezinta risc de neindeplinire cerinte | M7: =IF(C7="Nu exista","Neaplicabil ptr. ca nu exista limita de specificatie","x") -> x | O7: x
A8: Determinarea acidităţii/indicelui de aciditate | B8: Lapte praf | D8: Lapte praf reconstituit tip a, in ambalaj de desfacere 14-20° Thorner | E8: 20 | F8: ° Th. | G8: 5 | H8: % | I8: RD4 nonbinara -ia in considerare IM | J8: ="Rez.≤"&ROUND(E8-(E8)*(G8/100),2)&F8 &" = Indeplineste cerintele specificate" -> Rez.≤19° Th. = Indeplineste cerintele specificate | K8: ="Rez.>"&ROUND(E8+(E8)*(G8/100),2)&F8&" = Nu indeplineste cerintele specificate" -> Rez.>21° Th. = Nu indeplineste cerintele specificate | L8: =ROUND((E8-(E8)*(G8/100)),2)&F8& " < Rez. ≤ "&ROUND(E8+(E8)*(G8/100),2)&F8&" = prezinta risc de neindeplinire cerinte specificate" -> 19° Th. < Rez. ≤ 21° Th. = prezinta risc de neindeplinire cerinte specificate | M8: =IF(C8="Nu exista","Neaplicabil ptr. ca nu exista limita de specificatie","x") -> x | O8: x
A9: Determinarea acidităţii/indicelui de aciditate | B9: Lapte praf | C9: SR 5559/2008 | D9: Lapte praf reconstituit tip a,b, c in ambalaj de transport 14-21° Thorner | E9: =E10&" - "&E11&F9 -> 14 - 21° Th. | F9: =F10 -> ° Th. | G9: 5.8 | H9: % | I9: RD4 nonbinara -ia in considerare IM | J9: =J10&" // "&J11 -> Rez.≥14,7° Th. =Indeplineste cerintele specificate // Rez.≤19,95° Th. = Indeplineste cerintele specificate | K9: =K10&" // "&K11 -> Rez.<13,3° Th. =Nu indeplineste cerintele specificate // Rez.>22,05° Th. = Nu indeplineste cerintele specificate | L9: =L10&" // "&L11 -> 13,3° Th.≤ Rez.< 14,7° Th. = prezinta risc de neindeplinire cerinte // 19,95° Th. < Rez. ≤ 22,05° Th. = prezinta risc de neindeplinire cerinte specificate | N9: Se emite declaratie de conformitate doar daca este specificat tipul de lapte praf. | O9: zz
A10: Determinarea acidităţii/indicelui de aciditate | B10: Lapte praf | D10: Lapte praf reconstituit tip a,b, c in ambalaj de transport 14-21° Thorner | E10: 14 | F10: ° Th. | G10: 5 | H10: % | I10: RD4 nonbinara -ia in considerare IM | J10: ="Rez.≥"&ROUND(E10+(E10)*(G10/100),2)& F10 &" =Indeplineste cerintele specificate" -> Rez.≥14,7° Th. =Indeplineste cerintele specificate | K10: ="Rez.<"&ROUND(E10-(E10)*(G10/100),2)&F10&" =Nu indeplineste cerintele specificate" -> Rez.<13,3° Th. =Nu indeplineste cerintele specificate | L10: =ROUND((E10-(E10)*(G10/100)),2)&F10& "≤ Rez.< "&ROUND(E10+(E10)*(G10/100),2)&F10&" = prezinta risc de neindeplinire cerinte" -> 13,3° Th.≤ Rez.< 14,7° Th. = prezinta risc de neindeplinire cerinte | M10: =IF(C10="Nu exista","Neaplicabil ptr. ca nu exista limita de specificatie","x") -> x | O10: z
A11: Determinarea acidităţii/indicelui de aciditate | B11: Lapte praf | D11: Lapte praf reconstituit tip a,b, c in ambalaj de transport 14-21° Thorner | E11: 21 | F11: ° Th. | G11: 5 | H11: % | I11: RD4 nonbinara -ia in considerare IM | J11: ="Rez.≤"&ROUND(E11-(E11)*(G11/100),2)&F11 &" = Indeplineste cerintele specificate" -> Rez.≤19,95° Th. = Indeplineste cerintele specificate | K11: ="Rez.>"&ROUND(E11+(E11)*(G11/100),2)&F11&" = Nu indeplineste cerintele specificate" -> Rez.>22,05° Th. = Nu indeplineste cerintele specificate | L11: =ROUND((E11-(E11)*(G11/100)),2)&F11& " < Rez. ≤ "&ROUND(E11+(E11)*(G11/100),2)&F11&" = prezinta risc de neindeplinire cerinte specificate" -> 19,95° Th. < Rez. ≤ 22,05° Th. = prezinta risc de neindeplinire cerinte specificate | M11: =IF(C11="Nu exista","Neaplicabil ptr. ca nu exista limita de specificatie","x") -> x | O11: z
A12: Determinarea acidităţii/indicelui de aciditate | B12: Miere | C12: Ordinului MADR/MS/ANPC nr. 522/798/317/2003 cu modificarile si completarile ulterioare. Directiva nr.110/2001/CE privind mierea, cu amendamentele ulterioare | D12: Miere de salcam + alte sorturi | E12: 4 | F12: ml NaOH 1N | G12: 28 | H12: % | I12: RD4 nonbinara -ia in considerare IM | J12: ="Rez.≤"&ROUND(E12-(E12)*(G12/100),2)&F12 &" = Indeplineste cerintele specificate" -> Rez.≤2,88ml NaOH 1N = Indeplineste cerintele specificate | K12: ="Rez.>"&ROUND(E12+(E12)*(G12/100),2)&F12&" = Nu indeplineste cerintele specificate" -> Rez.>5,12ml NaOH 1N = Nu indeplineste cerintele specificate | L12: =ROUND((E12-(E12)*(G12/100)),2)&F12& " < Rez. ≤ "&ROUND(E12+(E12)*(G12/100),2)&F12&" = prezinta risc de neindeplinire cerinte specificate" -> 2,88ml NaOH 1N < Rez. ≤ 5,12ml NaOH 1N = prezinta risc de neindeplinire cerinte specificate | M12: =IF(C12="Nu exista","Neaplicabil ptr. ca nu exista limita de specificatie","x") -> x
A13: Determinarea acidităţii/indicelui de aciditate | B13: Miere | C13: Ordinului MADR/MS/ANPC nr. 522/798/317/2003 cu modificarile si completarile ulterioare. Directiva nr.110/2001/CE privind mierea, cu amendamentele ulterioare | D13: Miere de mana | E13: 5 | F13: ml NaOH 1N | G13: 28 | H13: % | I13: RD4 nonbinara -ia in considerare IM | J13: ="Rez.≤"&ROUND(E13-(E13)*(G13/100),2)&F13 &" = Indeplineste cerintele specificate" -> Rez.≤3,6ml NaOH 1N = Indeplineste cerintele specificate | K13: ="Rez.>"&ROUND(E13+(E13)*(G13/100),2)&F13&" = Nu indeplineste cerintele specificate" -> Rez.>6,4ml NaOH 1N = Nu indeplineste cerintele specificate | L13: =ROUND((E13-(E13)*(G13/100)),2)&F13& " < Rez. ≤ "&ROUND(E13+(E13)*(G13/100),2)&F13&" = prezinta risc de neindeplinire cerinte specificate" -> 3,6ml NaOH 1N < Rez. ≤ 6,4ml NaOH 1N = prezinta risc de neindeplinire cerinte specificate | M13: =IF(C13="Nu exista","Neaplicabil ptr. ca nu exista limita de specificatie","x") -> x
A14: Determinarea acidităţii/indicelui de aciditate | B14: Miere | C14: Ordinul MADR/MS/ANPC nr. 522/798/317/2003 cu modificarile si completarile ulterioare. (Directiva nr.110/2001/CE). (limita maxima) | D14: Miere | E14: 50 | F14: Acid liber miliechiv. /1000 g | G14: 4.6 | H14: % | I14: RD4 nonbinara -ia in considerare IM | J14: ="Rez.≤"&ROUND(E14-(E14)*(G14/100),2)&F14 &" = Indeplineste cerintele specificate" -> Rez.≤47,7 Acid liber miliechiv. /1000 g = Indeplineste cerintele specificate | K14: ="Rez.>"&ROUND(E14+(E14)*(G14/100),2)&F14&" = Nu indeplineste cerintele specificate" -> Rez.>52,3 Acid liber miliechiv. /1000 g = Nu indeplineste cerintele specificate | L14: =ROUND((E14-(E14)*(G14/100)),2)&F14& " < Rez. ≤ "&ROUND(E14+(E14)*(G14/100),2)&F14&" = prezinta risc de neindeplinire cerinte specificate" -> 47,7 Acid liber miliechiv. /1000 g < Rez. ≤ 52,3 Acid liber miliechiv. /1000 g = prezinta risc de neindeplinire cerinte specificate | M14: =IF(C14="Nu exista","Neaplicabil ptr. ca nu exista limita de specificatie","x") -> x
A15: Determinarea acidităţii/indicelui de aciditate | B15: Grăsimi şi uleiuri de origine animală şi vegetală | C15: Nu exista | D15: Ulei | E15: x | F15: x | G15: 19 | H15: % | I15: "-" | J15: "-" | K15: "-" | L15: "-" | M15: =IF(C15="Nu exista","Neaplicabil ptr. ca nu exista limita de specificatie","x") -> Neaplicabil ptr. ca nu exista limita de specificatie
A16: Determinarea acidităţii/indicelui de aciditate | B16: Grăsimi şi uleiuri de origine animală şi vegetală | C16: Nu exista | D16: Grasimi | E16: x | F16: x | G16: 12.8 | H16: % | I16: "-" | J16: "-" | K16: "-" | L16: "-" | M16: =IF(C16="Nu exista","Neaplicabil ptr. ca nu exista limita de specificatie","x") -> Neaplicabil ptr. ca nu exista limita de specificatie
A17: Determinarea acidităţii/indicelui de aciditate | B17: Hrană pentru animale | C17: Nu exista | D17: Hrană pentru animale | E17: x | F17: mg KOH/g grasime | G17: 8 | H17: % | I17: "-" | J17: "-" | K17: "-" | L17: "-" | M17: =IF(C17="Nu exista","Neaplicabil ptr. ca nu exista limita de specificatie","x") -> Neaplicabil ptr. ca nu exista limita de specificatie
A19: Isoric versiuni
A20: Nr.vers/data | B20: Descriere modificare
A21: 0/19.03.2021 | B21: versiunea initiala
A22: 1/08.08.2023 | B22: s-a scos maioneza si sosurile de maioneza si sucuri din fructe si legume
B23: s-a modifiat referentialul de interpretare pt miere
A24: 2/11.09.2024 | B24: s-au revizuit im dupa relocarea in sediu nou
A25: 3/16.01.2026 | B25: s-a revizuit validarea - aciditate
A26: 4/31.03.2026 | B26: s-a revizuit validarea - indice de aciditate

Sheet P4
A1: Nr. 15 | I1: vers. in vigoare | K1: Data | L1: 45904
A2: Cuprins | B2: Cuprins!A1 | I2: istoric | K2: vezi nota subsol
A3: Date din Anexa la Certificat | C3: Date din Referential (Cerinta specificata) | I3: Date furnizate de laborator
A4: Domeniul de activitate / Tehnica de măsurare / Denumirea încercării | B4: Material / produs / obiect supus încercării | C4: Referențial de interpretare (care prevede Limita Specificație) | D4: Matricea | E4: Limita Specificației prevazută în referențial | F4: UM | G4: Incertitudine de Măsurare (IM) relativă pt k=2 (%, ) | I4: Regula de decizie (RD) | J4: Declarația de conformitate pentru rezultatul măsurării | N4: Observații
A5: Determinarea conţinutului de azot (proteină) | B5: Carne şi produse de carne | C5: Ord.Comun al MAPDR,MSP,ANPC, ANSVSA Nr.560/1271/339/210/2006 -preparate din carne ( in functie de produs) (limita minima) | D5: Produse din carne fierte - caltabos, - Paste | E5: 8 | F5: % | G5: 7 | H5: % | I5: RD4 nonbinara -ia in considerare IM | J5: ="Rez.≥"&ROUND(E5+(E5)*(G5/100),2)& F5 &" =Indeplineste cerintele specificate" -> Rez.≥8,56% =Indeplineste cerintele specificate | K5: ="Rez.<"&ROUND(E5-(E5)*(G5/100),2)&F5&" =Nu indeplineste cerintele specificate" -> Rez.<7,44% =Nu indeplineste cerintele specificate | L5: =ROUND((E5-(E5)*(G5/100)),2)&F5& "≤ Rez.< "&ROUND(E5+(E5)*(G5/100),2)&F5&" = prezinta risc de neindeplinire cerinte" -> 7,44%≤ Rez.< 8,56% = prezinta risc de neindeplinire cerinte | M5: =IF(C5="Nu exista","Neaplicabil ptr. ca nu exista limita de specificatie","x") -> x | N5: Se emite declaratie de conformitate, doar daca sunt prezentate date/informatii complete ptr. Incadrare matrice
A6: Determinarea conţinutului de azot (proteină) | B6: Carne şi produse de carne | C6: Ord.Comun al MAPDR,MSP,ANPC, ANSVSA Nr.560/1271/339/210/2006 -preparate din carne ( in functie de produs) (limita minima) | D6: Produse din carne fierte: sangerete | E6: 9 | F6: % | G6: 7 | H6: % | I6: RD4 nonbinara -ia in considerare IM | J6: ="Rez.≥"&ROUND(E6+(E6)*(G6/100),2)& F6 &" =Indeplineste cerintele specificate" -> Rez.≥9,63% =Indeplineste cerintele specificate | K6: ="Rez.<"&ROUND(E6-(E6)*(G6/100),2)&F6&" =Nu indeplineste cerintele specificate" -> Rez.<8,37% =Nu indeplineste cerintele specificate | L6: =ROUND((E6-(E6)*(G6/100)),2)&F6& "≤ Rez.< "&ROUND(E6+(E6)*(G6/100),2)&F6&" = prezinta risc de neindeplinire cerinte" -> 8,37%≤ Rez.< 9,63% = prezinta risc de neindeplinire cerinte | M6: =IF(C6="Nu exista","Neaplicabil ptr. ca nu exista limita de specificatie","x") -> x | N6: Se emite declaratie de conformitate, doar daca sunt prezentate date/informatii privind procesul de fabricatie.
A7: Determinarea conţinutului de azot (proteină) | B7: Carne şi produse de carne | C7: Ord.Comun al MAPDR,MSP,ANPC, ANSVSA Nr.560/1271/339/210/2006 -preparate din carne ( in functie de produs) (limita minima) | D7: Produse din carne fierte: -tobe -rulade Carnati, - fara structura, - cu structura, | E7: 10 | F7: % | G7: 7 | H7: % | I7: RD4 nonbinara -ia in considerare IM | J7: ="Rez.≥"&ROUND(E7+(E7)*(G7/100),2)& F7 &" =Indeplineste cerintele specificate" -> Rez.≥10,7% =Indeplineste cerintele specificate | K7: ="Rez.<"&ROUND(E7-(E7)*(G7/100),2)&F7&" =Nu indeplineste cerintele specificate" -> Rez.<9,3% =Nu indeplineste cerintele specificate | L7: =ROUND((E7-(E7)*(G7/100)),2)&F7& "≤ Rez.< "&ROUND(E7+(E7)*(G7/100),2)&F7&" = prezinta risc de neindeplinire cerinte" -> 9,3%≤ Rez.< 10,7% = prezinta risc de neindeplinire cerinte | M7: =IF(C7="Nu exista","Neaplicabil ptr. ca nu exista limita de specificatie","x") -> x | N7: Se emite declaratie de conformitate, doar daca sunt prezentate date/informatii privind procesul de fabricatie.
A8: Determinarea conţinutului de azot (proteină) | B8: Carne şi produse de carne | C8: Ord.Comun al MAPDR,MSP,ANPC, ANSVSA Nr.560/1271/339/210/2006 -preparate din carne ( in functie de produs) (limita minima) | D8: Produse din carne fierte: Salamuri, - fara structura, - cu structura, | E8: 11 | F8: % | G8: 7 | H8: % | I8: RD4 nonbinara -ia in considerare IM | J8: ="Rez.≥"&ROUND(E8+(E8)*(G8/100),2)& F8 &" =Indeplineste cerintele specificate" -> Rez.≥11,77% =Indeplineste cerintele specificate | K8: ="Rez.<"&ROUND(E8-(E8)*(G8/100),2)&F8&" =Nu indeplineste cerintele specificate" -> Rez.<10,23% =Nu indeplineste cerintele specificate | L8: =ROUND((E8-(E8)*(G8/100)),2)&F8& "≤ Rez.< "&ROUND(E8+(E8)*(G8/100),2)&F8&" = prezinta risc de neindeplinire cerinte" -> 10,23%≤ Rez.< 11,77% = prezinta risc de neindeplinire cerinte | M8: =IF(C8="Nu exista","Neaplicabil ptr. ca nu exista limita de specificatie","x") -> x | N8: Se emite declaratie de conformitate, doar daca sunt prezentate date/informatii privind procesul de fabricatie.
A9: Determinarea conţinutului de azot (proteină) | B9: Carne şi produse de carne | C9: Ord.Comun al MAPDR,MSP,ANPC, ANSVSA Nr.560/1271/339/210/2006 -preparate din carne ( in functie de produs) (limita minima) | D9: Produse din carne fierte: Sunci, | E9: 12 | F9: % | G9: 7 | H9: % | I9: RD4 nonbinara -ia in considerare IM | J9: ="Rez.≥"&ROUND(E9+(E9)*(G9/100),2)& F9 &" =Indeplineste cerintele specificate" -> Rez.≥12,84% =Indeplineste cerintele specificate | K9: ="Rez.<"&ROUND(E9-(E9)*(G9/100),2)&F9&" =Nu indeplineste cerintele specificate" -> Rez.<11,16% =Nu indeplineste cerintele specificate | L9: =ROUND((E9-(E9)*(G9/100)),2)&F9& "≤ Rez.< "&ROUND(E9+(E9)*(G9/100),2)&F9&" = prezinta risc de neindeplinire cerinte" -> 11,16%≤ Rez.< 12,84% = prezinta risc de neindeplinire cerinte | M9: =IF(C9="Nu exista","Neaplicabil ptr. ca nu exista limita de specificatie","x") -> x | N9: Se emite declaratie de conformitate, doar daca sunt prezentate date/informatii privind procesul de fabricatie.
A10: Determinarea conţinutului de azot (proteină) | B10: Carne şi produse de carne | C10: Ord.Comun al MAPDR,MSP,ANPC, ANSVSA Nr.560/1271/339/210/2006 -preparate din carne ( in functie de produs) (limita minima) | D10: Produse din carne fierte: Semiconserve din carne | E10: 15 | F10: % | G10: 7 | H10: % | I10: RD4 nonbinara -ia in considerare IM | J10: ="Rez.≥"&ROUND(E10+(E10)*(G10/100),2)& F10 &" =Indeplineste cerintele specificate" -> Rez.≥16,05% =Indeplineste cerintele specificate | K10: ="Rez.<"&ROUND(E10-(E10)*(G10/100),2)&F10&" =Nu indeplineste cerintele specificate" -> Rez.<13,95% =Nu indeplineste cerintele specificate | L10: =ROUND((E10-(E10)*(G10/100)),2)&F10& "≤ Rez.< "&ROUND(E10+(E10)*(G10/100),2)&F10&" = prezinta risc de neindeplinire cerinte" -> 13,95%≤ Rez.< 16,05% = prezinta risc de neindeplinire cerinte | M10: =IF(C10="Nu exista","Neaplicabil ptr. ca nu exista limita de specificatie","x") -> x | N10: Se emite declaratie de conformitate, doar daca sunt prezentate date/informatii privind procesul de fabricatie.
A11: Determinarea conţinutului de azot (proteină) | B11: Carne şi produse de carne | C11: Ord.Comun al MAPDR,MSP,ANPC, ANSVSA Nr.560/1271/339/210/2006 -preparate din carne ( in functie de produs) (limita minima) | D11: Produse din carne afumate - carnati afumati la rece | E11: 11 | F11: % | G11: 7 | H11: % | I11: RD4 nonbinara -ia in considerare IM | J11: ="Rez.≥"&ROUND(E11+(E11)*(G11/100),2)& F11 &" =Indeplineste cerintele specificate" -> Rez.≥11,77% =Indeplineste cerintele specificate | K11: ="Rez.<"&ROUND(E11-(E11)*(G11/100),2)&F11&" =Nu indeplineste cerintele specificate" -> Rez.<10,23% =Nu indeplineste cerintele specificate | L11: =ROUND((E11-(E11)*(G11/100)),2)&F11& "≤ Rez.< "&ROUND(E11+(E11)*(G11/100),2)&F11&" = prezinta risc de neindeplinire cerinte" -> 10,23%≤ Rez.< 11,77% = prezinta risc de neindeplinire cerinte | M11: =IF(C11="Nu exista","Neaplicabil ptr. ca nu exista limita de specificatie","x") -> x | N11: Se emite declaratie de conformitate, doar daca sunt prezentate date/informatii privind procesul de fabricatie.
A12: Determinarea conţinutului de azot (proteină) | B12: Carne şi produse de carne | C12: Ord.Comun al MAPDR,MSP,ANPC, ANSVSA Nr.560/1271/339/210/2006 -preparate din carne ( in functie de produs) (limita minima) | D12: Produse din carne afumate - specialitati | E12: 15 | F12: % | G12: 7 | H12: % | I12: RD4 nonbinara -ia in considerare IM | J12: ="Rez.≥"&ROUND(E12+(E12)*(G12/100),2)& F12 &" =Indeplineste cerintele specificate" -> Rez.≥16,05% =Indeplineste cerintele specificate | K12: ="Rez.<"&ROUND(E12-(E12)*(G12/100),2)&F12&" =Nu indeplineste cerintele specificate" -> Rez.<13,95% =Nu indeplineste cerintele specificate | L12: =ROUND((E12-(E12)*(G12/100)),2)&F12& "≤ Rez.< "&ROUND(E12+(E12)*(G12/100),2)&F12&" = prezinta risc de neindeplinire cerinte" -> 13,95%≤ Rez.< 16,05% = prezinta risc de neindeplinire cerinte | M12: =IF(C12="Nu exista","Neaplicabil ptr. ca nu exista limita de specificatie","x") -> x | N12: Se emite declaratie de conformitate, doar daca sunt prezentate date/informatii privind procesul de fabricatie.
A13: Determinarea conţinutului de azot (proteină) | B13: Carne şi produse de carne | C13: Ord.Comun al MAPDR,MSP,ANPC, ANSVSA Nr.560/1271/339/210/2006 -preparate din carne ( in functie de produs) (limita minima) | D13: Produse din carne afumate si fierte Salamuri, - fara structura, - cu structura | E13: 11 | F13: % | G13: 7 | H13: % | I13: RD4 nonbinara -ia in considerare IM | J13: ="Rez.≥"&ROUND(E13+(E13)*(G13/100),2)& F13 &" =Indeplineste cerintele specificate" -> Rez.≥11,77% =Indeplineste cerintele specificate | K13: ="Rez.<"&ROUND(E13-(E13)*(G13/100),2)&F13&" =Nu indeplineste cerintele specificate" -> Rez.<10,23% =Nu indeplineste cerintele specificate | L13: =ROUND((E13-(E13)*(G13/100)),2)&F13& "≤ Rez.< "&ROUND(E13+(E13)*(G13/100),2)&F13&" = prezinta risc de neindeplinire cerinte" -> 10,23%≤ Rez.< 11,77% = prezinta risc de neindeplinire cerinte | M13: =IF(C13="Nu exista","Neaplicabil ptr. ca nu exista limita de specificatie","x") -> x | N13: Se emite declaratie de conformitate, doar daca sunt prezentate date/informatii privind procesul de fabricatie.
A14: Determinarea conţinutului de azot (proteină) | B14: Carne şi produse de carne | C14: Ord.Comun al MAPDR,MSP,ANPC, ANSVSA Nr.560/1271/339/210/2006 -preparate din carne ( in functie de produs) (limita minima) | D14: Produse din carne afumate si fierte *Carnati, - fara structura, - cu structura *- rulade | E14: 10 | F14: % | G14: 7 | H14: % | I14: RD4 nonbinara -ia in considerare IM | J14: ="Rez.≥"&ROUND(E14+(E14)*(G14/100),2)& F14 &" =Indeplineste cerintele specificate" -> Rez.≥10,7% =Indeplineste cerintele specificate | K14: ="Rez.<"&ROUND(E14-(E14)*(G14/100),2)&F14&" =Nu indeplineste cerintele specificate" -> Rez.<9,3% =Nu indeplineste cerintele specificate | L14: =ROUND((E14-(E14)*(G14/100)),2)&F14& "≤ Rez.< "&ROUND(E14+(E14)*(G14/100),2)&F14&" = prezinta risc de neindeplinire cerinte" -> 9,3%≤ Rez.< 10,7% = prezinta risc de neindeplinire cerinte | M14: =IF(C14="Nu exista","Neaplicabil ptr. ca nu exista limita de specificatie","x") -> x | N14: Se emite declaratie de conformitate, doar daca sunt prezentate date/informatii privind procesul de fabricatie.
A15: Determinarea conţinutului de azot (proteină) | B15: Carne şi produse de carne | C15: Ord.Comun al MAPDR,MSP,ANPC, ANSVSA Nr.560/1271/339/210/2006 -preparate din carne ( in functie de produs) (limita minima) | D15: Produse din carne afumate si fierte: *specialitati | E15: 15 | F15: % | G15: 7 | H15: % | I15: RD4 nonbinara -ia in considerare IM | J15: ="Rez.≥"&ROUND(E15+(E15)*(G15/100),2)& F15 &" =Indeplineste cerintele specificate" -> Rez.≥16,05% =Indeplineste cerintele specificate | K15: ="Rez.<"&ROUND(E15-(E15)*(G15/100),2)&F15&" =Nu indeplineste cerintele specificate" -> Rez.<13,95% =Nu indeplineste cerintele specificate | L15: =ROUND((E15-(E15)*(G15/100)),2)&F15& "≤ Rez.< "&ROUND(E15+(E15)*(G15/100),2)&F15&" = prezinta risc de neindeplinire cerinte" -> 13,95%≤ Rez.< 16,05% = prezinta risc de neindeplinire cerinte | M15: =IF(C15="Nu exista","Neaplicabil ptr. ca nu exista limita de specificatie","x") -> x | N15: Se emite declaratie de conformitate, doar daca sunt prezentate date/informatii privind procesul de fabricatie.
A16: Determinarea conţinutului de azot (proteină) | B16: Carne şi produse de carne | C16: Ord.Comun al MAPDR,MSP,ANPC, ANSVSA Nr.560/1271/339/210/2006 -preparate din carne ( in functie de produs) (limita minima) | D16: Produse din carne fierte si dublu afumate Produse din carne fierte si dublu afumate si uscate - salamuri, | E16: 15 | F16: % | G16: 7 | H16: % | I16: RD4 nonbinara -ia in considerare IM | J16: ="Rez.≥"&ROUND(E16+(E16)*(G16/100),2)& F16 &" =Indeplineste cerintele specificate" -> Rez.≥16,05% =Indeplineste cerintele specificate | K16: ="Rez.<"&ROUND(E16-(E16)*(G16/100),2)&F16&" =Nu indeplineste cerintele specificate" -> Rez.<13,95% =Nu indeplineste cerintele specificate | L16: =ROUND((E16-(E16)*(G16/100)),2)&F16& "≤ Rez.< "&ROUND(E16+(E16)*(G16/100),2)&F16&" = prezinta risc de neindeplinire cerinte" -> 13,95%≤ Rez.< 16,05% = prezinta risc de neindeplinire cerinte | M16: =IF(C16="Nu exista","Neaplicabil ptr. ca nu exista limita de specificatie","x") -> x | N16: Se emite declaratie de conformitate, doar daca sunt prezentate date/informatii privind procesul de fabricatie.
... A28: Determinarea conţinutului de azot (proteină) | B28: Carne şi produse de carne | C28: Ord.Comun al MAPDR,MSP,ANPC, ANSVSA Nr.560/1271/339/210/2006 -preparate din carne ( in functie de produs) (limita minima) | D28: Produse din carne sterilizate - conserve dietetice, | E28: 5 | F28: % | G28: 7 | H28: % | I28: RD4 nonbinara -ia in considerare IM | J28: ="Rez.≥"&ROUND(E28+(E28)*(G28/100),2)& F28 &" =Indeplineste cerintele specificate" -> Rez.≥5,35% =Indeplineste cerintele specificate | K28: ="Rez.<"&ROUND(E28-(E28)*(G28/100),2)&F28&" =Nu indeplineste cerintele specificate" -> Rez.<4,65% =Nu indeplineste cerintele specificate | L28: =ROUND((E28-(E28)*(G28/100)),2)&F28& "≤ Rez.< "&ROUND(E28+(E28)*(G28/100),2)&F28&" = prezinta risc de neindeplinire cerinte" -> 4,65%≤ Rez.< 5,35% = prezinta risc de neindeplinire cerinte | M28: =IF(C28="Nu exista","Neaplicabil ptr. ca nu exista limita de specificatie","x") -> x | N28: Se emite declaratie de conformitate, doar daca sunt prezentate date/informatii privind procesul de fabricatie.
A29: Determinarea conţinutului de azot (proteină) | B29: peste | C29: nu exista | D29: peste | E29: nu exista | G29: 12 | H29: % | I29: RD1 binara-nu ia in considerare IM | J29: "-" | K29: "-" | L29: "-" | M29: neaplicabil pt ca nu exista referential de interpretare
A30: Determinarea conţinutului de azot (proteină) | B30: fructe de mare | C30: nu exista | D30: fructe de mare | E30: nu exista | G30: 8 | H30: % | I30: RD1 binara-nu ia in considerare IM | J30: "-" | K30: "-" | L30: "-" | M30: neaplicabil pt ca nu exista referential de interpretare
A31: Determinarea conţinutului de azot (proteină) | B31: Lapte şi produse din lapte | C31: SR 143/2008 pt. lapte consum; (limita minima) | D31: Lapte normalizat, | E31: 3.2 | F31: % | G31: 4.38 | H31: % | I31: RD4 nonbinara -ia in considerare IM | J31: ="Rez.≥"&ROUND(E31+(E31)*(G31/100),2)& F31 &" =Indeplineste cerintele specificate" -> Rez.≥3,34% =Indeplineste cerintele specificate | K31: ="Rez.<"&ROUND(E31-(E31)*(G31/100),2)&F31&" =Nu indeplineste cerintele specificate" -> Rez.<3,06% =Nu indeplineste cerintele specificate | L31: =ROUND((E31-(E31)*(G31/100)),2)&F31& "≤ Rez.< "&ROUND(E31+(E31)*(G31/100),2)&F31&" = prezinta risc de neindeplinire cerinte" -> 3,06%≤ Rez.< 3,34% = prezinta risc de neindeplinire cerinte | M31: =IF(C31="Nu exista","Neaplicabil ptr. ca nu exista limita de specificatie","x") -> x
A32: Determinarea conţinutului de azot (proteină) | B32: Lapte şi produse din lapte | C32: SR 143/2008 pt. lapte consum; (limita minima) | D32: Lapte smantanit, | E32: 3.3 | F32: % | G32: 4.38 | H32: % | I32: RD4 nonbinara -ia in considerare IM | J32: ="Rez.≥"&ROUND(E32+(E32)*(G32/100),2)& F32 &" =Indeplineste cerintele specificate" -> Rez.≥3,44% =Indeplineste cerintele specificate | K32: ="Rez.<"&ROUND(E32-(E32)*(G32/100),2)&F32&" =Nu indeplineste cerintele specificate" -> Rez.<3,16% =Nu indeplineste cerintele specificate | L32: =ROUND((E32-(E32)*(G32/100)),2)&F32& "≤ Rez.< "&ROUND(E32+(E32)*(G32/100),2)&F32&" = prezinta risc de neindeplinire cerinte" -> 3,16%≤ Rez.< 3,44% = prezinta risc de neindeplinire cerinte | M32: =IF(C32="Nu exista","Neaplicabil ptr. ca nu exista limita de specificatie","x") -> x
A33: Determinarea conţinutului de azot (proteină) | B33: Lapte şi produse din lapte | C33: SR 143/2008 pt. lapte consum; (limita minima) | D33: Lapte hiperproteic, | E33: 5.4 | F33: % | G33: 4.38 | H33: % | I33: RD4 nonbinara -ia in considerare IM | J33: ="Rez.≥"&ROUND(E33+(E33)*(G33/100),2)& F33 &" =Indeplineste cerintele specificate" -> Rez.≥5,64% =Indeplineste cerintele specificate | K33: ="Rez.<"&ROUND(E33-(E33)*(G33/100),2)&F33&" =Nu indeplineste cerintele specificate" -> Rez.<5,16% =Nu indeplineste cerintele specificate | L33: =ROUND((E33-(E33)*(G33/100)),2)&F33& "≤ Rez.< "&ROUND(E33+(E33)*(G33/100),2)&F33&" = prezinta risc de neindeplinire cerinte" -> 5,16%≤ Rez.< 5,64% = prezinta risc de neindeplinire cerinte | M33: =IF(C33="Nu exista","Neaplicabil ptr. ca nu exista limita de specificatie","x") -> x
A34: Determinarea conţinutului de azot (proteină) | B34: Lapte şi produse din lapte | C34: SR 2418/2008 pt. lapte crud; (limita minima) | D34: Lapte de vaca, Lapte de capra | E34: 3.2 | F34: % | G34: 4.38 | H34: % | I34: RD4 nonbinara -ia in considerare IM | J34: ="Rez.≥"&ROUND(E34+(E34)*(G34/100),2)& F34 &" =Indeplineste cerintele specificate" -> Rez.≥3,34% =Indeplineste cerintele specificate | K34: ="Rez.<"&ROUND(E34-(E34)*(G34/100),2)&F34&" =Nu indeplineste cerintele specificate" -> Rez.<3,06% =Nu indeplineste cerintele specificate | L34: =ROUND((E34-(E34)*(G34/100)),2)&F34& "≤ Rez.< "&ROUND(E34+(E34)*(G34/100),2)&F34&" = prezinta risc de neindeplinire cerinte" -> 3,06%≤ Rez.< 3,34% = prezinta risc de neindeplinire cerinte | M34: =IF(C34="Nu exista","Neaplicabil ptr. ca nu exista limita de specificatie","x") -> x
A35: Determinarea conţinutului de azot (proteină) | B35: Lapte şi produse din lapte | C35: SR 2418/2008 pt. lapte crud; (limita minima) | D35: Lapte de bivolita, | E35: 4.5 | F35: % | G35: 4.38 | H35: % | I35: RD4 nonbinara -ia in considerare IM | J35: ="Rez.≥"&ROUND(E35+(E35)*(G35/100),2)& F35 &" =Indeplineste cerintele specificate" -> Rez.≥4,7% =Indeplineste cerintele specificate | K35: ="Rez.<"&ROUND(E35-(E35)*(G35/100),2)&F35&" =Nu indeplineste cerintele specificate" -> Rez.<4,3% =Nu indeplineste cerintele specificate | L35: =ROUND((E35-(E35)*(G35/100)),2)&F35& "≤ Rez.< "&ROUND(E35+(E35)*(G35/100),2)&F35&" = prezinta risc de neindeplinire cerinte" -> 4,3%≤ Rez.< 4,7% = prezinta risc de neindeplinire cerinte | M35: =IF(C35="Nu exista","Neaplicabil ptr. ca nu exista limita de specificatie","x") -> x
A36: Determinarea conţinutului de azot (proteină) | B36: Lapte şi produse din lapte | C36: SR 2418/2008 pt. lapte crud; (limita minima) | D36: Lapte de oaie, | E36: 5 | F36: % | G36: 4.38 | H36: % | I36: RD4 nonbinara -ia in considerare IM | J36: ="Rez.≥"&ROUND(E36+(E36)*(G36/100),2)& F36 &" =Indeplineste cerintele specificate" -> Rez.≥5,22% =Indeplineste cerintele specificate | K36: ="Rez.<"&ROUND(E36-(E36)*(G36/100),2)&F36&" =Nu indeplineste cerintele specificate" -> Rez.<4,78% =Nu indeplineste cerintele specificate | L36: =ROUND((E36-(E36)*(G36/100)),2)&F36& "≤ Rez.< "&ROUND(E36+(E36)*(G36/100),2)&F36&" = prezinta risc de neindeplinire cerinte" -> 4,78%≤ Rez.< 5,22% = prezinta risc de neindeplinire cerinte | M36: =IF(C36="Nu exista","Neaplicabil ptr. ca nu exista limita de specificatie","x") -> x
A37: Determinarea conţinutului de azot (proteină) | B37: Lapte şi produse din lapte | C37: SR 3665/1999 pt. iaurt; (limita minima) | D37: Iaurt integral, Iaurt partial degresat, | E37: 4 | F37: % | G37: 5.7 | H37: % | I37: RD4 nonbinara -ia in considerare IM | J37: ="Rez.≥"&ROUND(E37+(E37)*(G37/100),2)& F37 &" =Indeplineste cerintele specificate" -> Rez.≥4,23% =Indeplineste cerintele specificate | K37: ="Rez.<"&ROUND(E37-(E37)*(G37/100),2)&F37&" =Nu indeplineste cerintele specificate" -> Rez.<3,77% =Nu indeplineste cerintele specificate | L37: =ROUND((E37-(E37)*(G37/100)),2)&F37& "≤ Rez.< "&ROUND(E37+(E37)*(G37/100),2)&F37&" = prezinta risc de neindeplinire cerinte" -> 3,77%≤ Rez.< 4,23% = prezinta risc de neindeplinire cerinte | M37: =IF(C37="Nu exista","Neaplicabil ptr. ca nu exista limita de specificatie","x") -> x | N37: Se emite declaratie de conformitate, doar daca sunt prezentate date/informatii privind procesul de fabricatie.
A38: Determinarea conţinutului de azot (proteină) | B38: Lapte şi produse din lapte | C38: SR 3665/1999 pt. iaurt; (limita minima) | D38: Iaurt degresat, | E38: 2.8 | F38: % | G38: 5.7 | H38: % | I38: RD4 nonbinara -ia in considerare IM | J38: ="Rez.≥"&ROUND(E38+(E38)*(G38/100),2)& F38 &" =Indeplineste cerintele specificate" -> Rez.≥2,96% =Indeplineste cerintele specificate | K38: ="Rez.<"&ROUND(E38-(E38)*(G38/100),2)&F38&" =Nu indeplineste cerintele specificate" -> Rez.<2,64% =Nu indeplineste cerintele specificate | L38: =ROUND((E38-(E38)*(G38/100)),2)&F38& "≤ Rez.< "&ROUND(E38+(E38)*(G38/100),2)&F38&" = prezinta risc de neindeplinire cerinte" -> 2,64%≤ Rez.< 2,96% = prezinta risc de neindeplinire cerinte | M38: =IF(C38="Nu exista","Neaplicabil ptr. ca nu exista limita de specificatie","x") -> x | N38: Se emite declaratie de conformitate, doar daca sunt prezentate date/informatii privind procesul de fabricatie.
A39: Determinarea conţinutului de azot (proteină) | B39: Lapte şi produse din lapte | C39: SR 3664/2008 branza proaspata de vaca (limita minima) | D39: Branza Foarte grasa, | E39: 14 | F39: % | G39: 4.08 | H39: % | I39: RD4 nonbinara -ia in considerare IM | J39: ="Rez.≥"&ROUND(E39+(E39)*(G39/100),2)& F39 &" =Indeplineste cerintele specificate" -> Rez.≥14,57% =Indeplineste cerintele specificate | K39: ="Rez.<"&ROUND(E39-(E39)*(G39/100),2)&F39&" =Nu indeplineste cerintele specificate" -> Rez.<13,43% =Nu indeplineste cerintele specificate | L39: =ROUND((E39-(E39)*(G39/100)),2)&F39& "≤ Rez.< "&ROUND(E39+(E39)*(G39/100),2)&F39&" = prezinta risc de neindeplinire cerinte" -> 13,43%≤ Rez.< 14,57% = prezinta risc de neindeplinire cerinte | M39: =IF(C39="Nu exista","Neaplicabil ptr. ca nu exista limita de specificatie","x") -> x | N39: Se emite declaratie de conformitate, doar daca sunt prezentate date/informatii privind procesul de fabricatie.
A40: Determinarea conţinutului de azot (proteină) | B40: Lapte şi produse din lapte | C40: SR 3664/2008 branza proaspata de vaca (limita minima) | D40: Grasa, | E40: 15 | F40: % | G40: 4.08 | H40: % | I40: RD4 nonbinara -ia in considerare IM | J40: ="Rez.≥"&ROUND(E40+(E40)*(G40/100),2)& F40 &" =Indeplineste cerintele specificate" -> Rez.≥15,61% =Indeplineste cerintele specificate | K40: ="Rez.<"&ROUND(E40-(E40)*(G40/100),2)&F40&" =Nu indeplineste cerintele specificate" -> Rez.<14,39% =Nu indeplineste cerintele specificate | L40: =ROUND((E40-(E40)*(G40/100)),2)&F40& "≤ Rez.< "&ROUND(E40+(E40)*(G40/100),2)&F40&" = prezinta risc de neindeplinire cerinte" -> 14,39%≤ Rez.< 15,61% = prezinta risc de neindeplinire cerinte | M40: =IF(C40="Nu exista","Neaplicabil ptr. ca nu exista limita de specificatie","x") -> x | N40: Se emite declaratie de conformitate, doar daca sunt prezentate date/informatii privind procesul de fabricatie.
A41: Determinarea conţinutului de azot (proteină) | B41: Lapte şi produse din lapte | C41: SR 3664/2008 branza proaspata de vaca (limita minima) | D41: Semigrasa, | E41: 15.5 | F41: % | G41: 4.08 | H41: % | I41: RD4 nonbinara -ia in considerare IM | J41: ="Rez.≥"&ROUND(E41+(E41)*(G41/100),2)& F41 &" =Indeplineste cerintele specificate" -> Rez.≥16,13% =Indeplineste cerintele specificate | K41: ="Rez.<"&ROUND(E41-(E41)*(G41/100),2)&F41&" =Nu indeplineste cerintele specificate" -> Rez.<14,87% =Nu indeplineste cerintele specificate | L41: =ROUND((E41-(E41)*(G41/100)),2)&F41& "≤ Rez.< "&ROUND(E41+(E41)*(G41/100),2)&F41&" = prezinta risc de neindeplinire cerinte" -> 14,87%≤ Rez.< 16,13% = prezinta risc de neindeplinire cerinte | M41: =IF(C41="Nu exista","Neaplicabil ptr. ca nu exista limita de specificatie","x") -> x | N41: Se emite declaratie de conformitate, doar daca sunt prezentate date/informatii privind procesul de fabricatie.
A42: Determinarea conţinutului de azot (proteină) | B42: Lapte şi produse din lapte | C42: SR 3664/2008 branza proaspata de vaca (limita minima) | D42: Slaba, | E42: 17 | F42: % | G42: 4.08 | H42: % | I42: RD4 nonbinara -ia in considerare IM | J42: ="Rez.≥"&ROUND(E42+(E42)*(G42/100),2)& F42 &" =Indeplineste cerintele specificate" -> Rez.≥17,69% =Indeplineste cerintele specificate | K42: ="Rez.<"&ROUND(E42-(E42)*(G42/100),2)&F42&" =Nu indeplineste cerintele specificate" -> Rez.<16,31% =Nu indeplineste cerintele specificate | L42: =ROUND((E42-(E42)*(G42/100)),2)&F42& "≤ Rez.< "&ROUND(E42+(E42)*(G42/100),2)&F42&" = prezinta risc de neindeplinire cerinte" -> 16,31%≤ Rez.< 17,69% = prezinta risc de neindeplinire cerinte | M42: =IF(C42="Nu exista","Neaplicabil ptr. ca nu exista limita de specificatie","x") -> x | N42: Se emite declaratie de conformitate, doar daca sunt prezentate date/informatii privind procesul de fabricatie.
A43: Determinarea conţinutului de azot (proteină) | B43: Lapte şi produse din lapte | C43: SR 5559/2008 pt. lapte praf (limita minima) | D43: Lapte praf tip a si b in ambalaj de desfacere/transport, | E43: 30 | F43: % | G43: 4.04 | H43: % | I43: RD4 nonbinara -ia in considerare IM | J43: ="Rez.≥"&ROUND(E43+(E43)*(G43/100),2)& F43 &" =Indeplineste cerintele specificate" -> Rez.≥31,21% =Indeplineste cerintele specificate | K43: ="Rez.<"&ROUND(E43-(E43)*(G43/100),2)&F43&" =Nu indeplineste cerintele specificate" -> Rez.<28,79% =Nu indeplineste cerintele specificate | L43: =ROUND((E43-(E43)*(G43/100)),2)&F43& "≤ Rez.< "&ROUND(E43+(E43)*(G43/100),2)&F43&" = prezinta risc de neindeplinire cerinte" -> 28,79%≤ Rez.< 31,21% = prezinta risc de neindeplinire cerinte | M43: =IF(C43="Nu exista","Neaplicabil ptr. ca nu exista limita de specificatie","x") -> x | N43: Se emite declaratie de conformitate, doar daca sunt prezentate date/informatii privind procesul de fabricatie.
A44: Determinarea conţinutului de azot (proteină) | B44: Lapte şi produse din lapte | C44: SR 5559/2008 pt. lapte praf (limita minima) | D44: Lapte praf tip c in ambalaj de desfacere/transport | E44: 36 | F44: % | G44: 4.04 | H44: % | I44: RD4 nonbinara -ia in considerare IM | J44: ="Rez.≥"&ROUND(E44+(E44)*(G44/100),2)& F44 &" =Indeplineste cerintele specificate" -> Rez.≥37,45% =Indeplineste cerintele specificate | K44: ="Rez.<"&ROUND(E44-(E44)*(G44/100),2)&F44&" =Nu indeplineste cerintele specificate" -> Rez.<34,55% =Nu indeplineste cerintele specificate | L44: =ROUND((E44-(E44)*(G44/100)),2)&F44& "≤ Rez.< "&ROUND(E44+(E44)*(G44/100),2)&F44&" = prezinta risc de neindeplinire cerinte" -> 34,55%≤ Rez.< 37,45% = prezinta risc de neindeplinire cerinte | M44: =IF(C44="Nu exista","Neaplicabil ptr. ca nu exista limita de specificatie","x") -> x | N44: Se emite declaratie de conformitate, doar daca sunt prezentate date/informatii privind procesul de fabricatie.
A45: Determinarea conţinutului de azot (proteină) | B45: Lapte şi produse din lapte | C45: SR 1286+A1:1997 pt. branzeturi cu pasta oparita(cascaval) (limita minima) | D45: branzeturi cu pasta oparita(cascaval) din lapte de oaie. | E45: 23 | F45: % | G45: 4.08 | H45: % | I45: RD4 nonbinara -ia in considerare IM | J45: ="Rez.≥"&ROUND(E45+(E45)*(G45/100),2)& F45 &" =Indeplineste cerintele specificate" -> Rez.≥23,94% =Indeplineste cerintele specificate | K45: ="Rez.<"&ROUND(E45-(E45)*(G45/100),2)&F45&" =Nu indeplineste cerintele specificate" -> Rez.<22,06% =Nu indeplineste cerintele specificate | L45: =ROUND((E45-(E45)*(G45/100)),2)&F45& "≤ Rez.< "&ROUND(E45+(E45)*(G45/100),2)&F45&" = prezinta risc de neindeplinire cerinte" -> 22,06%≤ Rez.< 23,94% = prezinta risc de neindeplinire cerinte | M45: =IF(C45="Nu exista","Neaplicabil ptr. ca nu exista limita de specificatie","x") -> x | N45: Se emite declaratie de conformitate, doar daca sunt prezentate date/informatii privind procesul de fabricatie.
A46: Determinarea conţinutului de azot (proteină) | B46: Lapte şi produse din lapte | C46: SR 1286+A1:1997 pt. branzeturi cu pasta oparita(cascaval) (limita minima) | D46: branzeturi cu pasta oparita (cascaval) din lapte de vaca, | E46: 20 | F46: % | G46: 4.08 | H46: % | I46: RD4 nonbinara -ia in considerare IM | J46: ="Rez.≥"&ROUND(E46+(E46)*(G46/100),2)& F46 &" =Indeplineste cerintele specificate" -> Rez.≥20,82% =Indeplineste cerintele specificate | K46: ="Rez.<"&ROUND(E46-(E46)*(G46/100),2)&F46&" =Nu indeplineste cerintele specificate" -> Rez.<19,18% =Nu indeplineste cerintele specificate | L46: =ROUND((E46-(E46)*(G46/100)),2)&F46& "≤ Rez.< "&ROUND(E46+(E46)*(G46/100),2)&F46&" = prezinta risc de neindeplinire cerinte" -> 19,18%≤ Rez.< 20,82% = prezinta risc de neindeplinire cerinte | M46: =IF(C46="Nu exista","Neaplicabil ptr. ca nu exista limita de specificatie","x") -> x | N46: Se emite declaratie de conformitate, doar daca sunt prezentate date/informatii privind procesul de fabricatie.
A47: Determinarea conţinutului de azot (proteină) | B47: Lapte şi produse din lapte | C47: SR 1286+A1:1997 pt. branzeturi cu pasta oparita(cascaval) (limita minima) | D47: branzeturi cu pasta oparita (cascaval) din amestec de lapte de oaie si lapte de vaca, | E47: 21 | F47: % | G47: 4.08 | H47: % | I47: RD4 nonbinara -ia in considerare IM | J47: ="Rez.≥"&ROUND(E47+(E47)*(G47/100),2)& F47 &" =Indeplineste cerintele specificate" -> Rez.≥21,86% =Indeplineste cerintele specificate | K47: ="Rez.<"&ROUND(E47-(E47)*(G47/100),2)&F47&" =Nu indeplineste cerintele specificate" -> Rez.<20,14% =Nu indeplineste cerintele specificate | L47: =ROUND((E47-(E47)*(G47/100)),2)&F47& "≤ Rez.< "&ROUND(E47+(E47)*(G47/100),2)&F47&" = prezinta risc de neindeplinire cerinte" -> 20,14%≤ Rez.< 21,86% = prezinta risc de neindeplinire cerinte | M47: =IF(C47="Nu exista","Neaplicabil ptr. ca nu exista limita de specificatie","x") -> x | N47: Se emite declaratie de conformitate, doar daca sunt prezentate date/informatii privind procesul de fabricatie.
A48: Determinarea conţinutului de azot (proteină) | B48: Lapte şi produse din lapte | C48: SR 1286+A1:1997 pt. branzeturi cu pasta oparita(cascaval) (limita minima) | D48: branzeturi cu pasta oparita (cascaval) din amestec de lapte de bivolita si lapte de vaca, | E48: 22 | F48: % | G48: 4.08 | H48: % | I48: RD4 nonbinara -ia in considerare IM | J48: ="Rez.≥"&ROUND(E48+(E48)*(G48/100),2)& F48 &" =Indeplineste cerintele specificate" -> Rez.≥22,9% =Indeplineste cerintele specificate | K48: ="Rez.<"&ROUND(E48-(E48)*(G48/100),2)&F48&" =Nu indeplineste cerintele specificate" -> Rez.<21,1% =Nu indeplineste cerintele specificate | L48: =ROUND((E48-(E48)*(G48/100)),2)&F48& "≤ Rez.< "&ROUND(E48+(E48)*(G48/100),2)&F48&" = prezinta risc de neindeplinire cerinte" -> 21,1%≤ Rez.< 22,9% = prezinta risc de neindeplinire cerinte | M48: =IF(C48="Nu exista","Neaplicabil ptr. ca nu exista limita de specificatie","x") -> x | N48: Se emite declaratie de conformitate, doar daca sunt prezentate date/informatii privind procesul de fabricatie.
A49: Determinarea conţinutului de azot (proteină) | B49: Lapte şi produse din lapte | C49: SR 7001/2009 smantana (limita minima) | D49: Smantana dulce tip 32, Smantana fermentata tip 40, Smantana fermentata tip 30, | E49: 1 | F49: % | G49: 5.46 | H49: % | I49: RD4 nonbinara -ia in considerare IM | J49: ="Rez.≥"&ROUND(E49+(E49)*(G49/100),2)& F49 &" =Indeplineste cerintele specificate" -> Rez.≥1,05% =Indeplineste cerintele specificate | K49: ="Rez.<"&ROUND(E49-(E49)*(G49/100),2)&F49&" =Nu indeplineste cerintele specificate" -> Rez.<0,95% =Nu indeplineste cerintele specificate | L49: =ROUND((E49-(E49)*(G49/100)),2)&F49& "≤ Rez.< "&ROUND(E49+(E49)*(G49/100),2)&F49&" = prezinta risc de neindeplinire cerinte" -> 0,95%≤ Rez.< 1,05% = prezinta risc de neindeplinire cerinte | M49: =IF(C49="Nu exista","Neaplicabil ptr. ca nu exista limita de specificatie","x") -> x
A50: Determinarea conţinutului de azot (proteină) | B50: Lapte şi produse din lapte | C50: SR 7001/2009 smantana (limita minima) | D50: Smantana dulce tip 14 | E50: 1.5 | F50: % | G50: 5.46 | H50: % | I50: RD4 nonbinara -ia in considerare IM | J50: ="Rez.≥"&ROUND(E50+(E50)*(G50/100),2)& F50 &" =Indeplineste cerintele specificate" -> Rez.≥1,58% =Indeplineste cerintele specificate | K50: ="Rez.<"&ROUND(E50-(E50)*(G50/100),2)&F50&" =Nu indeplineste cerintele specificate" -> Rez.<1,42% =Nu indeplineste cerintele specificate | L50: =ROUND((E50-(E50)*(G50/100)),2)&F50& "≤ Rez.< "&ROUND(E50+(E50)*(G50/100),2)&F50&" = prezinta risc de neindeplinire cerinte" -> 1,42%≤ Rez.< 1,58% = prezinta risc de neindeplinire cerinte | M50: =IF(C50="Nu exista","Neaplicabil ptr. ca nu exista limita de specificatie","x") -> x
A51: Determinarea conţinutului de azot (proteină) | B51: Lapte şi produse din lapte | C51: SR 7001/2009 smantana (limita minima) | D51: Smantana fermentata tip 25 | E51: 1.2 | F51: % | G51: 5.46 | H51: % | I51: RD4 nonbinara -ia in considerare IM | J51: ="Rez.≥"&ROUND(E51+(E51)*(G51/100),2)& F51 &" =Indeplineste cerintele specificate" -> Rez.≥1,27% =Indeplineste cerintele specificate | K51: ="Rez.<"&ROUND(E51-(E51)*(G51/100),2)&F51&" =Nu indeplineste cerintele specificate" -> Rez.<1,13% =Nu indeplineste cerintele specificate | L51: =ROUND((E51-(E51)*(G51/100)),2)&F51& "≤ Rez.< "&ROUND(E51+(E51)*(G51/100),2)&F51&" = prezinta risc de neindeplinire cerinte" -> 1,13%≤ Rez.< 1,27% = prezinta risc de neindeplinire cerinte | M51: =IF(C51="Nu exista","Neaplicabil ptr. ca nu exista limita de specificatie","x") -> x
A52: Determinarea conţinutului de azot (proteină) | B52: Hrană pentru animale | C52: Nu exista | D52: Hrană pentru animale | E52: x | F52: % | G52: 6.2 | H52: % | I52: "-" | J52: "-" | K52: "-" | L52: "-" | M52: =IF(C52="Nu exista","Neaplicabil ptr. ca nu exista limita de specificatie","x") -> Neaplicabil ptr. ca nu exista limita de specificatie
A53: Determinarea conţinutului de azot (proteină) | B53: Lapte şi produse din lapte Hrană pentru animale Concentrate alimentare Cereale şi leguminoase | C53: Nu exista | D53: alte tipuri de matrici pentru care nu exista referential de interpretare | E53: x | F53: % | I53: "-" | J53: "-" | K53: "-" | L53: "-" | M53: =IF(C53="Nu exista","Neaplicabil ptr. ca nu exista limita de specificatie","x") -> Neaplicabil ptr. ca nu exista limita de specificatie
A55: Isoric versiuni
A56: Nr.vers/data | B56: Descriere modificare
A57: 0/19.03.2021 | B57: versiunea initiala
A58: 1/10.12.2021 | B58: Observatia inscrisa la determinare grasime pentru produse carne a fost adaugata si la determinare proteina din produse carne.
A59: 2/03.09.2024 | B59: s-au revizuit im dupa relocarea in sediu nou
A60: 3/09.03.2026 | B60: s-au introdus im pentru matricile peste si fructe de mare
A61: 4/04.09.2025 | B61: s-a revizuit validarea

Sheet P6
A1: Nr. 16 | I1: vers. in vigoare | K1: Data | L1: 27.04.2026
A2: Cuprins | B2: Cuprins!A1 | I2: istoric | K2: vezi nota subsol
A3: Date din Anexa la Certificat | C3: Date din Referential (Cerinta specificata) | I3: Date furnizate de laborator
A4: Domeniul de activitate / Tehnica de măsurare / Denumirea încercării | B4: Material / produs / obiect supus încercării | C4: Referențial de interpretare (care prevede Limita Specificație) | D4: Matricea | E4: Limita Specificației prevazută în referențial | F4: UM | G4: Incertitudine de Măsurare (IM) relativă pt k=2 (%, ) | I4: Regula de decizie (RD) | J4: Declarația de conformitate pentru rezultatul măsurării | N4: Observații
A5: Determinarea glucidelor: Zahăr reducător (invertit), Zahăr ușor hidrolizabil, Glucoza, Zaharoza, *Fructoza, Glucoza | B5: Miere şi produse apicole | C5: Ordinul MADR/MS/ANPC nr. 522/798/317/2003 cu modificarile si completarile ulterioare. (Directiva nr.110/2001/CE). (limita minima) | D5: Miere din inflorescenta, (zahar invertit) | E5: 60 | F5: g/100g | G5: 2.8 | H5: % | I5: RD4 nonbinara -ia in considerare IM | J5: ="Rez.≥"&ROUND(E5+(E5)*(G5/100),2)& F5 &" =Indeplineste cerintele specificate" -> Rez.≥61,68g/100g =Indeplineste cerintele specificate | K5: ="Rez.<"&ROUND(E5-(E5)*(G5/100),2)&F5&" =Nu indeplineste cerintele specificate" -> Rez.<58,32g/100g =Nu indeplineste cerintele specificate | L5: =ROUND((E5-(E5)*(G5/100)),2)&F5& "≤ Rez.< "&ROUND(E5+(E5)*(G5/100),2)&F5&" = prezinta risc de neindeplinire cerinte" -> 58,32g/100g≤ Rez.< 61,68g/100g = prezinta risc de neindeplinire cerinte | M5: =IF(C5="Nu exista","Neaplicabil ptr. ca nu exista limita de specificatie","x") -> x
A6: Determinarea glucidelor: Zahăr reducător (invertit), Zahăr ușor hidrolizabil, Glucoza, Zaharoza, *Fructoza, Glucoza | B6: Miere şi produse apicole | C6: Ordinul MADR/MS/ANPC nr. 522/798/317/2003 cu modificarile si completarile ulterioare. (Directiva nr.110/2001/CE). (limita minima) | D6: *Miere din secretie zaharoasa, *Amestecuri de miere din secretie zaharoasa si miere din inflorescenta, (zahar invertit) | E6: 45 | F6: g/100g | G6: 2.8 | H6: % | I6: RD4 nonbinara -ia in considerare IM | J6: ="Rez.≥"&ROUND(E6+(E6)*(G6/100),2)& F6 &" =Indeplineste cerintele specificate" -> Rez.≥46,26g/100g =Indeplineste cerintele specificate | K6: ="Rez.<"&ROUND(E6-(E6)*(G6/100),2)&F6&" =Nu indeplineste cerintele specificate" -> Rez.<43,74g/100g =Nu indeplineste cerintele specificate | L6: =ROUND((E6-(E6)*(G6/100)),2)&F6& "≤ Rez.< "&ROUND(E6+(E6)*(G6/100),2)&F6&" = prezinta risc de neindeplinire cerinte" -> 43,74g/100g≤ Rez.< 46,26g/100g = prezinta risc de neindeplinire cerinte | M6: =IF(C6="Nu exista","Neaplicabil ptr. ca nu exista limita de specificatie","x") -> x
A7: Determinarea glucidelor: Zahăr reducător (invertit), Zahăr ușor hidrolizabil, Glucoza, Zaharoza, *Fructoza, Glucoza | B7: Miere şi produse apicole | C7: Ordinului MADR/MS/ANPC nr. 522/798/317/2003 cu modificarile si completarile ulterioare. (Directiva nr.110/2001/CE). (limita maxima) | D7: *Miere in general, (zaharoza) | E7: 5 | F7: g/100g | G7: 13.4 | H7: % | I7: RD4 nonbinara -ia in considerare IM | J7: ="Rez.≤"&ROUND(E7-(E7)*(G7/100),2)&F7 &" = Indeplineste cerintele specificate" -> Rez.≤4,33g/100g = Indeplineste cerintele specificate | K7: ="Rez.>"&ROUND(E7+(E7)*(G7/100),2)&F7&" = Nu indeplineste cerintele specificate" -> Rez.>5,67g/100g = Nu indeplineste cerintele specificate | L7: =ROUND((E7-(E7)*(G7/100)),2)&F7& " < Rez. ≤ "&ROUND(E7+(E7)*(G7/100),2)&F7&" = prezinta risc de neindeplinire cerinte specificate" -> 4,33g/100g < Rez. ≤ 5,67g/100g = prezinta risc de neindeplinire cerinte specificate | M7: =IF(C7="Nu exista","Neaplicabil ptr. ca nu exista limita de specificatie","x") -> x
A8: Determinarea glucidelor: Zahăr reducător (invertit), Zahăr ușor hidrolizabil, Glucoza, Zaharoza, *Fructoza, Glucoza | B8: Miere şi produse apicole | C8: Ordinul MADR/MS/ANPC nr. 522/798/317/2003 cu modificarile si completarile ulterioare. (Directiva nr.110/2001/CE). (limita maxima) | D8: *Miere din Salcam(Robinia pseudoacada), Lucerna (Medicago sativa), Lemn de foc (Banksia Menziesii), caprifoi francez (Hedysarum), Eucalipt rosu (Eucalyptus camadulensis), specii de pseudo-iarba neagra (Eucryphia lucida, Eucryphia milliganii) Cytrus sp, (zaharoza) | E8: 10 | F8: g/100g | G8: 13.4 | H8: % | I8: RD4 nonbinara -ia in considerare IM | J8: ="Rez.≤"&ROUND(E8-(E8)*(G8/100),2)&F8 &" =conform" -> Rez.≤8,66g/100g =conform | K8: ="Rez.>"&ROUND(E8+(E8)*(G8/100),2)&F8&" =neconform" -> Rez.>11,34g/100g =neconform | L8: =ROUND((E8-(E8)*(G8/100)),2)&F8& " < Rez. ≤ "&ROUND(E8+(E8)*(G8/100),2)&F8&" = prezinta risc de neindeplinire cerinte" -> 8,66g/100g < Rez. ≤ 11,34g/100g = prezinta risc de neindeplinire cerinte | M8: =IF(C8="Nu exista","Neaplicabil ptr. ca nu exista limita de specificatie","x") -> x
A9: Determinarea glucidelor: Zahăr reducător (invertit), Zahăr ușor hidrolizabil, Glucoza, Zaharoza, *Fructoza, Glucoza | B9: Miere şi produse apicole | C9: Ordinul MADR/MS/ANPC nr. 522/798/317/2003 cu modificarile si completarile ulterioare. (Directiva nr.110/2001/CE). (limita maxima) | D9: *Miere din Lavanda (Lavandula sp.), limba mielului (Borago officinalis), (zaharoza) | E9: 15 | F9: g/100g | G9: 13.4 | H9: % | I9: RD4 nonbinara -ia in considerare IM | J9: ="Rez.≤"&ROUND(E9-(E9)*(G9/100),2)&F9 &" =conform" -> Rez.≤12,99g/100g =conform | K9: ="Rez.>"&ROUND(E9+(E9)*(G9/100),2)&F9&" =neconform" -> Rez.>17,01g/100g =neconform | L9: =ROUND((E9-(E9)*(G9/100)),2)&F9& " < Rez. ≤ "&ROUND(E9+(E9)*(G9/100),2)&F9&" = prezinta risc de neindeplinire cerinte" -> 12,99g/100g < Rez. ≤ 17,01g/100g = prezinta risc de neindeplinire cerinte | M9: =IF(C9="Nu exista","Neaplicabil ptr. ca nu exista limita de specificatie","x") -> x
A10: Determinarea glucidelor: Zahăr reducător (invertit), Zahăr ușor hidrolizabil, Glucoza, Zaharoza, *Fructoza, Glucoza | B10: Miere şi produse apicole | C10: Nu exista | D10: Produse apicole (zahar invertit) | E10: x | F10: % | G10: 3 | H10: %
A11: Determinarea glucidelor: Zahăr reducător (invertit), Zahăr ușor hidrolizabil, Glucoza, Zaharoza, *Fructoza, Glucoza | B11: Miere şi produse apicole | C11: Nu exista | D11: Miere (glucoza) | E11: x | F11: % | G11: 22 | H11: %
A13: Isoric versiuni
A14: Nr.vers/data | B14: Descriere modificare
A15: 0/19.03.2021 | B15: versiunea initiala
A16: 1/03.09.2024 | B16: s-au revizuit im dupa relocarea in sediu nou
A17: 2/27.04.2026 | B17: s-a revizuit validarea

Sheet P16.2
A1: Nr. 17 | I1: vers. in vigoare | K1: Data | L1: 06.04.2026
A2: Cuprins | B2: Cuprins!A1 | I2: istoric | K2: vezi nota subsol
A3: Date din Anexa la Certificat | C3: Date din Referential (Cerinta specificata) | I3: Date furnizate de laborator
A4: Domeniul de activitate / Tehnica de măsurare / Denumirea încercării | B4: Material / produs / obiect supus încercării | C4: Referențial de interpretare (care prevede Limita Specificație) | D4: Matricea | E4: Limita Specificației prevazută în referențial | F4: UM | G4: Incertitudine de Măsurare (IM) relativă pt k=2 (%, ) | I4: Regula de decizie (RD) | J4: Declarația de conformitate pentru rezultatul măsurării | N4: Observații
A5: Determinarea indicelui de iod | B5: Grăsimi şi uleiuri de origine animală şi vegetală | C5: Nu exista | D5: Grăsimi şi uleiuri de origine animală şi vegetală | E5: x | F5: gr.iod /100 g. | G5: 2.26 | H5: % | I5: "-" | J5: "-" | K5: "-" | L5: "-" | M5: =IF(C5="Nu exista","Neaplicabil ptr. ca nu exista limita de specificatie","x") -> Neaplicabil ptr. ca nu exista limita de specificatie
A7: Isoric versiuni
A8: Nr.vers/data | B8: Descriere modificare
A9: 0/19.03.2021 | B9: versiunea initiala
A10: 1/09.09.2024 | B10: s-au revizuit im dupa relocarea in sediu nou
A11: 2/06.04.2026 | B11: s-a revizuit validarea

Sheet P16.3
A1: Nr. 18 | I1: vers. in vigoare | K1: Data | L1: 46118
A2: Cuprins | B2: Cuprins!A1 | I2: istoric | K2: vezi nota subsol
